{"text_format":"1","workbook":"xlsx","n_sheets":29,"sheets":["Cnst","Титул","Раздел I часть 1 (Без НДС)","Раздел I часть 1 (С НДС)","Раздел I часть 2 п.1","Раздел I часть 2 п.2","Раздел I часть 3","Раздел II п.1","Карточки лицевых счетов","Платежи по подоходному налогу","Дивиденды","Раздел III","Карточки учёта по ФСЗН","Платежи по ФСЗН","Карточка ФСЗН ППС","Расходы ФСЗН","Раздел VI часть 1","Раздел VI часть 2","Раздел VII","Раздел VIII часть 1","Раздел VIII часть 2","Декларация","График","Табель","Ведомость ЗП","Расчётные листки","Госстрах","Средняя численность","Настройки"],"not_rendered":{"charts":0,"images":1,"macros":1,"external_links":0,"defined_names":33,"comments":17,"pivot_tables":0},"unopened":[],"bounds":{"document_bytes":16777216,"sheet_cells":100000,"rows_first":2000,"rows_last":500,"rows_between":2000,"halvings":0,"cell_chars":16384,"cell_head_chars":4096},"cells_cut":0,"cells_raw":0,"read":"whole","date_system":"1900"}

{"sheet":"Cnst","index":0,"n_rows":30,"n_cols":2,"rows_kept":30,"cut":false,"hidden":true,"merged":[[17,0,17,1],[21,0,21,1]]}
["Месяцы","январь"]
[null,"февраль"]
[null,"март"]
[null,"апрель"]
[null,"май"]
[null,"июнь"]
[null,"июль"]
[null,"август"]
[null,"сентябрь"]
[null,"октябрь"]
[null,"ноябрь"]
[null,"декабрь"]
[]
["Налоговые вычеты для карточек лицевых счетов"]
[665,"Верхняя планка для стандартных  вычетов"]
[110,"Стандартный вычет"]
[155,"Вычет для льготников"]
["Диапазон вычетов на иждивенцев:"]
[32,"вычет на каждого ребёнка до 18 лет"]
[61,"вычет на ребёнка до 18 лет (если 2 и более)"]
[{"$f":"A15+A16+A17+A19+A20","v":1023},"<------- Контрольная сумма"]
["Сведения о регистрации"]
["Количество запусков программы",9]
["Наименование (ФИО)","ОЗНАКОМИТЕЛЬНАЯ ВЕРСИЯ НА 10 ЗАПУСКОВ"]
["УНП",100100100]
["Код активации"]
["Полная редакция ПО","Да"]
["Контрольная сумма для контроля за изменением года в книге",{"$f":"SUM(B29:B30)","v":4038}]
["Декларация",{"$f":"Декларация!L54","v":2019}]
["Лицевые счета (карточка №1)",{"$f":"'Карточки лицевых счетов'!Z2","v":2019}]

{"sheet":"Титул","index":1,"n_rows":28,"n_cols":9,"rows_kept":28,"cut":false,"hidden":false,"merged":[[19,2,19,5],[21,2,21,5],[23,2,23,5],[23,7,27,8],[0,5,0,6],[5,0,5,6],[6,0,6,6],[9,8,18,8],[13,2,13,5],[17,2,17,5],[2,8,8,8],[8,2,9,5]]}
[null,null,null,null,null,null,null,null,"Версия от"]
[null,null,null,null,null,null,null,null,"2019-01-10"]
[null,null,null,null,null,null,null,null,"Разработчик:\nТарасов Михаил Иванович\nhttps://www.hta.by\ne-mail: office@hta.by\n"]
[]
[]
["КНИГА"]
["учета доходов и расходов организаций и индивидуальных предпринимателей, применяющих упрощённую систему налогообложения"]
[null,null,"за",2019,"год"]
[null,"Наименование организации",{"$f":"Cnst!B24","v":"ОЗНАКОМИТЕЛЬНАЯ ВЕРСИЯ НА 10 ЗАПУСКОВ"}]
[null,"(Ф.И.О. предпринимателя)",null,null,null,null,null,null,"ВНИМАНИЕ!\nПродукт распространяется по принципу \"Как есть\". Вы используете его под свою полную ответственность. Обращайте внимание на комментарии к ячейкам !\n"]
[]
[null,"УНП",{"$f":"Cnst!B25","v":100100100}]
[]
[null,"Юридический адрес","Адрес"]
[]
[]
[]
[]
[]
[null,null,null,null,null,null,null,"ИМНС по","Ваш город/район"]
[null,null,null,null,null,null,null,"Код ИМНС",100]
[]
[]
[null,null,null,null,null,null,null,"На 20 карточек лицевых счетов."]
[]
[null,"Руководитель","Инициалы, фамилия"]
[]
[null,"Главный бухгалтер","Инициалы, фамилия"]

{"sheet":"Раздел I часть 1 (Без НДС)","index":2,"n_rows":95,"n_cols":10,"rows_kept":95,"cut":false,"hidden":false,"merged":[[4,9,5,9],[6,1,6,3],[4,7,4,8],[6,7,6,8],[0,0,0,9],[1,0,1,9],[2,0,2,9],[4,0,5,0],[4,1,4,3],[4,4,5,4],[4,5,4,6]]}
["РАЗДЕЛ I"]
["УЧЕТ, НЕОБХОДИМЫЙ ДЛЯ ОПРЕДЕЛЕНИЯ ВЫРУЧКИ ОТ РЕАЛИЗАЦИИ ТОВАРОВ (РАБОТ, УСЛУГ), ИМУЩЕСТВЕННЫХ ПРАВ И ВНЕРЕАЛИЗАЦИОННЫХ ДОХОДОВ"]
["ЧАСТЬ I\nУЧЕТ ВАЛОВОЙ ВЫРУЧКИ"]
[]
["Дата записи","Наименование\nдокумента, его\nномер и дата",null,null,"Содержание\nоперации","выручка от реализации товаров\n(работ, услуг), имущественных прав",null,"Внереализационные\nдоходы",null,"Валовая выручка\n(графа (далее –\nгр.) 4 – гр. 5 +\n+ гр. 6)"]
[null,"наим.","номер","дата",null,"всего","в том числе налог на добавленную\nстоимость",0.05,0.16]
[1,2,null,null,3,4,5,6,null,7]
[null,null,null,null,null,null,null,null,null,"х"]
[null,null,null,null,null,null,null,null,null,"х"]
[null,null,null,null,null,null,null,null,null,"х"]
[null,null,null,null,null,null,null,null,null,"х"]
[null,null,null,null,null,null,null,null,null,"х"]
[null,null,null,null,null,null,null,null,null,"х"]
[null,null,null,null,null,null,null,null,null,"х"]
[null,null,null,null,null,null,null,null,null,"х"]
[null,null,null,null,null,null,null,null,null,"х"]
[null,null,null,null,null,null,null,null,null,"х"]
[null,null,null,null,null,null,null,null,null,"х"]
[null,null,null,null,null,null,null,null,null,"х"]
[null,null,null,null,null,null,null,null,null,"х"]
[null,null,null,null,null,null,null,null,null,"х"]
[null,null,null,null,null,null,null,null,null,"х"]
[null,null,null,null,null,null,null,null,null,"х"]
[null,null,null,null,null,null,null,null,null,"х"]
[null,null,null,null,null,null,null,null,null,"х"]
[null,null,null,null,null,null,null,null,null,"х"]
[null,null,null,null,null,null,null,null,null,"х"]
["Итого за отчетный период",null,null,null,null,{"$f":"SUM(F8:F27)","v":0},{"$f":"SUM(G8:G27)","v":0},{"$f":"ROUND(SUM(H8:H27),2)","v":0},{"$f":"ROUND(SUM(I8:I27),2)","v":0},{"$f":"F28-G28+H28+I28","v":0}]
["Итого с начала года",null,null,null,null,{"$f":"F28","v":0},{"$f":"G28","v":0},{"$f":"H28","v":0},{"$f":"I28","v":0},{"$f":"F29-G29+H29+I29","v":0}]
[null,null,null,null,null,null,null,null,null,"х"]
[null,null,null,null,null,null,null,null,null,"х"]
[null,null,null,null,null,null,null,null,null,"х"]
[null,null,null,null,null,null,null,null,null,"х"]
[null,null,null,null,null,null,null,null,null,"х"]
[null,null,null,null,null,null,null,null,null,"х"]
[null,null,null,null,null,null,null,null,null,"х"]
[null,null,null,null,null,null,null,null,null,"х"]
[null,null,null,null,null,null,null,null,null,"х"]
[null,null,null,null,null,null,null,null,null,"х"]
[null,null,null,null,null,null,null,null,null,"х"]
[null,null,null,null,null,null,null,null,null,"х"]
[null,null,null,null,null,null,null,null,null,"х"]
[null,null,null,null,null,null,null,null,null,"х"]
[null,null,null,null,null,null,null,null,null,"х"]
[null,null,null,null,null,null,null,null,null,"х"]
[null,null,null,null,null,null,null,null,null,"х"]
[null,null,null,null,null,null,null,null,null,"х"]
[null,null,null,null,null,null,null,null,null,"х"]
[null,null,null,null,null,null,null,null,null,"х"]
["Итого за отчетный период",null,null,null,null,{"$f":"SUM(F30:F49)","v":0},{"$f":"SUM(G30:G49)","v":0},{"$f":"ROUND(SUM(H30:H49),2)","v":0},{"$f":"ROUND(SUM(I30:I49),2)","v":0},{"$f":"F50-G50+H50+I50","v":0}]
["Итого с начала года",null,null,null,null,{"$f":"F29+F50","v":0},{"$f":"G29+G50","v":0},{"$f":"H29+H50","v":0},{"$f":"I29+I50","v":0},{"$f":"F51-G51+H51+I51","v":0}]
[null,null,null,null,null,null,null,null,null,"х"]
[null,null,null,null,null,null,null,null,null,"х"]
[null,null,null,null,null,null,null,null,null,"х"]
[null,null,null,null,null,null,null,null,null,"х"]
[null,null,null,null,null,null,null,null,null,"х"]
[null,null,null,null,null,null,null,null,null,"х"]
[null,null,null,null,null,null,null,null,null,"х"]
[null,null,null,null,null,null,null,null,null,"х"]
[null,null,null,null,null,null,null,null,null,"х"]
[null,null,null,null,null,null,null,null,null,"х"]
[null,null,null,null,null,null,null,null,null,"х"]
[null,null,null,null,null,null,null,null,null,"х"]
[null,null,null,null,null,null,null,null,null,"х"]
[null,null,null,null,null,null,null,null,null,"х"]
[null,null,null,null,null,null,null,null,null,"х"]
[null,null,null,null,null,null,null,null,null,"х"]
[null,null,null,null,null,null,null,null,null,"х"]
[null,null,null,null,null,null,null,null,null,"х"]
[null,null,null,null,null,null,null,null,null,"х"]
[null,null,null,null,null,null,null,null,null,"х"]
["Итого за отчетный период",null,null,null,null,{"$f":"SUM(F52:F71)","v":0},{"$f":"SUM(G52:G71)","v":0},{"$f":"ROUND(SUM(H52:H71),2)","v":0},{"$f":"ROUND(SUM(I52:I71),2)","v":0},{"$f":"F72-G72+H72+I72","v":0}]
["Итого с начала года",null,null,null,null,{"$f":"F51+F72","v":0},{"$f":"G51+G72","v":0},0,0,{"$f":"F73-G73+H73+I73","v":0}]
[null,null,null,null,null,null,null,null,null,"х"]
[null,null,null,null,null,null,null,null,null,"х"]
[null,null,null,null,null,null,null,null,null,"х"]
[null,null,null,null,null,null,null,null,null,"х"]
[null,null,null,null,null,null,null,null,null,"х"]
[null,null,null,null,null,null,null,null,null,"х"]
[null,null,null,null,null,null,null,null,null,"х"]
[null,null,null,null,null,null,null,null,null,"х"]
[null,null,null,null,null,null,null,null,null,"х"]
[null,null,null,null,null,null,null,null,null,"х"]
[null,null,null,null,null,null,null,null,null,"х"]
[null,null,null,null,null,null,null,null,null,"х"]
[null,null,null,null,null,null,null,null,null,"х"]
[null,null,null,null,null,null,null,null,null,"х"]
[null,null,null,null,null,null,null,null,null,"х"]
[null,null,null,null,null,null,null,null,null,"х"]
[null,null,null,null,null,null,null,null,null,"х"]
[null,null,null,null,null,null,null,null,null,"х"]
[null,null,null,null,null,null,null,null,null,"х"]
[null,null,null,null,null,null,null,null,null,"х"]
["Итого за отчетный период",null,null,null,null,{"$f":"SUM(F74:F93)","v":0},{"$f":"SUM(G74:G93)","v":0},{"$f":"ROUND(SUM(H74:H93),2)","v":0},{"$f":"ROUND(SUM(I74:I93),2)","v":0},{"$f":"F94-G94+H94+I94","v":0}]
["Итого с начала года",null,null,null,null,{"$f":"F73+F94","v":0},{"$f":"G73+G94","v":0},{"$f":"H73+H94","v":0},{"$f":"I73+I94","v":0},{"$f":"F95-G95+H95+I95","v":0}]

{"sheet":"Раздел I часть 1 (С НДС)","index":3,"n_rows":95,"n_cols":11,"rows_kept":95,"cut":false,"hidden":false,"merged":[[4,10,5,10],[4,9,5,9],[6,1,6,3],[4,5,4,6],[4,7,4,8],[6,7,6,8],[0,0,0,9],[1,0,1,9],[2,0,2,9],[4,0,5,0],[4,1,4,3],[4,4,5,4]]}
["РАЗДЕЛ I"]
["УЧЕТ, НЕОБХОДИМЫЙ ДЛЯ ОПРЕДЕЛЕНИЯ ВЫРУЧКИ ОТ РЕАЛИЗАЦИИ ТОВАРОВ (РАБОТ, УСЛУГ), ИМУЩЕСТВЕННЫХ ПРАВ И ВНЕРЕАЛИЗАЦИОННЫХ ДОХОДОВ"]
["ЧАСТЬ I\nУЧЕТ ВАЛОВОЙ ВЫРУЧКИ"]
[]
["Дата записи","Наименование\nдокумента, его\nномер и дата",null,null,"Содержание\nоперации","выручка от реализации товаров\n(работ, услуг), имущественных прав",null,"Внереализационные\nдоходы",null,"Валовая выручка\n(графа (далее –\nгр.) 4 – гр. 5 +\n+ гр. 6)"]
[null,"наим.","номер","дата",null,"всего","в том числе налог на добавленную\nстоимость",0.03,0.16]
[1,2,null,null,3,4,5,6,null,7,"х"]
[null,null,null,null,null,null,null,null,null,"х"]
[null,null,null,null,null,null,null,null,null,"х"]
[null,null,null,null,null,null,null,null,null,"х"]
[null,null,null,null,null,null,null,null,null,"х"]
[null,null,null,null,null,null,null,null,null,"х"]
[null,null,null,null,null,null,null,null,null,"х"]
[null,null,null,null,null,null,null,null,null,"х"]
[null,null,null,null,null,null,null,null,null,"х"]
[null,null,null,null,null,null,null,null,null,"х"]
[null,null,null,null,null,null,null,null,null,"х"]
[null,null,null,null,null,null,null,null,null,"х"]
[null,null,null,null,null,null,null,null,null,"х"]
[null,null,null,null,null,null,null,null,null,"х"]
[null,null,null,null,null,null,null,null,null,"х"]
[null,null,null,null,null,null,null,null,null,"х"]
[null,null,null,null,null,null,null,null,null,"х"]
[null,null,null,null,null,null,null,null,null,"х"]
[null,null,null,null,null,null,null,null,null,"х"]
[null,null,null,null,null,null,null,null,null,"х"]
[null,null,null,null,null,null,null,null,null,"х"]
["Итого за отчетный период",null,null,null,null,{"$f":"SUM(F8:F27)","v":0},{"$f":"SUM(G8:G27)","v":0},{"$f":"SUM(H8:H27)","v":0},{"$f":"SUM(I8:I27)","v":0},{"$f":"F28-G28+H28+I28","v":0}]
["Итого с начала года",null,null,null,null,{"$f":"F28","v":0},{"$f":"G28","v":0},{"$f":"H28","v":0},{"$f":"I28","v":0},{"$f":"F29-G29+H29+I29","v":0}]
[null,null,null,null,null,null,null,null,null,"х"]
[null,null,null,null,null,null,null,null,null,"х"]
[null,null,null,null,null,null,null,null,null,"х"]
[null,null,null,null,null,null,null,null,null,"х"]
[null,null,null,null,null,null,null,null,null,"х"]
[null,null,null,null,null,null,null,null,null,"х"]
[null,null,null,null,null,null,null,null,null,"х"]
[null,null,null,null,null,null,null,null,null,"х"]
[null,null,null,null,null,null,null,null,null,"х"]
[null,null,null,null,null,null,null,null,null,"х"]
[null,null,null,null,null,null,null,null,null,"х"]
[null,null,null,null,null,null,null,null,null,"х"]
[null,null,null,null,null,null,null,null,null,"х"]
[null,null,null,null,null,null,null,null,null,"х"]
[null,null,null,null,null,null,null,null,null,"х"]
[null,null,null,null,null,null,null,null,null,"х"]
[null,null,null,null,null,null,null,null,null,"х"]
[null,null,null,null,null,null,null,null,null,"х"]
[null,null,null,null,null,null,null,null,null,"х"]
[null,null,null,null,null,null,null,null,null,"х"]
["Итого за отчетный период",null,null,null,null,{"$f":"SUM(F30:F49)","v":0},{"$f":"SUM(G30:G49)","v":0},{"$f":"SUM(H30:H49)","v":0},{"$f":"SUM(I30:I49)","v":0},{"$f":"F50-G50+H50+I50","v":0}]
["Итого с начала года",null,null,null,null,{"$f":"F29+F50","v":0},{"$f":"G29+G50","v":0},{"$f":"H29+H50","v":0},{"$f":"I29+I50","v":0},{"$f":"F51-G51+H51+I51","v":0}]
[null,null,null,null,null,null,null,null,null,"х"]
[null,null,null,null,null,null,null,null,null,"х"]
[null,null,null,null,null,null,null,null,null,"х"]
[null,null,null,null,null,null,null,null,null,"х"]
[null,null,null,null,null,null,null,null,null,"х"]
[null,null,null,null,null,null,null,null,null,"х"]
[null,null,null,null,null,null,null,null,null,"х"]
[null,null,null,null,null,null,null,null,null,"х"]
[null,null,null,null,null,null,null,null,null,"х"]
[null,null,null,null,null,null,null,null,null,"х"]
[null,null,null,null,null,null,null,null,null,"х"]
[null,null,null,null,null,null,null,null,null,"х"]
[null,null,null,null,null,null,null,null,null,"х"]
[null,null,null,null,null,null,null,null,null,"х"]
[null,null,null,null,null,null,null,null,null,"х"]
[null,null,null,null,null,null,null,null,null,"х"]
[null,null,null,null,null,null,null,null,null,"х"]
[null,null,null,null,null,null,null,null,null,"х"]
[null,null,null,null,null,null,null,null,null,"х"]
[null,null,null,null,null,null,null,null,null,"х"]
["Итого за отчетный период",null,null,null,null,{"$f":"SUM(F52:F71)","v":0},{"$f":"SUM(G52:G71)","v":0},{"$f":"SUM(H52:H71)","v":0},{"$f":"SUM(I52:I71)","v":0},{"$f":"F72-G72+H72+I72","v":0}]
["Итого с начала года",null,null,null,null,{"$f":"F51+F72","v":0},{"$f":"G51+G72","v":0},0,0,{"$f":"F73-G73+H73+I73","v":0}]
[null,null,null,null,null,null,null,null,null,"х"]
[null,null,null,null,null,null,null,null,null,"х"]
[null,null,null,null,null,null,null,null,null,"х"]
[null,null,null,null,null,null,null,null,null,"х"]
[null,null,null,null,null,null,null,null,null,"х"]
[null,null,null,null,null,null,null,null,null,"х"]
[null,null,null,null,null,null,null,null,null,"х"]
[null,null,null,null,null,null,null,null,null,"х"]
[null,null,null,null,null,null,null,null,null,"х"]
[null,null,null,null,null,null,null,null,null,"х"]
[null,null,null,null,null,null,null,null,null,"х"]
[null,null,null,null,null,null,null,null,null,"х"]
[null,null,null,null,null,null,null,null,null,"х"]
[null,null,null,null,null,null,null,null,null,"х"]
[null,null,null,null,null,null,null,null,null,"х"]
[null,null,null,null,null,null,null,null,null,"х"]
[null,null,null,null,null,null,null,null,null,"х"]
[null,null,null,null,null,null,null,null,null,"х"]
[null,null,null,null,null,null,null,null,null,"х"]
[null,null,null,null,null,null,null,null,null,"х"]
["Итого за отчетный период",null,null,null,null,{"$f":"SUM(F74:F93)","v":0},{"$f":"SUM(G74:G93)","v":0},{"$f":"SUM(H74:H93)","v":0},{"$f":"SUM(I74:I93)","v":0},{"$f":"F94-G94+H94+I94","v":0}]
["Итого с начала года",null,null,null,null,{"$f":"F73+F94","v":0},{"$f":"G73+G94","v":0},{"$f":"H73+H94","v":0},{"$f":"I73+I94","v":0},{"$f":"F95-G95+H95+I95","v":0}]

{"sheet":"Раздел I часть 2 п.1","index":4,"n_rows":45,"n_cols":47,"rows_kept":45,"cut":false,"hidden":false,"merged":[[2,0,2,7],[7,1,7,4],[4,44,4,46],[5,44,6,44],[5,45,5,46],[4,0,6,0],[4,1,5,4],[4,5,4,7],[5,5,6,5],[5,6,5,7],[5,41,5,43],[4,35,4,43],[4,26,4,34],[4,17,4,25],[4,8,4,16],[5,26,5,28],[5,29,5,31],[5,32,5,34],[5,35,5,37],[5,38,5,40],[5,8,5,10],[5,11,5,13],[5,14,5,16],[5,17,5,19],[5,20,5,22],[5,23,5,25]]}
[]
["ЧАСТЬ II    УЧЕТ ВЫРУЧКИ ОТ РЕАЛИЗАЦИИ ТОВАРОВ (РАБОТ, УСЛУГ), ИМУЩЕСТВЕННЫХ ПРАВ"]
["1. Сведения об отгрузке товаров (выполнении работ, оказании услуг), передаче имущественных прав, не оплаченных на дату их отгрузки (выполнения, оказания), передачи, об отгрузке товаров (выполнении работ, оказании услуг), передаче имущественных прав, дата отгрузки (выполнения, оказания), передачи и дата оплаты которых совпадают, а также об оплате таких товаров (работ, услуг), имущественных прав:"]
[]
["Дата отгрузки\nтоваров\n(выполнения\nработ, оказания\nуслуг), передачи\nимущественных\nправ","Лицо, которому реализуется товар (работа, услуга), имущественное право, наименование документа, подтверждающего отгрузку товара (выполнение работ, оказание услуг), передачу имущественных прав, его номер и дата",null,null,null,"Стоимость отгруженных товаров (выполненных работ, оказанных услуг), переданных имущественных прав",null,null,"Оплата",null,null,null,null,null,null,null,null,"Оплата",null,null,null,null,null,null,null,null,"Оплата",null,null,null,null,null,null,null,null,"Оплата",null,null,null,null,null,null,null,null,"Неоплаченная стоимость отгруженных\nтоваров (выполненных работ, оказанных услуг), переданных имущественных прав"]
[null,null,null,null,null,"в белорус-\nских\nрублях,\nруб","в иностранной валюте",null,"январь",null,null,"февраль",null,null,"март",null,null,"апрель",null,null,"май",null,null,"июнь",null,null,"июль",null,null,"август",null,null,"сентябрь",null,null,"октябрь",null,null,"ноябрь",null,null,"декабрь",null,null,"в белорус-\nских\nрублях,\nруб.","в иностранной валюте"]
[null,"Лицо","наим. \nдок-та","номер\nдок-та","дата\nдок-та",null,"наименование\nиностранной\nвалюты","сумма","наименование\nдокумента, его дата и\nномер, дата оплаты","сумма,\nруб.","в том \nчисле НДС","наименование\nдокумента, его дата и\nномер, дата оплаты","сумма,\nруб.","в том \nчисле НДС","наименование\nдокумента, его дата и\nномер, дата оплаты","сумма,\nруб.","в том \nчисле НДС","наименование\nдокумента, его дата и\nномер, дата оплаты","сумма,\nруб.","в том \nчисле НДС","наименование\nдокумента, его дата и\nномер, дата оплаты","сумма,\nруб.","в том \nчисле НДС","наименование\nдокумента, его дата и\nномер, дата оплаты","сумма,\nруб.","в том \nчисле НДС","наименование\nдокумента, его дата и\nномер, дата оплаты","сумма,\nруб.","в том \nчисле НДС","наименование\nдокумента, его дата и\nномер, дата оплаты","сумма,\nруб.","в том \nчисле НДС","наименование\nдокумента, его дата и\nномер, дата оплаты","сумма,\nруб.","в том \nчисле НДС","наименование\nдокумента, его дата и\nномер, дата оплаты","сумма,\nруб.","в том \nчисле НДС","наименование\nдокумента, его дата и\nномер, дата оплаты","сумма,\nруб.","в том \nчисле НДС","наименование\nдокумента, его дата и\nномер, дата оплаты","сумма,\nруб.","в том \nчисле НДС",null,"наименование\nиностранной\nвалюты","сумма"]
[1,2,null,null,null,3,4,5,6,7,"7а",8,9,"9а",10,11,"11а",12,13,"13а",14,15,"15а",16,17,"17а",18,19,"19а",20,21,"21а",22,23,"23а",24,25,"25а",26,27,"27а",28,29,"29а",30,31,32]
[null,null,null,null,null,null,null,null,null,null,null,null,null,null,null,null,null,null,null,null,null,null,null,null,null,null,null,null,null,null,null,null,null,null,null,null,null,null,null,null,null,null,null,null,{"$f":"F9-J9-M9-P9-S9-V9-Y9-AB9-AE9-AH9-AK9-AN9-AQ9","v":0},{"$f":"G9","v":0}]
[null,null,null,null,null,null,null,null,null,null,null,null,null,null,null,null,null,null,null,null,null,null,null,null,null,null,null,null,null,null,null,null,null,null,null,null,null,null,null,null,null,null,null,null,{"$f":"F10-J10-M10-P10-S10-V10-Y10-AB10-AE10-AH10-AK10-AN10-AQ10","v":0},{"$f":"G10","v":0}]
[null,null,null,null,null,null,null,null,null,null,null,null,null,null,null,null,null,null,null,null,null,null,null,null,null,null,null,null,null,null,null,null,null,null,null,null,null,null,null,null,null,null,null,null,0,0]
[null,null,null,null,null,null,null,null,null,null,null,null,null,null,null,null,null,null,null,null,null,null,null,null,null,null,null,null,null,null,null,null,null,null,null,null,null,null,null,null,null,null,null,null,0,0]
[null,null,null,null,null,null,null,null,null,null,null,null,null,null,null,null,null,null,null,null,null,null,null,null,null,null,null,null,null,null,null,null,null,null,null,null,null,null,null,null,null,null,null,null,0,0]
[null,null,null,null,null,null,null,null,null,null,null,null,null,null,null,null,null,null,null,null,null,null,null,null,null,null,null,null,null,null,null,null,null,null,null,null,null,null,null,null,null,null,null,null,0,0]
[null,null,null,null,null,null,null,null,null,null,null,null,null,null,null,null,null,null,null,null,null,null,null,null,null,null,null,null,null,null,null,null,null,null,null,null,null,null,null,null,null,null,null,null,0,0]
[null,null,null,null,null,null,null,null,null,null,null,null,null,null,null,null,null,null,null,null,null,null,null,null,null,null,null,null,null,null,null,null,null,null,null,null,null,null,null,null,null,null,null,null,0,0]
[null,null,null,null,null,null,null,null,null,null,null,null,null,null,null,null,null,null,null,null,null,null,null,null,null,null,null,null,null,null,null,null,null,null,null,null,null,null,null,null,null,null,null,null,0,0]
[null,null,null,null,null,null,null,null,null,null,null,null,null,null,null,null,null,null,null,null,null,null,null,null,null,null,null,null,null,null,null,null,null,null,null,null,null,null,null,null,null,null,null,null,0,0]
[null,null,null,null,null,null,null,null,null,null,null,null,null,null,null,null,null,null,null,null,null,null,null,null,null,null,null,null,null,null,null,null,null,null,null,null,null,null,null,null,null,null,null,null,0,0]
[null,null,null,null,null,null,null,null,null,null,null,null,null,null,null,null,null,null,null,null,null,null,null,null,null,null,null,null,null,null,null,null,null,null,null,null,null,null,null,null,null,null,null,null,0,0]
[null,null,null,null,null,null,null,null,null,null,null,null,null,null,null,null,null,null,null,null,null,null,null,null,null,null,null,null,null,null,null,null,null,null,null,null,null,null,null,null,null,null,null,null,0,0]
[null,null,null,null,null,null,null,null,null,null,null,null,null,null,null,null,null,null,null,null,null,null,null,null,null,null,null,null,null,null,null,null,null,null,null,null,null,null,null,null,null,null,null,null,0,0]
[null,null,null,null,null,null,null,null,null,null,null,null,null,null,null,null,null,null,null,null,null,null,null,null,null,null,null,null,null,null,null,null,null,null,null,null,null,null,null,null,null,null,null,null,0,0]
[null,null,null,null,null,null,null,null,null,null,null,null,null,null,null,null,null,null,null,null,null,null,null,null,null,null,null,null,null,null,null,null,null,null,null,null,null,null,null,null,null,null,null,null,0,0]
[null,null,null,null,null,null,null,null,null,null,null,null,null,null,null,null,null,null,null,null,null,null,null,null,null,null,null,null,null,null,null,null,null,null,null,null,null,null,null,null,null,null,null,null,0,0]
[null,null,null,null,null,null,null,null,null,null,null,null,null,null,null,null,null,null,null,null,null,null,null,null,null,null,null,null,null,null,null,null,null,null,null,null,null,null,null,null,null,null,null,null,0,0]
[null,null,null,null,null,null,null,null,null,null,null,null,null,null,null,null,null,null,null,null,null,null,null,null,null,null,null,null,null,null,null,null,null,null,null,null,null,null,null,null,null,null,null,null,0,0]
[null,null,null,null,null,null,null,null,null,null,null,null,null,null,null,null,null,null,null,null,null,null,null,null,null,null,null,null,null,null,null,null,null,null,null,null,null,null,null,null,null,null,null,null,0,0]
[null,null,null,null,null,null,null,null,null,null,null,null,null,null,null,null,null,null,null,null,null,null,null,null,null,null,null,null,null,null,null,null,null,null,null,null,null,null,null,null,null,null,null,null,0,0]
[null,null,null,null,null,null,null,null,null,null,null,null,null,null,null,null,null,null,null,null,null,null,null,null,null,null,null,null,null,null,null,null,null,null,null,null,null,null,null,null,null,null,null,null,0,0]
[null,null,null,null,null,null,null,null,null,null,null,null,null,null,null,null,null,null,null,null,null,null,null,null,null,null,null,null,null,null,null,null,null,null,null,null,null,null,null,null,null,null,null,null,0,0]
[null,null,null,null,null,null,null,null,null,null,null,null,null,null,null,null,null,null,null,null,null,null,null,null,null,null,null,null,null,null,null,null,null,null,null,null,null,null,null,null,null,null,null,null,0,0]
[null,null,null,null,null,null,null,null,null,null,null,null,null,null,null,null,null,null,null,null,null,null,null,null,null,null,null,null,null,null,null,null,null,null,null,null,null,null,null,null,null,null,null,null,0,0]
[null,null,null,null,null,null,null,null,null,null,null,null,null,null,null,null,null,null,null,null,null,null,null,null,null,null,null,null,null,null,null,null,null,null,null,null,null,null,null,null,null,null,null,null,0,0]
[null,null,null,null,null,null,null,null,null,null,null,null,null,null,null,null,null,null,null,null,null,null,null,null,null,null,null,null,null,null,null,null,null,null,null,null,null,null,null,null,null,null,null,null,0,0]
[null,null,null,null,null,null,null,null,null,null,null,null,null,null,null,null,null,null,null,null,null,null,null,null,null,null,null,null,null,null,null,null,null,null,null,null,null,null,null,null,null,null,null,null,0,0]
[null,null,null,null,null,null,null,null,null,null,null,null,null,null,null,null,null,null,null,null,null,null,null,null,null,null,null,null,null,null,null,null,null,null,null,null,null,null,null,null,null,null,null,null,0,0]
[null,null,null,null,null,null,null,null,null,null,null,null,null,null,null,null,null,null,null,null,null,null,null,null,null,null,null,null,null,null,null,null,null,null,null,null,null,null,null,null,null,null,null,null,0,0]
[null,null,null,null,null,null,null,null,null,null,null,null,null,null,null,null,null,null,null,null,null,null,null,null,null,null,null,null,null,null,null,null,null,null,null,null,null,null,null,null,null,null,null,null,0,0]
[null,null,null,null,null,null,null,null,null,null,null,null,null,null,null,null,null,null,null,null,null,null,null,null,null,null,null,null,null,null,null,null,null,null,null,null,null,null,null,null,null,null,null,null,0,0]
[null,null,null,null,null,null,null,null,null,null,null,null,null,null,null,null,null,null,null,null,null,null,null,null,null,null,null,null,null,null,null,null,null,null,null,null,null,null,null,null,null,null,null,null,0,0]
[null,null,null,null,null,null,null,null,null,null,null,null,null,null,null,null,null,null,null,null,null,null,null,null,null,null,null,null,null,null,null,null,null,null,null,null,null,null,null,null,null,null,null,null,0,0]
[null,null,null,null,null,null,null,null,null,null,null,null,null,null,null,null,null,null,null,null,null,null,null,null,null,null,null,null,null,null,null,null,null,null,null,null,null,null,null,null,null,null,null,null,0,0]
[null,null,null,null,null,null,null,null,null,null,null,null,null,null,null,null,null,null,null,null,null,null,null,null,null,null,null,null,null,null,null,null,null,null,null,null,null,null,null,null,null,null,null,null,0,0]
["Итого за месяц",null,null,null,null,null,null,null,"Х",{"$f":"SUM(J9:J44)","v":0},{"$f":"SUM(K9:K44)","v":0},"Х",{"$f":"SUM(M9:M44)","v":0},{"$f":"SUM(N9:N44)","v":0},"Х",{"$f":"SUM(P9:P44)","v":0},{"$f":"SUM(Q9:Q44)","v":0},"Х",{"$f":"SUM(S9:S44)","v":0},{"$f":"SUM(T9:T44)","v":0},"Х",{"$f":"SUM(V9:V44)","v":0},{"$f":"SUM(W9:W44)","v":0},"Х",{"$f":"SUM(Y9:Y44)","v":0},{"$f":"SUM(Z9:Z44)","v":0},"Х",{"$f":"SUM(AB9:AB44)","v":0},{"$f":"SUM(AC9:AC44)","v":0},"Х",{"$f":"SUM(AE9:AE44)","v":0},{"$f":"SUM(AF9:AF44)","v":0},"Х",{"$f":"SUM(AH9:AH44)","v":0},{"$f":"SUM(AI9:AI44)","v":0},"Х",{"$f":"SUM(AK9:AK44)","v":0},{"$f":"SUM(AL9:AL44)","v":0},"Х",{"$f":"SUM(AN9:AN44)","v":0},{"$f":"SUM(AO9:AO44)","v":0},"Х",{"$f":"SUM(AQ9:AQ44)","v":0},{"$f":"SUM(AR9:AR44)","v":0},{"$f":"SUM(AS9:AS44)","v":0},"Х","Х"]

{"sheet":"Раздел I часть 2 п.2","index":5,"n_rows":48,"n_cols":47,"rows_kept":48,"cut":false,"hidden":false,"merged":[[1,0,1,7],[4,45,4,46],[6,1,6,4],[3,44,3,46],[4,5,5,5],[4,6,4,7],[4,44,5,44],[3,0,5,0],[3,1,4,4],[3,5,3,7],[4,41,4,43],[4,38,4,40],[4,35,4,37],[4,32,4,34],[4,29,4,31],[4,26,4,28],[4,8,4,10],[3,8,3,16],[3,17,3,25],[3,26,3,34],[3,35,3,43],[4,23,4,25],[4,20,4,22],[4,17,4,19],[4,14,4,16],[4,11,4,13]]}
[]
["2. Сведения о предварительной оплате (авансовом платеже, задатке), полученной за  товары (работы, услуги), имущественные права, и об их отгрузке (выполнении, оказании), передаче:"]
[]
["Дата\nпредварительной\nоплаты\n(авансового\nплатежа, задатка)\nза товары\n(работы, услуги),\nимущественные\nправа","Лицо, которому реализуется товар (работа, услуга), имущественное право, наименование документа, подтверждающего оплату, его номер и дата",null,null,null,"Сумма предварительной оплаты (авансового платежа, задатка)",null,null,"Отгрузка",null,null,null,null,null,null,null,null,"Отгрузка",null,null,null,null,null,null,null,null,"Отгрузка",null,null,null,null,null,null,null,null,"Отгрузка",null,null,null,null,null,null,null,null,"Сумма предварительной оплаты (авансового платежа, задатка), в размере которой товары не отгружены (работы не выполнены, услуги не оказаны), имущественные права не переданы"]
[null,null,null,null,null,"в белорус-\nских\nрублях,\nруб","в иностранной валюте",null,"январь",null,null,"февраль",null,null,"март",null,null,"апрель",null,null,"май",null,null,"июнь",null,null,"июль",null,null,"август",null,null,"сентябрь",null,null,"октябрь",null,null,"ноябрь",null,null,"декабрь",null,null,"в белорус-\nских\nрублях,\nруб.","в иностранной валюте"]
[null,"Лицо","наим. \nдок-та","номер\nдок-та","дата\nдок-та",null,"наименование\nиностранной\nвалюты","сумма","наименование\nдокумента, его дата\nи номер, дата отгрузки","стои-\nмость,\nруб.","в том \nчисле НДС","наименование\nдокумента, его дата\nи номер, дата отгрузки","стои-\nмость,\nруб.","в том \nчисле НДС","наименование\nдокумента, его дата\nи номер, дата отгрузки","стои-\nмость,\nруб.","в том \nчисле НДС","наименование\nдокумента, его дата\nи номер, дата отгрузки","стои-\nмость,\nруб.","в том \nчисле НДС","наименование\nдокумента, его дата\nи номер, дата отгрузки","стои-\nмость,\nруб.","в том \nчисле НДС","наименование\nдокумента, его дата\nи номер, дата отгрузки","стои-\nмость,\nруб.","в том \nчисле НДС","наименование\nдокумента, его дата\nи номер, дата отгрузки","стои-\nмость,\nруб.","в том \nчисле НДС","наименование\nдокумента, его дата\nи номер, дата отгрузки","стои-\nмость,\nруб.","в том \nчисле НДС","наименование\nдокумента, его дата\nи номер, дата отгрузки","стои-\nмость,\nруб.","в том \nчисле НДС","наименование\nдокумента, его дата\nи номер, дата отгрузки","стои-\nмость,\nруб.","в том \nчисле НДС","наименование\nдокумента, его дата\nи номер, дата отгрузки","стои-\nмость,\nруб.","в том \nчисле НДС","наименование\nдокумента, его дата\nи номер, дата отгрузки","стои-\nмость,\nруб.","в том \nчисле НДС",null,"наименование\nиностранной\nвалюты","сумма"]
[1,2,null,null,null,3,4,5,6,7,"7а",8,9,"9а",10,11,"11а",12,13,"13а",14,15,"15а",16,17,"17а",18,19,"19а",20,21,"21а",22,23,"23а",24,25,"25а",26,27,"27а",28,29,"29а",30,31,32]
[null,null,null,null,null,null,null,null,null,null,null,null,null,null,null,null,null,null,null,null,null,null,null,null,null,null,null,null,null,null,null,null,null,null,null,null,null,null,null,null,null,null,null,null,{"$f":"F8-J8-M8-P8-S8-V8-Y8-AB8-AE8-AH8-AK8-AN8-AQ8","v":0},{"$f":"G8","v":0}]
[null,null,null,null,null,null,null,null,null,null,null,null,null,null,null,null,null,null,null,null,null,null,null,null,null,null,null,null,null,null,null,null,null,null,null,null,null,null,null,null,null,null,null,null,{"$f":"F9-J9-M9-P9-S9-V9-Y9-AB9-AE9-AH9-AK9-AN9-AQ9","v":0},{"$f":"G9","v":0}]
[null,null,null,null,null,null,null,null,null,null,null,null,null,null,null,null,null,null,null,null,null,null,null,null,null,null,null,null,null,null,null,null,null,null,null,null,null,null,null,null,null,null,null,null,0,0]
[null,null,null,null,null,null,null,null,null,null,null,null,null,null,null,null,null,null,null,null,null,null,null,null,null,null,null,null,null,null,null,null,null,null,null,null,null,null,null,null,null,null,null,null,0,0]
[null,null,null,null,null,null,null,null,null,null,null,null,null,null,null,null,null,null,null,null,null,null,null,null,null,null,null,null,null,null,null,null,null,null,null,null,null,null,null,null,null,null,null,null,0,0]
[null,null,null,null,null,null,null,null,null,null,null,null,null,null,null,null,null,null,null,null,null,null,null,null,null,null,null,null,null,null,null,null,null,null,null,null,null,null,null,null,null,null,null,null,0,0]
[null,null,null,null,null,null,null,null,null,null,null,null,null,null,null,null,null,null,null,null,null,null,null,null,null,null,null,null,null,null,null,null,null,null,null,null,null,null,null,null,null,null,null,null,0,0]
[null,null,null,null,null,null,null,null,null,null,null,null,null,null,null,null,null,null,null,null,null,null,null,null,null,null,null,null,null,null,null,null,null,null,null,null,null,null,null,null,null,null,null,null,0,0]
[null,null,null,null,null,null,null,null,null,null,null,null,null,null,null,null,null,null,null,null,null,null,null,null,null,null,null,null,null,null,null,null,null,null,null,null,null,null,null,null,null,null,null,null,0,0]
[null,null,null,null,null,null,null,null,null,null,null,null,null,null,null,null,null,null,null,null,null,null,null,null,null,null,null,null,null,null,null,null,null,null,null,null,null,null,null,null,null,null,null,null,0,0]
[null,null,null,null,null,null,null,null,null,null,null,null,null,null,null,null,null,null,null,null,null,null,null,null,null,null,null,null,null,null,null,null,null,null,null,null,null,null,null,null,null,null,null,null,0,0]
[null,null,null,null,null,null,null,null,null,null,null,null,null,null,null,null,null,null,null,null,null,null,null,null,null,null,null,null,null,null,null,null,null,null,null,null,null,null,null,null,null,null,null,null,0,0]
[null,null,null,null,null,null,null,null,null,null,null,null,null,null,null,null,null,null,null,null,null,null,null,null,null,null,null,null,null,null,null,null,null,null,null,null,null,null,null,null,null,null,null,null,0,0]
[null,null,null,null,null,null,null,null,null,null,null,null,null,null,null,null,null,null,null,null,null,null,null,null,null,null,null,null,null,null,null,null,null,null,null,null,null,null,null,null,null,null,null,null,0,0]
[null,null,null,null,null,null,null,null,null,null,null,null,null,null,null,null,null,null,null,null,null,null,null,null,null,null,null,null,null,null,null,null,null,null,null,null,null,null,null,null,null,null,null,null,0,0]
[null,null,null,null,null,null,null,null,null,null,null,null,null,null,null,null,null,null,null,null,null,null,null,null,null,null,null,null,null,null,null,null,null,null,null,null,null,null,null,null,null,null,null,null,0,0]
[null,null,null,null,null,null,null,null,null,null,null,null,null,null,null,null,null,null,null,null,null,null,null,null,null,null,null,null,null,null,null,null,null,null,null,null,null,null,null,null,null,null,null,null,0,0]
[null,null,null,null,null,null,null,null,null,null,null,null,null,null,null,null,null,null,null,null,null,null,null,null,null,null,null,null,null,null,null,null,null,null,null,null,null,null,null,null,null,null,null,null,0,0]
[null,null,null,null,null,null,null,null,null,null,null,null,null,null,null,null,null,null,null,null,null,null,null,null,null,null,null,null,null,null,null,null,null,null,null,null,null,null,null,null,null,null,null,null,0,0]
[null,null,null,null,null,null,null,null,null,null,null,null,null,null,null,null,null,null,null,null,null,null,null,null,null,null,null,null,null,null,null,null,null,null,null,null,null,null,null,null,null,null,null,null,0,0]
[null,null,null,null,null,null,null,null,null,null,null,null,null,null,null,null,null,null,null,null,null,null,null,null,null,null,null,null,null,null,null,null,null,null,null,null,null,null,null,null,null,null,null,null,0,0]
[null,null,null,null,null,null,null,null,null,null,null,null,null,null,null,null,null,null,null,null,null,null,null,null,null,null,null,null,null,null,null,null,null,null,null,null,null,null,null,null,null,null,null,null,0,0]
[null,null,null,null,null,null,null,null,null,null,null,null,null,null,null,null,null,null,null,null,null,null,null,null,null,null,null,null,null,null,null,null,null,null,null,null,null,null,null,null,null,null,null,null,0,0]
[null,null,null,null,null,null,null,null,null,null,null,null,null,null,null,null,null,null,null,null,null,null,null,null,null,null,null,null,null,null,null,null,null,null,null,null,null,null,null,null,null,null,null,null,0,0]
[null,null,null,null,null,null,null,null,null,null,null,null,null,null,null,null,null,null,null,null,null,null,null,null,null,null,null,null,null,null,null,null,null,null,null,null,null,null,null,null,null,null,null,null,0,0]
[null,null,null,null,null,null,null,null,null,null,null,null,null,null,null,null,null,null,null,null,null,null,null,null,null,null,null,null,null,null,null,null,null,null,null,null,null,null,null,null,null,null,null,null,0,0]
[null,null,null,null,null,null,null,null,null,null,null,null,null,null,null,null,null,null,null,null,null,null,null,null,null,null,null,null,null,null,null,null,null,null,null,null,null,null,null,null,null,null,null,null,0,0]
[null,null,null,null,null,null,null,null,null,null,null,null,null,null,null,null,null,null,null,null,null,null,null,null,null,null,null,null,null,null,null,null,null,null,null,null,null,null,null,null,null,null,null,null,0,0]
[null,null,null,null,null,null,null,null,null,null,null,null,null,null,null,null,null,null,null,null,null,null,null,null,null,null,null,null,null,null,null,null,null,null,null,null,null,null,null,null,null,null,null,null,0,0]
[null,null,null,null,null,null,null,null,null,null,null,null,null,null,null,null,null,null,null,null,null,null,null,null,null,null,null,null,null,null,null,null,null,null,null,null,null,null,null,null,null,null,null,null,0,0]
[null,null,null,null,null,null,null,null,null,null,null,null,null,null,null,null,null,null,null,null,null,null,null,null,null,null,null,null,null,null,null,null,null,null,null,null,null,null,null,null,null,null,null,null,0,0]
[null,null,null,null,null,null,null,null,null,null,null,null,null,null,null,null,null,null,null,null,null,null,null,null,null,null,null,null,null,null,null,null,null,null,null,null,null,null,null,null,null,null,null,null,0,0]
[null,null,null,null,null,null,null,null,null,null,null,null,null,null,null,null,null,null,null,null,null,null,null,null,null,null,null,null,null,null,null,null,null,null,null,null,null,null,null,null,null,null,null,null,0,0]
[null,null,null,null,null,null,null,null,null,null,null,null,null,null,null,null,null,null,null,null,null,null,null,null,null,null,null,null,null,null,null,null,null,null,null,null,null,null,null,null,null,null,null,null,0,0]
[null,null,null,null,null,null,null,null,null,null,null,null,null,null,null,null,null,null,null,null,null,null,null,null,null,null,null,null,null,null,null,null,null,null,null,null,null,null,null,null,null,null,null,null,0,0]
[null,null,null,null,null,null,null,null,null,null,null,null,null,null,null,null,null,null,null,null,null,null,null,null,null,null,null,null,null,null,null,null,null,null,null,null,null,null,null,null,null,null,null,null,0,0]
[null,null,null,null,null,null,null,null,null,null,null,null,null,null,null,null,null,null,null,null,null,null,null,null,null,null,null,null,null,null,null,null,null,null,null,null,null,null,null,null,null,null,null,null,0,0]
[null,null,null,null,null,null,null,null,null,null,null,null,null,null,null,null,null,null,null,null,null,null,null,null,null,null,null,null,null,null,null,null,null,null,null,null,null,null,null,null,null,null,null,null,0,0]
[null,null,null,null,null,null,null,null,null,null,null,null,null,null,null,null,null,null,null,null,null,null,null,null,null,null,null,null,null,null,null,null,null,null,null,null,null,null,null,null,null,null,null,null,0,0]
[null,null,null,null,null,null,null,null,null,null,null,null,null,null,null,null,null,null,null,null,null,null,null,null,null,null,null,null,null,null,null,null,null,null,null,null,null,null,null,null,null,null,null,null,0,0]
["Итого за месяц",null,null,null,null,null,null,null,"Х",{"$f":"SUM(J8:J47)","v":0},{"$f":"SUM(K8:K47)","v":0},"Х",{"$f":"SUM(M8:M47)","v":0},{"$f":"SUM(N8:N47)","v":0},"Х",{"$f":"SUM(P8:P47)","v":0},{"$f":"SUM(Q8:Q47)","v":0},"Х",{"$f":"SUM(S8:S47)","v":0},{"$f":"SUM(T8:T47)","v":0},"Х",{"$f":"SUM(V8:V47)","v":0},{"$f":"SUM(W8:W47)","v":0},"Х",{"$f":"SUM(Y8:Y47)","v":0},{"$f":"SUM(Z8:Z47)","v":0},"Х",{"$f":"SUM(AB8:AB47)","v":0},{"$f":"SUM(AC8:AC47)","v":0},"Х",{"$f":"SUM(AE8:AE47)","v":0},{"$f":"SUM(AF8:AF47)","v":0},"Х",{"$f":"SUM(AH8:AH47)","v":0},{"$f":"SUM(AI8:AI47)","v":0},"Х",{"$f":"SUM(AK8:AK47)","v":0},{"$f":"SUM(AL8:AL47)","v":0},"Х",{"$f":"SUM(AN8:AN47)","v":0},{"$f":"SUM(AO8:AO47)","v":0},"Х",{"$f":"SUM(AQ8:AQ47)","v":0},{"$f":"SUM(AR8:AR47)","v":0},{"$f":"SUM(AS8:AS47)","v":0},"Х","Х"]

{"sheet":"Раздел I часть 3","index":6,"n_rows":135,"n_cols":10,"rows_kept":135,"cut":false,"hidden":false,"merged":[[105,1,105,3],[105,4,105,6],[132,0,132,6],[134,0,134,9],[72,1,72,3],[72,4,72,6],[99,0,99,6],[101,0,101,9],[102,0,104,0],[102,1,103,3],[102,4,103,6],[102,7,102,9],[103,7,104,7],[103,8,103,9],[39,1,39,3],[39,4,39,6],[66,0,66,6],[68,0,68,9],[69,0,71,0],[69,1,70,3],[69,4,70,6],[69,7,69,9],[70,7,71,7],[70,8,70,9],[36,0,38,0],[36,1,37,3],[36,4,37,6],[36,7,36,9],[37,7,38,7],[37,8,37,9],[6,1,6,3],[6,4,6,6],[33,0,33,6],[35,0,35,9],[0,0,0,9],[1,0,1,9],[3,0,5,0],[3,1,4,3],[3,4,4,6],[3,7,3,9],[4,7,5,7],[4,8,4,9]]}
["ЧАСТЬ III"]
["УЧЕТ КРЕДИТОРСКОЙ ЗАДОЛЖЕННОСТИ ПО СОСТОЯНИЮ НА КОНЕЦ ОТЧЕТНОГО ПЕРИОДА*"]
[]
["Кредитор","Номер и дата договора, предмет договора",null,null,"Наименование, номер и дата документа, на основании которого  возникла задолженность",null,null,"Кредиторская задолженность"]
[null,null,null,null,null,null,null,"сумма\nв белорусских\nрублях, руб","в иностранной валюте"]
[null,"№","дата","предмет договора","наиме-\nнование","номер","дата",null,"наименование\nиностранной валюты","сумма"]
[1,2,null,null,3,null,null,4,5,6]
[]
[]
[]
[]
[]
[]
[]
[]
[]
[]
[]
[]
[]
[]
[]
[]
[]
[]
[]
[]
[]
[]
[]
[]
[]
[]
["Итого",null,null,null,null,null,null,{"$f":"SUM(H8:H33)","v":0},null,{"$f":"SUM(J8:J33)","v":0}]
[]
["* За исключением кредиторской задолженности, образовавшейся в результате получения предварительной оплаты (авансового платежа, задатка), отраженной в пункте 2 части II раздела I книги учета доходов и расходов"]
["Кредитор","Номер и дата договора, предмет договора",null,null,"Наименование, номер и дата документа, на основании которого  возникла задолженность",null,null,"Кредиторская задолженность"]
[null,null,null,null,null,null,null,"сумма\nв белорусских\nрублях, руб","в иностранной валюте"]
[null,"№","дата","предмет договора","наиме-\nнование","номер","дата",null,"наименование\nиностранной валюты","сумма"]
[1,2,null,null,3,null,null,4,5,6]
[]
[]
[]
[]
[]
[]
[]
[]
[]
[]
[]
[]
[]
[]
[]
[]
[]
[]
[]
[]
[]
[]
[]
[]
[]
[]
["Итого",null,null,null,null,null,null,{"$f":"SUM(H41:H66)","v":0},null,{"$f":"SUM(J41:J66)","v":0}]
[]
["* За исключением кредиторской задолженности, образовавшейся в результате получения предварительной оплаты (авансового платежа, задатка), отраженной в пункте 2 части II раздела I книги учета доходов и расходов"]
["Кредитор","Номер и дата договора, предмет договора",null,null,"Наименование, номер и дата документа, на основании которого  возникла задолженность",null,null,"Кредиторская задолженность"]
[null,null,null,null,null,null,null,"сумма\nв белорусских\nрублях, руб","в иностранной валюте"]
[null,"№","дата","предмет договора","наиме-\nнование","номер","дата",null,"наименование\nиностранной валюты","сумма"]
[1,2,null,null,3,null,null,4,5,6]
[]
[]
[]
[]
[]
[]
[]
[]
[]
[]
[]
[]
[]
[]
[]
[]
[]
[]
[]
[]
[]
[]
[]
[]
[]
[]
["Итого",null,null,null,null,null,null,{"$f":"SUM(H74:H99)","v":0},null,{"$f":"SUM(J74:J99)","v":0}]
[]
["* За исключением кредиторской задолженности, образовавшейся в результате получения предварительной оплаты (авансового платежа, задатка), отраженной в пункте 2 части II раздела I книги учета доходов и расходов"]
["Кредитор","Номер и дата договора, предмет договора",null,null,"Наименование, номер и дата документа, на основании которого  возникла задолженность",null,null,"Кредиторская задолженность"]
[null,null,null,null,null,null,null,"сумма\nв белорусских\nрублях, руб","в иностранной валюте"]
[null,"№","дата","предмет договора","наиме-\nнование","номер","дата",null,"наименование\nиностранной валюты","сумма"]
[1,2,null,null,3,null,null,4,5,6]
[]
[]
[]
[]
[]
[]
[]
[]
[]
[]
[]
[]
[]
[]
[]
[]
[]
[]
[]
[]
[]
[]
[]
[]
[]
[]
["Итого",null,null,null,null,null,null,{"$f":"SUM(H107:H132)","v":0},null,{"$f":"SUM(J107:J132)","v":0}]
[]
["* За исключением кредиторской задолженности, образовавшейся в результате получения предварительной оплаты (авансового платежа, задатка), отраженной в пункте 2 части II раздела I книги учета доходов и расходов"]

{"sheet":"Раздел II п.1","index":7,"n_rows":42,"n_cols":13,"rows_kept":42,"cut":false,"hidden":false,"merged":[[6,6,6,7],[6,8,7,8],[6,9,6,10],[6,11,6,12],[0,0,0,12],[1,0,1,12],[3,0,3,12],[5,0,7,0],[5,1,7,1],[5,2,5,12],[6,2,7,2],[6,3,7,3],[6,4,7,4],[6,5,7,5]]}
["РАЗДЕЛ II "]
["УЧЕТ ОБЯЗАТЕЛЬСТВ НАЛОГОВЫМ АГЕНТОМ"]
[]
["1. Налог на доходы иностранных организаций, не осуществляющих деятельность в Республике Беларусь через постоянное представительство:"]
[null,null,null,null,null,null,null,null,null,null,null,null,"(руб.)"]
["№ п/п","Наименование иностранной организации, страна","Налог на доходы иностранных организаций, не осуществляющих деятельность в Республике Беларусь через постоянное представительство"]
[null,null,"вид дохода","дата начисления дохода (платежа)*","сумма дохода (платежа)","сумма затрат, учитываемых для целей исчисления налога","сумма дохода, освобождаемого от налогообложения",null,"облагаемый доход (гр. 5 - гр. 6 -\n- гр. 7 или гр. 5 -\n- гр. 6 - гр. 8)","ставка налога",null,"сумма налога"]
[null,null,null,null,null,null,"по законодатель-ству Республики Беларусь","по междуна-родному договору",null,"по законодатель-ству Республики Беларусь","по междуна-родному договору","подлежащая уплате","перечислено, \nдата и номер платежной инструкции"]
[1,2,3,4,5,6,7,8,9,10,11,12,13]
[null,null,null,null,null,null,null,null,{"$f":"IF(G10>H10,E10-F10-G10,E10-F10-H10)","v":0},null,null,{"$f":"IF(K10=0,I10*J10,IF(J10>K10,I10*K10,I10*J10))","v":0}]
[null,null,null,null,null,null,null,null,{"$f":"IF(G11>H11,E11-F11-G11,E11-F11-H11)","v":0},null,null,{"$f":"IF(K11=0,I11*J11,IF(J11>K11,I11*K11,I11*J11))","v":0}]
[null,null,null,null,null,null,null,null,0,null,null,0]
[null,null,null,null,null,null,null,null,0,null,null,0]
[null,null,null,null,null,null,null,null,0,null,null,0]
[null,null,null,null,null,null,null,null,0,null,null,0]
[null,null,null,null,null,null,null,null,0,null,null,0]
[null,null,null,null,null,null,null,null,0,null,null,0]
[null,null,null,null,null,null,null,null,0,null,null,0]
[null,null,null,null,null,null,null,null,0,null,null,0]
[null,null,null,null,null,null,null,null,0,null,null,0]
[null,null,null,null,null,null,null,null,0,null,null,0]
[null,null,null,null,null,null,null,null,0,null,null,0]
[null,null,null,null,null,null,null,null,0,null,null,0]
[null,null,null,null,null,null,null,null,0,null,null,0]
[null,null,null,null,null,null,null,null,0,null,null,0]
[null,null,null,null,null,null,null,null,0,null,null,0]
[null,null,null,null,null,null,null,null,0,null,null,0]
[null,null,null,null,null,null,null,null,0,null,null,0]
[null,null,null,null,null,null,null,null,0,null,null,0]
[null,null,null,null,null,null,null,null,0,null,null,0]
[null,null,null,null,null,null,null,null,0,null,null,0]
[null,null,null,null,null,null,null,null,0,null,null,0]
[null,null,null,null,null,null,null,null,0,null,null,0]
[null,null,null,null,null,null,null,null,0,null,null,0]
[null,null,null,null,null,null,null,null,0,null,null,0]
[null,null,null,null,null,null,null,null,0,null,null,0]
[null,null,null,null,null,null,null,null,0,null,null,0]
[null,null,null,null,null,null,null,null,0,null,null,0]
[null,null,null,null,null,null,null,null,0,null,null,0]
[null,null,null,null,null,null,null,null,0,null,null,0]
[]
["* Определяется в соответствии с пунктом 22 статьи 148 Налогового кодекса Республики Беларусь."]

{"sheet":"Карточки лицевых счетов","index":8,"n_rows":563,"n_cols":32,"rows_kept":563,"cut":false,"hidden":false,"merged":[[547,2,547,6],[548,2,548,6],[550,2,550,6],[551,2,551,6],[552,2,552,6],[554,2,554,6],[555,2,555,6],[556,2,556,6],[558,2,558,6],[549,2,549,6],[553,2,553,6],[557,2,557,6],[559,16,559,22],[560,16,560,22],[561,16,561,22],[562,16,562,22],[540,0,540,22],[545,16,545,22],[546,16,546,22],[547,16,547,22],[548,16,548,22],[549,16,549,22],[550,16,550,22],[551,16,551,22],[552,16,552,22],[562,11,562,12],[562,13,562,15],[557,11,557,12],[557,13,557,15],[561,11,561,12],[561,13,561,15],[549,11,549,12],[560,2,560,6],[545,2,545,6],[546,2,546,6],[559,2,559,6],[556,16,556,22],[557,16,557,22],[558,16,558,22],[552,7,552,10],[558,13,558,15],[549,7,549,10],[553,7,553,10],[554,7,554,10],[555,7,555,10],[556,7,556,10],[558,7,558,10],[553,16,553,22],[554,16,554,22],[555,16,555,22],[549,13,549,15],[559,7,559,10],[560,7,560,10],[556,11,556,12],[558,11,558,12],[559,11,559,12],[560,11,560,12],[557,7,557,10],[545,11,545,12],[546,11,546,12],[547,11,547,12],[548,11,548,12],[550,11,550,12],[551,11,551,12],[545,7,545,10],[546,7,546,10],[547,7,547,10],[548,7,548,10],[550,7,550,10],[551,7,551,10],[559,13,559,15],[560,13,560,15],[554,13,554,15],[555,13,555,15],[556,13,556,15],[551,13,551,15],[552,13,552,15],[553,11,553,12],[553,13,553,15],[552,11,552,12],[0,0,0,11],[0,26,4,26],[1,11,1,18],[2,11,2,18],[3,0,3,18],[4,0,4,18],[5,0,5,18],[6,0,6,18],[6,30,6,31],[5,23,5,25],[13,31,22,31],[8,0,10,0],[8,1,8,11],[8,12,10,12],[8,13,8,16],[8,17,10,17],[8,18,8,24],[8,25,10,25],[9,16,10,16],[9,18,10,18],[9,19,9,23],[9,24,10,24],[27,26,31,26],[28,11,28,18],[29,11,29,18],[30,0,30,18],[31,0,31,18],[32,0,32,18],[33,0,33,18],[32,23,32,25],[9,29,11,29],[11,19,11,23],[9,1,10,1],[9,2,9,10],[9,11,10,11],[9,13,10,13],[9,14,10,14],[9,15,10,15],[25,0,25,25],[27,0,27,11],[35,0,37,0],[35,1,35,11],[35,12,37,12],[35,13,35,16],[35,17,37,17],[35,18,35,24],[36,24,37,24],[35,25,37,25],[36,1,37,1],[36,2,36,10],[36,11,37,11],[36,13,37,13],[36,14,37,14],[36,15,37,15],[36,16,37,16],[36,18,37,18],[36,19,36,23],[38,19,38,23],[54,0,54,11],[54,26,58,26],[55,11,55,18],[56,11,56,18],[57,0,57,18],[58,0,58,18],[59,0,59,18],[59,23,59,25],[52,0,52,25],[60,0,60,18],[62,0,64,0],[62,1,62,11],[62,12,64,12],[62,13,62,16],[62,17,64,17],[62,18,62,24],[63,24,64,24],[62,25,64,25],[63,1,64,1],[63,2,63,10],[63,11,64,11],[63,13,64,13],[63,14,64,14],[63,15,64,15],[63,16,64,16],[63,18,64,18],[63,19,63,23],[65,19,65,23],[81,0,81,11],[81,26,85,26],[82,11,82,18],[83,11,83,18],[84,0,84,18],[85,0,85,18],[86,0,86,18],[86,23,86,25],[79,0,79,25],[87,0,87,18],[89,0,91,0],[89,1,89,11],[89,12,91,12],[89,13,89,16],[89,17,91,17],[89,18,89,24],[90,24,91,24],[89,25,91,25],[90,1,91,1],[90,2,90,10],[90,11,91,11],[90,13,91,13],[90,14,91,14],[90,15,91,15],[90,16,91,16],[90,18,91,18],[90,19,90,23],[92,19,92,23],[108,0,108,11],[108,26,112,26],[109,11,109,18],[110,11,110,18],[111,0,111,18],[112,0,112,18],[113,0,113,18],[113,23,113,25],[106,0,106,25],[114,0,114,18],[116,0,118,0],[116,1,116,11],[116,12,118,12],[116,13,116,16],[116,17,118,17],[116,18,116,24],[117,24,118,24],[116,25,118,25],[117,1,118,1],[117,2,117,10],[117,11,118,11],[117,13,118,13],[117,14,118,14],[117,15,118,15],[117,16,118,16],[117,18,118,18],[117,19,117,23],[119,19,119,23],[135,0,135,11],[135,26,139,26],[136,11,136,18],[137,11,137,18],[138,0,138,18],[139,0,139,18],[140,0,140,18],[140,23,140,25],[133,0,133,25],[141,0,141,18],[143,0,145,0],[143,1,143,11],[143,12,145,12],[143,13,143,16],[143,17,145,17],[143,18,143,24],[144,24,145,24],[143,25,145,25],[144,1,145,1],[144,2,144,10],[144,11,145,11],[144,13,145,13],[144,14,145,14],[144,15,145,15],[144,16,145,16],[144,18,145,18],[144,19,144,23],[146,19,146,23],[162,0,162,11],[162,26,166,26],[163,11,163,18],[164,11,164,18],[165,0,165,18],[166,0,166,18],[167,0,167,18],[167,23,167,25],[160,0,160,25],[168,0,168,18],[170,0,172,0],[170,1,170,11],[170,12,172,12],[170,13,170,16],[170,17,172,17],[170,18,170,24],[171,24,172,24],[170,25,172,25],[171,1,172,1],[171,2,171,10],[171,11,172,11],[171,13,172,13],[171,14,172,14],[171,15,172,15],[171,16,172,16],[171,18,172,18],[171,19,171,23],[173,19,173,23],[189,0,189,11],[189,26,193,26],[190,11,190,18],[191,11,191,18],[192,0,192,18],[193,0,193,18],[194,0,194,18],[194,23,194,25],[187,0,187,25],[195,0,195,18],[197,0,199,0],[197,1,197,11],[197,12,199,12],[197,13,197,16],[197,17,199,17],[197,18,197,24],[198,24,199,24],[197,25,199,25],[198,1,199,1],[198,2,198,10],[198,11,199,11],[198,13,199,13],[198,14,199,14],[198,15,199,15],[198,16,199,16],[198,18,199,18],[198,19,198,23],[200,19,200,23],[216,0,216,11],[216,26,220,26],[217,11,217,18],[218,11,218,18],[219,0,219,18],[220,0,220,18],[221,0,221,18],[221,23,221,25],[214,0,214,25],[222,0,222,18],[224,0,226,0],[224,1,224,11],[224,12,226,12],[224,13,224,16],[224,17,226,17],[224,18,224,24],[225,24,226,24],[224,25,226,25],[225,1,226,1],[225,2,225,10],[225,11,226,11],[225,13,226,13],[225,14,226,14],[225,15,226,15],[225,16,226,16],[225,18,226,18],[225,19,225,23],[227,19,227,23],[243,0,243,11],[243,26,247,26],[244,11,244,18],[245,11,245,18],[246,0,246,18],[247,0,247,18],[248,0,248,18],[248,23,248,25],[241,0,241,25],[249,0,249,18],[251,0,253,0],[251,1,251,11],[251,12,253,12],[251,13,251,16],[251,17,253,17],[251,18,251,24],[252,24,253,24],[251,25,253,25],[252,1,253,1],[252,2,252,10],[252,11,253,11],[252,13,253,13],[252,14,253,14],[252,15,253,15],[252,16,253,16],[252,18,253,18],[252,19,252,23],[254,19,254,23],[270,0,270,11],[270,26,274,26],[271,11,271,18],[272,11,272,18],[273,0,273,18],[274,0,274,18],[275,0,275,18],[275,23,275,25],[268,0,268,25],[276,0,276,18],[278,0,280,0],[278,1,278,11],[278,12,280,12],[278,13,278,16],[278,17,280,17],[278,18,278,24],[279,24,280,24],[278,25,280,25],[279,1,280,1],[279,2,279,10],[279,11,280,11],[279,13,280,13],[279,14,280,14],[279,15,280,15],[279,16,280,16],[279,18,280,18],[279,19,279,23],[281,19,281,23],[297,0,297,11],[297,26,301,26],[298,11,298,18],[299,11,299,18],[300,0,300,18],[301,0,301,18],[302,0,302,18],[302,23,302,25],[295,0,295,25],[303,0,303,18],[305,0,307,0],[305,1,305,11],[305,12,307,12],[305,13,305,16],[305,17,307,17],[305,18,305,24],[306,24,307,24],[305,25,307,25],[306,1,307,1],[306,2,306,10],[306,11,307,11],[306,13,307,13],[306,14,307,14],[306,15,307,15],[306,16,307,16],[306,18,307,18],[306,19,306,23],[308,19,308,23],[324,0,324,11],[324,26,328,26],[325,11,325,18],[326,11,326,18],[327,0,327,18],[328,0,328,18],[329,0,329,18],[329,23,329,25],[322,0,322,25],[330,0,330,18],[332,0,334,0],[332,1,332,11],[332,12,334,12],[332,13,332,16],[332,17,334,17],[332,18,332,24],[333,24,334,24],[332,25,334,25],[333,1,334,1],[333,2,333,10],[333,11,334,11],[333,13,334,13],[333,14,334,14],[333,15,334,15],[333,16,334,16],[333,18,334,18],[333,19,333,23],[335,19,335,23],[351,0,351,11],[351,26,355,26],[352,11,352,18],[353,11,353,18],[354,0,354,18],[355,0,355,18],[356,0,356,18],[356,23,356,25],[349,0,349,25],[357,0,357,18],[359,0,361,0],[359,1,359,11],[359,12,361,12],[359,13,359,16],[359,17,361,17],[359,18,359,24],[360,24,361,24],[359,25,361,25],[360,1,361,1],[360,2,360,10],[360,11,361,11],[360,13,361,13],[360,14,361,14],[360,15,361,15],[360,16,361,16],[360,18,361,18],[360,19,360,23],[362,19,362,23],[378,0,378,11],[378,26,382,26],[379,11,379,18],[380,11,380,18],[381,0,381,18],[382,0,382,18],[383,0,383,18],[383,23,383,25],[376,0,376,25],[384,0,384,18],[386,0,388,0],[386,1,386,11],[386,12,388,12],[386,13,386,16],[386,17,388,17],[386,18,386,24],[387,24,388,24],[386,25,388,25],[387,1,388,1],[387,2,387,10],[387,11,388,11],[387,13,388,13],[387,14,388,14],[387,15,388,15],[387,16,388,16],[387,18,388,18],[387,19,387,23],[389,19,389,23],[405,0,405,11],[405,26,409,26],[406,11,406,18],[407,11,407,18],[408,0,408,18],[409,0,409,18],[410,0,410,18],[410,23,410,25],[403,0,403,25],[411,0,411,18],[413,0,415,0],[413,1,413,11],[413,12,415,12],[413,13,413,16],[413,17,415,17],[413,18,413,24],[414,24,415,24],[413,25,415,25],[414,1,415,1],[414,2,414,10],[414,11,415,11],[414,13,415,13],[414,14,415,14],[414,15,415,15],[414,16,415,16],[414,18,415,18],[414,19,414,23],[416,19,416,23],[432,0,432,11],[432,26,436,26],[433,11,433,18],[434,11,434,18],[435,0,435,18],[436,0,436,18],[437,0,437,18],[437,23,437,25],[430,0,430,25],[438,0,438,18],[440,0,442,0],[440,1,440,11],[440,12,442,12],[440,13,440,16],[440,17,442,17],[440,18,440,24],[441,24,442,24],[440,25,442,25],[441,1,442,1],[441,2,441,10],[441,11,442,11],[441,13,442,13],[441,14,442,14],[441,15,442,15],[441,16,442,16],[441,18,442,18],[441,19,441,23],[443,19,443,23],[459,0,459,11],[459,26,463,26],[460,11,460,18],[461,11,461,18],[462,0,462,18],[463,0,463,18],[464,0,464,18],[464,23,464,25],[457,0,457,25],[465,0,465,18],[467,0,469,0],[467,1,467,11],[467,12,469,12],[467,13,467,16],[467,17,469,17],[467,18,467,24],[468,24,469,24],[467,25,469,25],[468,1,469,1],[468,2,468,10],[468,11,469,11],[468,13,469,13],[468,14,469,14],[468,15,469,15],[468,16,469,16],[468,18,469,18],[468,19,468,23],[470,19,470,23],[486,0,486,11],[486,26,490,26],[487,11,487,18],[488,11,488,18],[489,0,489,18],[490,0,490,18],[491,0,491,18],[491,23,491,25],[484,0,484,25],[492,0,492,18],[494,0,496,0],[494,1,494,11],[494,12,496,12],[494,13,494,16],[494,17,496,17],[494,18,494,24],[495,24,496,24],[494,25,496,25],[495,1,496,1],[495,2,495,10],[495,11,496,11],[495,13,496,13],[495,14,496,14],[495,15,496,15],[495,16,496,16],[495,18,496,18],[495,19,495,23],[497,19,497,23],[513,0,513,11],[513,26,517,26],[514,11,514,18],[515,11,515,18],[516,0,516,18],[517,0,517,18],[518,0,518,18],[518,23,518,25],[511,0,511,25],[519,0,519,18],[521,0,523,0],[521,1,521,11],[521,12,523,12],[521,13,521,16],[521,17,523,17],[521,18,521,24],[522,24,523,24],[524,19,524,23],[561,2,561,6],[561,7,561,10],[562,2,562,6],[562,7,562,10],[538,0,538,25],[521,25,523,25],[522,1,523,1],[522,2,522,10],[522,11,523,11],[522,13,523,13],[522,14,523,14],[522,15,523,15],[522,16,523,16],[522,18,523,18],[522,19,522,23],[543,11,543,18],[554,11,554,12],[555,11,555,12],[544,11,544,18],[545,13,545,15],[546,13,546,15],[547,13,547,15],[548,13,548,15],[550,13,550,15]]}
["2. Подоходный налог с физических лиц:",null,null,null,null,null,null,null,null,null,null,null,null,null,null,null,null,null,null,null,null,null,null,null,"№",1,"Стандартный вычет льготной категории:",null,null,null,"ВНИМАНИЕ! ИЗМЕНЕНИЕ ОРАНЖЕВЫХ ЯЧЕЕК НАРУШАЕТ"]
["2.1. карточка лицевого счета",null,null,null,null,null,null,null,null,null,null,"1",null,null,null,null,null,null,null,null,null,null,null,null,"год",{"$f":"Титул!D8","v":2019},null,null,null,null,"УСЛОВИЯ ЛИЦЕНЗИОННОГО СОГЛАШЕНИЯ, ЧТО ПРИВЕДЁТ"]
[null,null,null,null,null,null,null,null,null,null,null,"(фамилия, собственное имя, отчество (если таковое имеется)",null,null,null,null,null,null,null,null,null,null,null,null,null,null,null,null,null,null,"К НЕВОЗМОЖНОСТИ ЗАПУСКА ПРОГРАММЫ."]
[null,null,null,null,null,null,null,null,null,null,null,null,null,null,null,null,null,null,null,null,null,null,null,null,"ставка:",1,null,null,null,null,{"$f":"Cnst!A15","v":665},"Верхняя планка для стандартных  вычетов"]
["(документы, подтверждающие право на вычеты)",null,null,null,null,null,null,null,null,null,null,null,null,null,null,null,null,null,null,null,null,null,null,null,null,null,null,null,null,null,{"$f":"Cnst!A16","v":110},"Стандартный вычет"]
[null,null,null,null,null,null,null,null,null,null,null,null,null,null,null,null,null,null,null,null,null,null,"должность: ",null,null,null,null,null,null,null,{"$f":"Cnst!A17","v":155},"Вычет для льготников"]
["(дата и номер договора, условия договора)*",null,null,null,null,null,null,null,null,null,null,null,null,null,null,null,null,null,null,null,null,null,null,null,null,null,null,null,null,null,"Диапазон вычетов на иждивенцев:"]
[null,null,null,null,null,null,null,null,null,null,null,null,null,null,null,null,null,null,null,null,null,null,null,null,null,"(руб.)",null,null,null,null,{"$f":"Cnst!A19","v":32},"вычет на каждого ребёнка до 18 лет"]
["Месяц","Начислено ",null,null,null,null,null,null,null,null,null,null,"Доходы, освобожда-емые от подоходного налога с физических лиц","Налоговые вычеты за месяц**",null,null,null,"Налоговая база \n(гр. 5 – гр. 6 – \n– гр. 7 – гр. 8 – гр. 9 - гр.10)","Удержано ",null,null,null,null,null,null,"К выплате за месяц\n(гр. 5 – гр. 14)",null,null,null,null,{"$f":"Cnst!A20","v":61},"вычет на ребёнка до 18 лет (если 2 и более)"]
[null,"заработная плата за месяц","иные выплаты ",null,null,null,null,null,null,null,null,"итого за месяц",null,"стандартные","социальные ","имущественные","профессиональные",null,"подоходный налог с физических лиц за месяц","другие удержания за месяц ",null,null,null,null,"итого удержано за месяц\n(гр. 12 + гр. 13)",null,null,null,null,"ИТОГИ\nпо подоходному:"]
[null,null,"надбавка","премия","индексация","отпуск текущий","отпуск буд. периода","комп. за неисп. отпуск","прочие","мат. помощь","больничный",null,null,null,null,null,null,null,null,"ФСЗН","аванс","алименты","исп. лист","прочие"]
[1,2,3,"3а","3б","3в","3г","3д","3е",4,"4а",5,6,7,8,9,10,11,12,13,null,null,null,null,14,15,"Иждивенцы:","Вычеты:"]
["январь",null,null,null,null,null,null,null,null,null,null,{"$f":"SUM(B13:K13)","v":0},{"$f":"J13","v":0},{"$f":"IF($A$6=\"\",IF(L13=0,0,IF(L13<AB13,L13-M13,AB13)),0)","v":0},null,null,null,{"$f":"IF($A$6=\"\",L13-M13-N13-O13-P13-Q13,L13)","v":0},{"$f":"R13*0.13","v":0},{"$f":"(L13-K13)*0.01","v":0},null,null,null,null,{"$f":"SUM(S13:X13)","v":0},{"$f":"L13-Y13","v":0},null,{"$f":"IF(L13=0,0,IF(L13<=$AE$4,$AE$5+(IF(AA13<=1,$AE$8*AA13,$AE$9*AA13))+$AA$6,(IF(AA13<=1,$AE$8*AA13,$AE$9*AA13))+$AA$6))","v":0},"янв.",{"$f":"S13+S40+S67+S94+S121+S148+S175+S202+S229+S256+S283+S310+S337+S364+S391+S418+S445+S472+S499+S526+L547","v":0}]
["февраль",null,null,null,null,null,null,null,null,null,null,{"$f":"SUM(B14:K14)","v":0},{"$f":"J14","v":0},{"$f":"IF($A$6=\"\",IF(L14=0,0,IF(L14<AB14,L14-M14,AB14)),0)","v":0},null,null,null,{"$f":"IF($A$6=\"\",L14-M14-N14-O14-P14-Q14,L14)","v":0},{"$f":"R14*0.13","v":0},{"$f":"(L14-K14)*0.01","v":0},null,null,null,null,{"$f":"SUM(S14:X14)","v":0},0,null,{"$f":"IF(L14=0,0,IF(L14<=$AE$4,$AE$5+(IF(AA14<=1,$AE$8*AA14,$AE$9*AA14))+$AA$6,(IF(AA14<=1,$AE$8*AA14,$AE$9*AA14))+$AA$6))","v":0},"февр.",{"$f":"S14+S41+S68+S95+S122+S149+S176+S203+S230+S257+S284+S311+S338+S365+S392+S419+S446+S473+S500+S527+L548","v":0},1,"Диапазон количества иждивенцев "]
["март",null,null,null,null,null,null,null,null,null,null,0,0,0,null,null,null,0,0,0,null,null,null,null,0,0,null,0,"март",{"$f":"S15+S42+S69+S96+S123+S150+S177+S204+S231+S258+S285+S312+S339+S366+S393+S420+S447+S474+S501+S528+L549","v":0},2]
["апрель",null,null,null,null,null,null,null,null,null,null,0,0,0,null,null,null,0,0,0,null,null,null,null,0,0,null,0,"апр.",{"$f":"S16+S43+S70+S97+S124+S151+S178+S205+S232+S259+S286+S313+S340+S367+S394+S421+S448+S475+S502+S529+L551","v":0},3]
["май",null,null,null,null,null,null,null,null,null,null,0,0,0,null,null,null,0,0,0,null,null,null,null,0,0,null,0,"май",{"$f":"S17+S44+S71+S98+S125+S152+S179+S206+S233+S260+S287+S314+S341+S368+S395+S422+S449+S476+S503+S530+L552","v":0},4]
["июнь",null,null,null,null,null,null,null,null,null,null,0,0,0,null,null,null,0,0,0,null,null,null,null,0,0,null,0,"июнь",{"$f":"S18+S45+S72+S99+S126+S153+S180+S207+S234+S261+S288+S315+S342+S369+S396+S423+S450+S477+S504+S531+L553","v":0},5]
["июль",null,null,null,null,null,null,null,null,null,null,0,0,0,null,null,null,0,0,{"$f":"(L19-K19)*0.01","v":0},null,null,null,null,0,{"$f":"L19-Y19","v":0},null,{"$f":"IF(L19=0,0,IF(L19<=$AE$4,$AE$5+(IF(AA19<=1,$AE$8*AA19,$AE$9*AA19))+$AA$6,(IF(AA19<=1,$AE$8*AA19,$AE$9*AA19))+$AA$6))","v":0},"июль",{"$f":"S19+S46+S73+S100+S127+S154+S181+S208+S235+S262+S289+S316+S343+S370+S397+S424+S451+S478+S505+S532+L555","v":0},6]
["август",null,null,null,null,null,null,null,null,null,null,0,0,0,null,null,null,0,0,{"$f":"(L20-K20)*0.01","v":0},null,null,null,null,0,{"$f":"L20-Y20","v":0},null,{"$f":"IF(L20=0,0,IF(L20<=$AE$4,$AE$5+(IF(AA20<=1,$AE$8*AA20,$AE$9*AA20))+$AA$6,(IF(AA20<=1,$AE$8*AA20,$AE$9*AA20))+$AA$6))","v":0},"авг.",{"$f":"S20+S47+S74+S101+S128+S155+S182+S209+S236+S263+S290+S317+S344+S371+S398+S425+S452+S479+S506+S533+L556","v":0},7]
["сентябрь",null,null,null,null,null,null,null,null,null,null,0,0,0,null,null,null,0,0,0,null,null,null,null,0,0,null,{"$f":"IF(L21=0,0,IF(L21<=$AE$4,$AE$5+(IF(AA21<=1,$AE$8*AA21,$AE$9*AA21))+$AA$6,(IF(AA21<=1,$AE$8*AA21,$AE$9*AA21))+$AA$6))","v":0},"сент.",{"$f":"S21+S48+S75+S102+S129+S156+S183+S210+S237+S264+S291+S318+S345+S372+S399+S426+S453+S480+S507+S534+L557","v":0},8]
["октябрь",null,null,null,null,null,null,null,null,null,null,0,0,0,null,null,null,0,0,0,null,null,null,null,0,0,null,0,"окт.",{"$f":"S22+S49+S76+S103+S130+S157+S184+S211+S238+S265+S292+S319+S346+S373+S400+S427+S454+S481+S508+S535+L559","v":0},9]
["ноябрь",null,null,null,null,null,null,null,null,null,null,0,0,0,null,null,null,0,0,0,null,null,null,null,0,0,null,0,"нояб.",{"$f":"S23+S50+S77+S104+S131+S158+S185+S212+S239+S266+S293+S320+S347+S374+S401+S428+S455+S482+S509+S536+L560","v":0},10]
["декабрь",null,null,null,null,null,null,null,null,null,null,0,0,0,null,null,null,0,0,0,null,null,null,null,0,0,null,0,"дек.",{"$f":"S24+S51+S78+S105+S132+S159+S186+S213+S240+S267+S294+S321+S348+S375+S402+S429+S456+S483+S510+S537+L561","v":0}]
[]
["* Заполняется по работникам, с которыми заключены гражданско-правовые договоры. \n** Налоговые вычеты предоставляются плательщику в соответствии со статьями 209-211, пунктом 1 статьи 212 Налогового кодекса Республики Беларусь."]
[]
[null,null,null,null,null,null,null,null,null,null,null,null,null,null,null,null,null,null,null,null,null,null,null,null,"№",2,"Стандартный вычет льготной категории:"]
["2.1. карточка лицевого счета",null,null,null,null,null,null,null,null,null,null,"2",null,null,null,null,null,null,null,null,null,null,null,null,"год",{"$f":"$Z$2","v":2019}]
[null,null,null,null,null,null,null,null,null,null,null,"(фамилия, собственное имя, отчество (если таковое имеется)"]
[null,null,null,null,null,null,null,null,null,null,null,null,null,null,null,null,null,null,null,null,null,null,null,null,"ставка:",1]
["(документы, подтверждающие право на вычеты)"]
[null,null,null,null,null,null,null,null,null,null,null,null,null,null,null,null,null,null,null,null,null,null,"должность: "]
["(дата и номер договора, условия договора)*"]
[null,null,null,null,null,null,null,null,null,null,null,null,null,null,null,null,null,null,null,null,null,null,null,null,null,"(руб.)"]
["Месяц","Начислено ",null,null,null,null,null,null,null,null,null,null,"Доходы, освобожда-емые от подоходного налога с физических лиц","Налоговые вычеты за месяц**",null,null,null,"Налоговая база \n(гр. 5 – гр. 6 – \n– гр. 7 – гр. 8 – гр. 9 - гр.10)","Удержано ",null,null,null,null,null,null,"К выплате за месяц\n(гр. 5 – гр. 14)"]
[null,"заработная плата за месяц","иные выплаты ",null,null,null,null,null,null,null,null,"итого за месяц",null,"стандартные","социальные ","имущественные","профессиональные",null,"подоходный налог с физических лиц за месяц","другие удержания за месяц ",null,null,null,null,"итого удержано за месяц\n(гр. 12 + гр. 13)"]
[null,null,"надбавка","премия","индексация","отпуск текущий","отпуск буд. периода","комп. за неисп. отпуск","прочие","мат. помощь","больничный",null,null,null,null,null,null,null,null,"ФСЗН","аванс","алименты","исп. лист","прочие"]
[1,2,3,"3а","3б","3в","3г","3д","3е",4,"4а",5,6,7,8,9,10,11,12,13,null,null,null,null,14,15,"Иждивенцы:","Вычеты:"]
["январь",null,null,null,null,null,null,null,null,null,null,{"$f":"SUM(B40:K40)","v":0},{"$f":"J40","v":0},{"$f":"IF($A$33=\"\",IF(L40=0,0,IF(L40<AB40,L40-M40,AB40)),0)","v":0},null,null,null,{"$f":"IF($A$33=\"\",L40-M40-N40-O40-P40-Q40,L40)","v":0},{"$f":"R40*0.13","v":0},{"$f":"(L40-K40)*0.01","v":0},null,null,null,null,{"$f":"SUM(S40:X40)","v":0},{"$f":"L40-Y40","v":0},null,{"$f":"IF(L40=0,0,IF(L40<=$AE$4,$AE$5+(IF(AA40<=1,$AE$8*AA40,$AE$9*AA40))+$AA$33,(IF(AA40<=1,$AE$8*AA40,$AE$9*AA40))+$AA$33))","v":0}]
["февраль",null,null,null,null,null,null,null,null,null,null,{"$f":"SUM(B41:K41)","v":0},{"$f":"J41","v":0},{"$f":"IF($A$33=\"\",IF(L41=0,0,IF(L41<AB41,L41-M41,AB41)),0)","v":0},null,null,null,{"$f":"IF($A$33=\"\",L41-M41-N41-O41-P41-Q41,L41)","v":0},{"$f":"R41*0.13","v":0},{"$f":"(L41-K41)*0.01","v":0},null,null,null,null,{"$f":"SUM(S41:X41)","v":0},0,null,{"$f":"IF(L41=0,0,IF(L41<=$AE$4,$AE$5+(IF(AA41<=1,$AE$8*AA41,$AE$9*AA41))+$AA$33,(IF(AA41<=1,$AE$8*AA41,$AE$9*AA41))+$AA$33))","v":0}]
["март",null,null,null,null,null,null,null,null,null,null,0,0,0,null,null,null,0,0,0,null,null,null,null,0,0,null,0]
["апрель",null,null,null,null,null,null,null,null,null,null,0,0,0,null,null,null,0,0,0,null,null,null,null,0,0,null,0]
["май",null,null,null,null,null,null,null,null,null,null,0,0,0,null,null,null,0,0,0,null,null,null,null,0,0,null,0]
["июнь",null,null,null,null,null,null,null,null,null,null,0,0,0,null,null,null,0,0,0,null,null,null,null,0,0,null,0]
["июль",null,null,null,null,null,null,null,null,null,null,0,0,0,null,null,null,0,0,{"$f":"(L46-K46)*0.01","v":0},null,null,null,null,0,{"$f":"L46-Y46","v":0},null,0]
["август",null,null,null,null,null,null,null,null,null,null,0,0,0,null,null,null,0,0,{"$f":"(L47-K47)*0.01","v":0},null,null,null,null,0,{"$f":"L47-Y47","v":0},null,0]
["сентябрь",null,null,null,null,null,null,null,null,null,null,0,0,0,null,null,null,0,0,0,null,null,null,null,0,0,null,0]
["октябрь",null,null,null,null,null,null,null,null,null,null,0,0,0,null,null,null,0,0,0,null,null,null,null,0,0,null,0]
["ноябрь",null,null,null,null,null,null,null,null,null,null,0,0,0,null,null,null,0,0,0,null,null,null,null,0,0,null,0]
["декабрь",null,null,null,null,null,null,null,null,null,null,0,0,0,null,null,null,0,0,0,null,null,null,null,0,0,null,0]
[]
["* Заполняется по работникам, с которыми заключены гражданско-правовые договоры. \n** Налоговые вычеты предоставляются плательщику в соответствии со статьями 209-211, пунктом 1 статьи 212 Налогового кодекса Республики Беларусь."]
[]
[null,null,null,null,null,null,null,null,null,null,null,null,null,null,null,null,null,null,null,null,null,null,null,null,"№",3,"Стандартный вычет льготной категории:"]
["2.1. карточка лицевого счета",null,null,null,null,null,null,null,null,null,null,"3",null,null,null,null,null,null,null,null,null,null,null,null,"год",{"$f":"$Z$2","v":2019}]
[null,null,null,null,null,null,null,null,null,null,null,"(фамилия, собственное имя, отчество (если таковое имеется)"]
[null,null,null,null,null,null,null,null,null,null,null,null,null,null,null,null,null,null,null,null,null,null,null,null,"ставка:",1]
["(документы, подтверждающие право на вычеты)"]
[null,null,null,null,null,null,null,null,null,null,null,null,null,null,null,null,null,null,null,null,null,null,"должность: "]
["(дата и номер договора, условия договора)*"]
[null,null,null,null,null,null,null,null,null,null,null,null,null,null,null,null,null,null,null,null,null,null,null,null,null,"(руб.)"]
["Месяц","Начислено ",null,null,null,null,null,null,null,null,null,null,"Доходы, освобожда-емые от подоходного налога с физических лиц","Налоговые вычеты за месяц**",null,null,null,"Налоговая база \n(гр. 5 – гр. 6 – \n– гр. 7 – гр. 8 – гр. 9 - гр.10)","Удержано ",null,null,null,null,null,null,"К выплате за месяц\n(гр. 5 – гр. 14)"]
[null,"заработная плата за месяц","иные выплаты ",null,null,null,null,null,null,null,null,"итого за месяц",null,"стандартные","социальные ","имущественные","профессиональные",null,"подоходный налог с физических лиц за месяц","другие удержания за месяц ",null,null,null,null,"итого удержано за месяц\n(гр. 12 + гр. 13)"]
[null,null,"надбавка","премия","индексация","отпуск текущий","отпуск буд. периода","комп. за неисп. отпуск","прочие","мат. помощь","больничный",null,null,null,null,null,null,null,null,"ФСЗН","аванс","алименты","исп. лист","прочие"]
[1,2,3,"3а","3б","3в","3г","3д","3е",4,"4а",5,6,7,8,9,10,11,12,13,null,null,null,null,14,15,"Иждивенцы:","Вычеты:"]
["январь",null,null,null,null,null,null,null,null,null,null,{"$f":"SUM(B67:K67)","v":0},{"$f":"J67","v":0},{"$f":"IF($A$60=\"\",IF(L67=0,0,IF(L67<AB67,L67-M67,AB67)),0)","v":0},null,null,null,{"$f":"IF($A$60=\"\",L67-M67-N67-O67-P67-Q67,L67)","v":0},{"$f":"R67*0.13","v":0},{"$f":"(L67-K67)*0.01","v":0},null,null,null,null,{"$f":"SUM(S67:X67)","v":0},{"$f":"L67-Y67","v":0},null,{"$f":"IF(L67=0,0,IF(L67<=$AE$4,$AE$5+(IF(AA67<=1,$AE$8*AA67,$AE$9*AA67))+$AA$60,(IF(AA67<=1,$AE$8*AA67,$AE$9*AA67))+$AA$60))","v":0}]
["февраль",null,null,null,null,null,null,null,null,null,null,{"$f":"SUM(B68:K68)","v":0},{"$f":"J68","v":0},{"$f":"IF($A$60=\"\",IF(L68=0,0,IF(L68<AB68,L68-M68,AB68)),0)","v":0},null,null,null,{"$f":"IF($A$60=\"\",L68-M68-N68-O68-P68-Q68,L68)","v":0},{"$f":"R68*0.13","v":0},{"$f":"(L68-K68)*0.01","v":0},null,null,null,null,{"$f":"SUM(S68:X68)","v":0},0,null,{"$f":"IF(L68=0,0,IF(L68<=$AE$4,$AE$5+(IF(AA68<=1,$AE$8*AA68,$AE$9*AA68))+$AA$60,(IF(AA68<=1,$AE$8*AA68,$AE$9*AA68))+$AA$60))","v":0}]
["март",null,null,null,null,null,null,null,null,null,null,0,0,0,null,null,null,0,0,0,null,null,null,null,0,0,null,0]
["апрель",null,null,null,null,null,null,null,null,null,null,0,0,0,null,null,null,0,0,0,null,null,null,null,0,0,null,0]
["май",null,null,null,null,null,null,null,null,null,null,0,0,0,null,null,null,0,0,0,null,null,null,null,0,0,null,0]
["июнь",null,null,null,null,null,null,null,null,null,null,0,0,0,null,null,null,0,0,0,null,null,null,null,0,0,null,0]
["июль",null,null,null,null,null,null,null,null,null,null,0,0,0,null,null,null,0,0,{"$f":"(L73-K73)*0.01","v":0},null,null,null,null,0,{"$f":"L73-Y73","v":0},null,0]
["август",null,null,null,null,null,null,null,null,null,null,0,0,0,null,null,null,0,0,{"$f":"(L74-K74)*0.01","v":0},null,null,null,null,0,{"$f":"L74-Y74","v":0},null,0]
["сентябрь",null,null,null,null,null,null,null,null,null,null,0,0,0,null,null,null,0,0,0,null,null,null,null,0,0,null,0]
["октябрь",null,null,null,null,null,null,null,null,null,null,0,0,0,null,null,null,0,0,0,null,null,null,null,0,0,null,0]
["ноябрь",null,null,null,null,null,null,null,null,null,null,0,0,0,null,null,null,0,0,0,null,null,null,null,0,0,null,0]
["декабрь",null,null,null,null,null,null,null,null,null,null,0,0,0,null,null,null,0,0,0,null,null,null,null,0,0,null,0]
[]
["* Заполняется по работникам, с которыми заключены гражданско-правовые договоры. \n** Налоговые вычеты предоставляются плательщику в соответствии со статьями 209-211, пунктом 1 статьи 212 Налогового кодекса Республики Беларусь."]
[]
[null,null,null,null,null,null,null,null,null,null,null,null,null,null,null,null,null,null,null,null,null,null,null,null,"№",4,"Стандартный вычет льготной категории:"]
["2.1. карточка лицевого счета",null,null,null,null,null,null,null,null,null,null,"4",null,null,null,null,null,null,null,null,null,null,null,null,"год",{"$f":"$Z$2","v":2019}]
[null,null,null,null,null,null,null,null,null,null,null,"(фамилия, собственное имя, отчество (если таковое имеется)"]
[null,null,null,null,null,null,null,null,null,null,null,null,null,null,null,null,null,null,null,null,null,null,null,null,"ставка:",1]
["(документы, подтверждающие право на вычеты)"]
[null,null,null,null,null,null,null,null,null,null,null,null,null,null,null,null,null,null,null,null,null,null,"должность: "]
["(дата и номер договора, условия договора)*"]
[null,null,null,null,null,null,null,null,null,null,null,null,null,null,null,null,null,null,null,null,null,null,null,null,null,"(руб.)"]
["Месяц","Начислено ",null,null,null,null,null,null,null,null,null,null,"Доходы, освобожда-емые от подоходного налога с физических лиц","Налоговые вычеты за месяц**",null,null,null,"Налоговая база \n(гр. 5 – гр. 6 – \n– гр. 7 – гр. 8 – гр. 9 - гр.10)","Удержано ",null,null,null,null,null,null,"К выплате за месяц\n(гр. 5 – гр. 14)"]
[null,"заработная плата за месяц","иные выплаты ",null,null,null,null,null,null,null,null,"итого за месяц",null,"стандартные","социальные ","имущественные","профессиональные",null,"подоходный налог с физических лиц за месяц","другие удержания за месяц ",null,null,null,null,"итого удержано за месяц\n(гр. 12 + гр. 13)"]
[null,null,"надбавка","премия","индексация","отпуск текущий","отпуск буд. периода","комп. за неисп. отпуск","прочие","мат. помощь","больничный",null,null,null,null,null,null,null,null,"ФСЗН","аванс","алименты","исп. лист","прочие"]
[1,2,3,"3а","3б","3в","3г","3д","3е",4,"4а",5,6,7,8,9,10,11,12,13,null,null,null,null,14,15,"Иждивенцы:","Вычеты:"]
["январь",null,null,null,null,null,null,null,null,null,null,{"$f":"SUM(B94:K94)","v":0},{"$f":"J94","v":0},{"$f":"IF($A$87=\"\",IF(L94=0,0,IF(L94<AB94,L94-M94,AB94)),0)","v":0},null,null,null,{"$f":"IF($A$87=\"\",L94-M94-N94-O94-P94-Q94,L94)","v":0},{"$f":"R94*0.13","v":0},{"$f":"(L94-K94)*0.01","v":0},null,null,null,null,{"$f":"SUM(S94:X94)","v":0},{"$f":"L94-Y94","v":0},null,{"$f":"IF(L94=0,0,IF(L94<=$AE$4,$AE$5+(IF(AA94<=1,$AE$8*AA94,$AE$9*AA94))+$AA$87,(IF(AA94<=1,$AE$8*AA94,$AE$9*AA94))+$AA$87))","v":0}]
["февраль",null,null,null,null,null,null,null,null,null,null,{"$f":"SUM(B95:K95)","v":0},{"$f":"J95","v":0},{"$f":"IF($A$87=\"\",IF(L95=0,0,IF(L95<AB95,L95-M95,AB95)),0)","v":0},null,null,null,{"$f":"IF($A$87=\"\",L95-M95-N95-O95-P95-Q95,L95)","v":0},{"$f":"R95*0.13","v":0},{"$f":"(L95-K95)*0.01","v":0},null,null,null,null,{"$f":"SUM(S95:X95)","v":0},0,null,{"$f":"IF(L95=0,0,IF(L95<=$AE$4,$AE$5+(IF(AA95<=1,$AE$8*AA95,$AE$9*AA95))+$AA$87,(IF(AA95<=1,$AE$8*AA95,$AE$9*AA95))+$AA$87))","v":0}]
["март",null,null,null,null,null,null,null,null,null,null,0,0,0,null,null,null,0,0,0,null,null,null,null,0,0,null,0]
["апрель",null,null,null,null,null,null,null,null,null,null,0,0,0,null,null,null,0,0,0,null,null,null,null,0,0,null,0]
["май",null,null,null,null,null,null,null,null,null,null,0,0,0,null,null,null,0,0,0,null,null,null,null,0,0,null,0]
["июнь",null,null,null,null,null,null,null,null,null,null,0,0,0,null,null,null,0,0,0,null,null,null,null,0,0,null,0]
["июль",null,null,null,null,null,null,null,null,null,null,0,0,0,null,null,null,0,0,{"$f":"(L100-K100)*0.01","v":0},null,null,null,null,0,{"$f":"L100-Y100","v":0},null,0]
["август",null,null,null,null,null,null,null,null,null,null,0,0,0,null,null,null,0,0,{"$f":"(L101-K101)*0.01","v":0},null,null,null,null,0,{"$f":"L101-Y101","v":0},null,0]
["сентябрь",null,null,null,null,null,null,null,null,null,null,0,0,0,null,null,null,0,0,0,null,null,null,null,0,0,null,0]
["октябрь",null,null,null,null,null,null,null,null,null,null,0,0,0,null,null,null,0,0,0,null,null,null,null,0,0,null,0]
["ноябрь",null,null,null,null,null,null,null,null,null,null,0,0,0,null,null,null,0,0,0,null,null,null,null,0,0,null,0]
["декабрь",null,null,null,null,null,null,null,null,null,null,0,0,0,null,null,null,0,0,0,null,null,null,null,0,0,null,0]
[]
["* Заполняется по работникам, с которыми заключены гражданско-правовые договоры. \n** Налоговые вычеты предоставляются плательщику в соответствии со статьями 209-211, пунктом 1 статьи 212 Налогового кодекса Республики Беларусь."]
[]
[null,null,null,null,null,null,null,null,null,null,null,null,null,null,null,null,null,null,null,null,null,null,null,null,"№",5,"Стандартный вычет льготной категории:"]
["2.1. карточка лицевого счета",null,null,null,null,null,null,null,null,null,null,"5",null,null,null,null,null,null,null,null,null,null,null,null,"год",{"$f":"$Z$2","v":2019}]
[null,null,null,null,null,null,null,null,null,null,null,"(фамилия, собственное имя, отчество (если таковое имеется)"]
[null,null,null,null,null,null,null,null,null,null,null,null,null,null,null,null,null,null,null,null,null,null,null,null,"ставка:",1]
["(документы, подтверждающие право на вычеты)"]
[null,null,null,null,null,null,null,null,null,null,null,null,null,null,null,null,null,null,null,null,null,null,"должность: "]
["(дата и номер договора, условия договора)*"]
[null,null,null,null,null,null,null,null,null,null,null,null,null,null,null,null,null,null,null,null,null,null,null,null,null,"(руб.)"]
["Месяц","Начислено ",null,null,null,null,null,null,null,null,null,null,"Доходы, освобожда-емые от подоходного налога с физических лиц","Налоговые вычеты за месяц**",null,null,null,"Налоговая база \n(гр. 5 – гр. 6 – \n– гр. 7 – гр. 8 – гр. 9 - гр.10)","Удержано ",null,null,null,null,null,null,"К выплате за месяц\n(гр. 5 – гр. 14)"]
[null,"заработная плата за месяц","иные выплаты ",null,null,null,null,null,null,null,null,"итого за месяц",null,"стандартные","социальные ","имущественные","профессиональные",null,"подоходный налог с физических лиц за месяц","другие удержания за месяц ",null,null,null,null,"итого удержано за месяц\n(гр. 12 + гр. 13)"]
[null,null,"надбавка","премия","индексация","отпуск текущий","отпуск буд. периода","комп. за неисп. отпуск","прочие","мат. помощь","больничный",null,null,null,null,null,null,null,null,"ФСЗН","аванс","алименты","исп. лист","прочие"]
[1,2,3,"3а","3б","3в","3г","3д","3е",4,"4а",5,6,7,8,9,10,11,12,13,null,null,null,null,14,15,"Иждивенцы:","Вычеты:"]
["январь",null,null,null,null,null,null,null,null,null,null,{"$f":"SUM(B121:K121)","v":0},{"$f":"J121","v":0},{"$f":"IF($A$114=\"\",IF(L121=0,0,IF(L121<AB121,L121-M121,AB121)),0)","v":0},null,null,null,{"$f":"IF($A$114=\"\",L121-M121-N121-O121-P121-Q121,L121)","v":0},{"$f":"R121*0.13","v":0},{"$f":"(L121-K121)*0.01","v":0},null,null,null,null,{"$f":"SUM(S121:X121)","v":0},{"$f":"L121-Y121","v":0},null,{"$f":"IF(L121=0,0,IF(L121<=$AE$4,$AE$5+(IF(AA121<=1,$AE$8*AA121,$AE$9*AA121))+$AA$114,(IF(AA121<=1,$AE$8*AA121,$AE$9*AA121))+$AA$114))","v":0}]
["февраль",null,null,null,null,null,null,null,null,null,null,{"$f":"SUM(B122:K122)","v":0},{"$f":"J122","v":0},{"$f":"IF($A$114=\"\",IF(L122=0,0,IF(L122<AB122,L122-M122,AB122)),0)","v":0},null,null,null,{"$f":"IF($A$114=\"\",L122-M122-N122-O122-P122-Q122,L122)","v":0},{"$f":"R122*0.13","v":0},{"$f":"(L122-K122)*0.01","v":0},null,null,null,null,{"$f":"SUM(S122:X122)","v":0},0,null,{"$f":"IF(L122=0,0,IF(L122<=$AE$4,$AE$5+(IF(AA122<=1,$AE$8*AA122,$AE$9*AA122))+$AA$114,(IF(AA122<=1,$AE$8*AA122,$AE$9*AA122))+$AA$114))","v":0}]
["март",null,null,null,null,null,null,null,null,null,null,0,0,0,null,null,null,0,0,0,null,null,null,null,0,0,null,0]
["апрель",null,null,null,null,null,null,null,null,null,null,0,0,0,null,null,null,0,0,0,null,null,null,null,0,0,null,0]
["май",null,null,null,null,null,null,null,null,null,null,0,0,0,null,null,null,0,0,0,null,null,null,null,0,0,null,0]
["июнь",null,null,null,null,null,null,null,null,null,null,0,0,0,null,null,null,0,0,0,null,null,null,null,0,0,null,0]
["июль",null,null,null,null,null,null,null,null,null,null,0,0,0,null,null,null,0,0,{"$f":"(L127-K127)*0.01","v":0},null,null,null,null,0,{"$f":"L127-Y127","v":0},null,0]
["август",null,null,null,null,null,null,null,null,null,null,0,0,0,null,null,null,0,0,{"$f":"(L128-K128)*0.01","v":0},null,null,null,null,0,{"$f":"L128-Y128","v":0},null,0]
["сентябрь",null,null,null,null,null,null,null,null,null,null,0,0,0,null,null,null,0,0,0,null,null,null,null,0,0,null,0]
["октябрь",null,null,null,null,null,null,null,null,null,null,0,0,0,null,null,null,0,0,0,null,null,null,null,0,0,null,0]
["ноябрь",null,null,null,null,null,null,null,null,null,null,0,0,0,null,null,null,0,0,0,null,null,null,null,0,0,null,0]
["декабрь",null,null,null,null,null,null,null,null,null,null,0,0,0,null,null,null,0,0,0,null,null,null,null,0,0,null,0]
[]
["* Заполняется по работникам, с которыми заключены гражданско-правовые договоры. \n** Налоговые вычеты предоставляются плательщику в соответствии со статьями 209-211, пунктом 1 статьи 212 Налогового кодекса Республики Беларусь."]
[]
[null,null,null,null,null,null,null,null,null,null,null,null,null,null,null,null,null,null,null,null,null,null,null,null,"№",6,"Стандартный вычет льготной категории:"]
["2.1. карточка лицевого счета",null,null,null,null,null,null,null,null,null,null,"6",null,null,null,null,null,null,null,null,null,null,null,null,"год",{"$f":"$Z$2","v":2019}]
[null,null,null,null,null,null,null,null,null,null,null,"(фамилия, собственное имя, отчество (если таковое имеется)"]
[null,null,null,null,null,null,null,null,null,null,null,null,null,null,null,null,null,null,null,null,null,null,null,null,"ставка:",1]
["(документы, подтверждающие право на вычеты)"]
[null,null,null,null,null,null,null,null,null,null,null,null,null,null,null,null,null,null,null,null,null,null,"должность: "]
["(дата и номер договора, условия договора)*"]
[null,null,null,null,null,null,null,null,null,null,null,null,null,null,null,null,null,null,null,null,null,null,null,null,null,"(руб.)"]
["Месяц","Начислено ",null,null,null,null,null,null,null,null,null,null,"Доходы, освобожда-емые от подоходного налога с физических лиц","Налоговые вычеты за месяц**",null,null,null,"Налоговая база \n(гр. 5 – гр. 6 – \n– гр. 7 – гр. 8 – гр. 9 - гр.10)","Удержано ",null,null,null,null,null,null,"К выплате за месяц\n(гр. 5 – гр. 14)"]
[null,"заработная плата за месяц","иные выплаты ",null,null,null,null,null,null,null,null,"итого за месяц",null,"стандартные","социальные ","имущественные","профессиональные",null,"подоходный налог с физических лиц за месяц","другие удержания за месяц ",null,null,null,null,"итого удержано за месяц\n(гр. 12 + гр. 13)"]
[null,null,"надбавка","премия","индексация","отпуск текущий","отпуск буд. периода","комп. за неисп. отпуск","прочие","мат. помощь","больничный",null,null,null,null,null,null,null,null,"ФСЗН","аванс","алименты","исп. лист","прочие"]
[1,2,3,"3а","3б","3в","3г","3д","3е",4,"4а",5,6,7,8,9,10,11,12,13,null,null,null,null,14,15,"Иждивенцы:","Вычеты:"]
["январь",null,null,null,null,null,null,null,null,null,null,{"$f":"SUM(B148:K148)","v":0},{"$f":"J148","v":0},{"$f":"IF($A$141=\"\",IF(L148=0,0,IF(L148<AB148,L148-M148,AB148)),0)","v":0},null,null,null,{"$f":"IF($A$141=\"\",L148-M148-N148-O148-P148-Q148,L148)","v":0},{"$f":"R148*0.13","v":0},{"$f":"(L148-K148)*0.01","v":0},null,null,null,null,{"$f":"SUM(S148:X148)","v":0},{"$f":"L148-Y148","v":0},null,{"$f":"IF(L148=0,0,IF(L148<=$AE$4,$AE$5+(IF(AA148<=1,$AE$8*AA148,$AE$9*AA148))+$AA$141,(IF(AA148<=1,$AE$8*AA148,$AE$9*AA148))+$AA$141))","v":0}]
["февраль",null,null,null,null,null,null,null,null,null,null,{"$f":"SUM(B149:K149)","v":0},{"$f":"J149","v":0},{"$f":"IF($A$141=\"\",IF(L149=0,0,IF(L149<AB149,L149-M149,AB149)),0)","v":0},null,null,null,{"$f":"IF($A$141=\"\",L149-M149-N149-O149-P149-Q149,L149)","v":0},{"$f":"R149*0.13","v":0},{"$f":"(L149-K149)*0.01","v":0},null,null,null,null,{"$f":"SUM(S149:X149)","v":0},0,null,{"$f":"IF(L149=0,0,IF(L149<=$AE$4,$AE$5+(IF(AA149<=1,$AE$8*AA149,$AE$9*AA149))+$AA$141,(IF(AA149<=1,$AE$8*AA149,$AE$9*AA149))+$AA$141))","v":0}]
["март",null,null,null,null,null,null,null,null,null,null,0,0,0,null,null,null,0,0,0,null,null,null,null,0,0,null,0]
["апрель",null,null,null,null,null,null,null,null,null,null,0,0,0,null,null,null,0,0,0,null,null,null,null,0,0,null,0]
["май",null,null,null,null,null,null,null,null,null,null,0,0,0,null,null,null,0,0,0,null,null,null,null,0,0,null,0]
["июнь",null,null,null,null,null,null,null,null,null,null,0,0,0,null,null,null,0,0,0,null,null,null,null,0,0,null,0]
["июль",null,null,null,null,null,null,null,null,null,null,0,0,0,null,null,null,0,0,{"$f":"(L154-K154)*0.01","v":0},null,null,null,null,0,{"$f":"L154-Y154","v":0},null,0]
["август",null,null,null,null,null,null,null,null,null,null,0,0,0,null,null,null,0,0,{"$f":"(L155-K155)*0.01","v":0},null,null,null,null,0,{"$f":"L155-Y155","v":0},null,0]
["сентябрь",null,null,null,null,null,null,null,null,null,null,0,0,0,null,null,null,0,0,0,null,null,null,null,0,0,null,0]
["октябрь",null,null,null,null,null,null,null,null,null,null,0,0,0,null,null,null,0,0,0,null,null,null,null,0,0,null,0]
["ноябрь",null,null,null,null,null,null,null,null,null,null,0,0,0,null,null,null,0,0,0,null,null,null,null,0,0,null,0]
["декабрь",null,null,null,null,null,null,null,null,null,null,0,0,0,null,null,null,0,0,0,null,null,null,null,0,0,null,0]
[]
["* Заполняется по работникам, с которыми заключены гражданско-правовые договоры. \n** Налоговые вычеты предоставляются плательщику в соответствии со статьями 209-211, пунктом 1 статьи 212 Налогового кодекса Республики Беларусь."]
[]
[null,null,null,null,null,null,null,null,null,null,null,null,null,null,null,null,null,null,null,null,null,null,null,null,"№",7,"Стандартный вычет льготной категории:"]
["2.1. карточка лицевого счета",null,null,null,null,null,null,null,null,null,null,"7",null,null,null,null,null,null,null,null,null,null,null,null,"год",{"$f":"$Z$2","v":2019}]
[null,null,null,null,null,null,null,null,null,null,null,"(фамилия, собственное имя, отчество (если таковое имеется)"]
[null,null,null,null,null,null,null,null,null,null,null,null,null,null,null,null,null,null,null,null,null,null,null,null,"ставка:",1]
["(документы, подтверждающие право на вычеты)"]
[null,null,null,null,null,null,null,null,null,null,null,null,null,null,null,null,null,null,null,null,null,null,"должность: "]
["(дата и номер договора, условия договора)*"]
[null,null,null,null,null,null,null,null,null,null,null,null,null,null,null,null,null,null,null,null,null,null,null,null,null,"(руб.)"]
["Месяц","Начислено ",null,null,null,null,null,null,null,null,null,null,"Доходы, освобожда-емые от подоходного налога с физических лиц","Налоговые вычеты за месяц**",null,null,null,"Налоговая база \n(гр. 5 – гр. 6 – \n– гр. 7 – гр. 8 – гр. 9 - гр.10)","Удержано ",null,null,null,null,null,null,"К выплате за месяц\n(гр. 5 – гр. 14)"]
[null,"заработная плата за месяц","иные выплаты ",null,null,null,null,null,null,null,null,"итого за месяц",null,"стандартные","социальные ","имущественные","профессиональные",null,"подоходный налог с физических лиц за месяц","другие удержания за месяц ",null,null,null,null,"итого удержано за месяц\n(гр. 12 + гр. 13)"]
[null,null,"надбавка","премия","индексация","отпуск текущий","отпуск буд. периода","комп. за неисп. отпуск","прочие","мат. помощь","больничный",null,null,null,null,null,null,null,null,"ФСЗН","аванс","алименты","исп. лист","прочие"]
[1,2,3,"3а","3б","3в","3г","3д","3е",4,"4а",5,6,7,8,9,10,11,12,13,null,null,null,null,14,15,"Иждивенцы:","Вычеты:"]
["январь",null,null,null,null,null,null,null,null,null,null,{"$f":"SUM(B175:K175)","v":0},{"$f":"J175","v":0},{"$f":"IF($A$168=\"\",IF(L175=0,0,IF(L175<AB175,L175-M175,AB175)),0)","v":0},null,null,null,{"$f":"IF($A$168=\"\",L175-M175-N175-O175-P175-Q175,L175)","v":0},{"$f":"R175*0.13","v":0},{"$f":"(L175-K175)*0.01","v":0},null,null,null,null,{"$f":"SUM(S175:X175)","v":0},{"$f":"L175-Y175","v":0},null,{"$f":"IF(L175=0,0,IF(L175<=$AE$4,$AE$5+(IF(AA175<=1,$AE$8*AA175,$AE$9*AA175))+$AA$168,(IF(AA175<=1,$AE$8*AA175,$AE$9*AA175))+$AA$168))","v":0}]
["февраль",null,null,null,null,null,null,null,null,null,null,{"$f":"SUM(B176:K176)","v":0},{"$f":"J176","v":0},{"$f":"IF($A$168=\"\",IF(L176=0,0,IF(L176<AB176,L176-M176,AB176)),0)","v":0},null,null,null,{"$f":"IF($A$168=\"\",L176-M176-N176-O176-P176-Q176,L176)","v":0},{"$f":"R176*0.13","v":0},{"$f":"(L176-K176)*0.01","v":0},null,null,null,null,{"$f":"SUM(S176:X176)","v":0},0,null,{"$f":"IF(L176=0,0,IF(L176<=$AE$4,$AE$5+(IF(AA176<=1,$AE$8*AA176,$AE$9*AA176))+$AA$168,(IF(AA176<=1,$AE$8*AA176,$AE$9*AA176))+$AA$168))","v":0}]
["март",null,null,null,null,null,null,null,null,null,null,0,0,0,null,null,null,0,0,0,null,null,null,null,0,0,null,0]
["апрель",null,null,null,null,null,null,null,null,null,null,0,0,0,null,null,null,0,0,0,null,null,null,null,0,0,null,0]
["май",null,null,null,null,null,null,null,null,null,null,0,0,0,null,null,null,0,0,0,null,null,null,null,0,0,null,0]
["июнь",null,null,null,null,null,null,null,null,null,null,0,0,0,null,null,null,0,0,0,null,null,null,null,0,0,null,0]
["июль",null,null,null,null,null,null,null,null,null,null,0,0,0,null,null,null,0,0,{"$f":"(L181-K181)*0.01","v":0},null,null,null,null,0,{"$f":"L181-Y181","v":0},null,0]
["август",null,null,null,null,null,null,null,null,null,null,0,0,0,null,null,null,0,0,{"$f":"(L182-K182)*0.01","v":0},null,null,null,null,0,{"$f":"L182-Y182","v":0},null,0]
["сентябрь",null,null,null,null,null,null,null,null,null,null,0,0,0,null,null,null,0,0,0,null,null,null,null,0,0,null,0]
["октябрь",null,null,null,null,null,null,null,null,null,null,0,0,0,null,null,null,0,0,0,null,null,null,null,0,0,null,0]
["ноябрь",null,null,null,null,null,null,null,null,null,null,0,0,0,null,null,null,0,0,0,null,null,null,null,0,0,null,0]
["декабрь",null,null,null,null,null,null,null,null,null,null,0,0,0,null,null,null,0,0,0,null,null,null,null,0,0,null,0]
[]
["* Заполняется по работникам, с которыми заключены гражданско-правовые договоры. \n** Налоговые вычеты предоставляются плательщику в соответствии со статьями 209-211, пунктом 1 статьи 212 Налогового кодекса Республики Беларусь."]
[]
[null,null,null,null,null,null,null,null,null,null,null,null,null,null,null,null,null,null,null,null,null,null,null,null,"№",8,"Стандартный вычет льготной категории:"]
["2.1. карточка лицевого счета",null,null,null,null,null,null,null,null,null,null,"8",null,null,null,null,null,null,null,null,null,null,null,null,"год",{"$f":"$Z$2","v":2019}]
[null,null,null,null,null,null,null,null,null,null,null,"(фамилия, собственное имя, отчество (если таковое имеется)"]
[null,null,null,null,null,null,null,null,null,null,null,null,null,null,null,null,null,null,null,null,null,null,null,null,"ставка:",1]
["(документы, подтверждающие право на вычеты)"]
[null,null,null,null,null,null,null,null,null,null,null,null,null,null,null,null,null,null,null,null,null,null,"должность: "]
["(дата и номер договора, условия договора)*"]
[null,null,null,null,null,null,null,null,null,null,null,null,null,null,null,null,null,null,null,null,null,null,null,null,null,"(руб.)"]
["Месяц","Начислено ",null,null,null,null,null,null,null,null,null,null,"Доходы, освобожда-емые от подоходного налога с физических лиц","Налоговые вычеты за месяц**",null,null,null,"Налоговая база \n(гр. 5 – гр. 6 – \n– гр. 7 – гр. 8 – гр. 9 - гр.10)","Удержано ",null,null,null,null,null,null,"К выплате за месяц\n(гр. 5 – гр. 14)"]
[null,"заработная плата за месяц","иные выплаты ",null,null,null,null,null,null,null,null,"итого за месяц",null,"стандартные","социальные ","имущественные","профессиональные",null,"подоходный налог с физических лиц за месяц","другие удержания за месяц ",null,null,null,null,"итого удержано за месяц\n(гр. 12 + гр. 13)"]
[null,null,"надбавка","премия","индексация","отпуск текущий","отпуск буд. периода","комп. за неисп. отпуск","прочие","мат. помощь","больничный",null,null,null,null,null,null,null,null,"ФСЗН","аванс","алименты","исп. лист","прочие"]
[1,2,3,"3а","3б","3в","3г","3д","3е",4,"4а",5,6,7,8,9,10,11,12,13,null,null,null,null,14,15,"Иждивенцы:","Вычеты:"]
["январь",null,null,null,null,null,null,null,null,null,null,{"$f":"SUM(B202:K202)","v":0},{"$f":"J202","v":0},{"$f":"IF($A$195=\"\",IF(L202=0,0,IF(L202<AB202,L202-M202,AB202)),0)","v":0},null,null,null,{"$f":"IF($A$195=\"\",L202-M202-N202-O202-P202-Q202,L202)","v":0},{"$f":"R202*0.13","v":0},{"$f":"(L202-K202)*0.01","v":0},null,null,null,null,{"$f":"SUM(S202:X202)","v":0},{"$f":"L202-Y202","v":0},null,{"$f":"IF(L202=0,0,IF(L202<=$AE$4,$AE$5+(IF(AA202<=1,$AE$8*AA202,$AE$9*AA202))+$AA$195,(IF(AA202<=1,$AE$8*AA202,$AE$9*AA202))+$AA$195))","v":0}]
["февраль",null,null,null,null,null,null,null,null,null,null,{"$f":"SUM(B203:K203)","v":0},{"$f":"J203","v":0},{"$f":"IF($A$195=\"\",IF(L203=0,0,IF(L203<AB203,L203-M203,AB203)),0)","v":0},null,null,null,{"$f":"IF($A$195=\"\",L203-M203-N203-O203-P203-Q203,L203)","v":0},{"$f":"R203*0.13","v":0},{"$f":"(L203-K203)*0.01","v":0},null,null,null,null,{"$f":"SUM(S203:X203)","v":0},0,null,{"$f":"IF(L203=0,0,IF(L203<=$AE$4,$AE$5+(IF(AA203<=1,$AE$8*AA203,$AE$9*AA203))+$AA$195,(IF(AA203<=1,$AE$8*AA203,$AE$9*AA203))+$AA$195))","v":0}]
["март",null,null,null,null,null,null,null,null,null,null,0,0,0,null,null,null,0,0,0,null,null,null,null,0,0,null,0]
["апрель",null,null,null,null,null,null,null,null,null,null,0,0,0,null,null,null,0,0,0,null,null,null,null,0,0,null,0]
["май",null,null,null,null,null,null,null,null,null,null,0,0,0,null,null,null,0,0,0,null,null,null,null,0,0,null,0]
["июнь",null,null,null,null,null,null,null,null,null,null,0,0,0,null,null,null,0,0,0,null,null,null,null,0,0,null,0]
["июль",null,null,null,null,null,null,null,null,null,null,0,0,0,null,null,null,0,0,{"$f":"(L208-K208)*0.01","v":0},null,null,null,null,0,{"$f":"L208-Y208","v":0},null,0]
["август",null,null,null,null,null,null,null,null,null,null,0,0,0,null,null,null,0,0,{"$f":"(L209-K209)*0.01","v":0},null,null,null,null,0,{"$f":"L209-Y209","v":0},null,0]
["сентябрь",null,null,null,null,null,null,null,null,null,null,0,0,0,null,null,null,0,0,0,null,null,null,null,0,0,null,0]
["октябрь",null,null,null,null,null,null,null,null,null,null,0,0,0,null,null,null,0,0,0,null,null,null,null,0,0,null,0]
["ноябрь",null,null,null,null,null,null,null,null,null,null,0,0,0,null,null,null,0,0,0,null,null,null,null,0,0,null,0]
["декабрь",null,null,null,null,null,null,null,null,null,null,0,0,0,null,null,null,0,0,0,null,null,null,null,0,0,null,0]
[]
["* Заполняется по работникам, с которыми заключены гражданско-правовые договоры. \n** Налоговые вычеты предоставляются плательщику в соответствии со статьями 209-211, пунктом 1 статьи 212 Налогового кодекса Республики Беларусь."]
[]
[null,null,null,null,null,null,null,null,null,null,null,null,null,null,null,null,null,null,null,null,null,null,null,null,"№",9,"Стандартный вычет льготной категории:"]
["2.1. карточка лицевого счета",null,null,null,null,null,null,null,null,null,null,"9",null,null,null,null,null,null,null,null,null,null,null,null,"год",{"$f":"$Z$2","v":2019}]
[null,null,null,null,null,null,null,null,null,null,null,"(фамилия, собственное имя, отчество (если таковое имеется)"]
[null,null,null,null,null,null,null,null,null,null,null,null,null,null,null,null,null,null,null,null,null,null,null,null,"ставка:",1]
["(документы, подтверждающие право на вычеты)"]
[null,null,null,null,null,null,null,null,null,null,null,null,null,null,null,null,null,null,null,null,null,null,"должность: "]
["(дата и номер договора, условия договора)*"]
[null,null,null,null,null,null,null,null,null,null,null,null,null,null,null,null,null,null,null,null,null,null,null,null,null,"(руб.)"]
["Месяц","Начислено ",null,null,null,null,null,null,null,null,null,null,"Доходы, освобожда-емые от подоходного налога с физических лиц","Налоговые вычеты за месяц**",null,null,null,"Налоговая база \n(гр. 5 – гр. 6 – \n– гр. 7 – гр. 8 – гр. 9 - гр.10)","Удержано ",null,null,null,null,null,null,"К выплате за месяц\n(гр. 5 – гр. 14)"]
[null,"заработная плата за месяц","иные выплаты ",null,null,null,null,null,null,null,null,"итого за месяц",null,"стандартные","социальные ","имущественные","профессиональные",null,"подоходный налог с физических лиц за месяц","другие удержания за месяц ",null,null,null,null,"итого удержано за месяц\n(гр. 12 + гр. 13)"]
[null,null,"надбавка","премия","индексация","отпуск текущий","отпуск буд. периода","комп. за неисп. отпуск","прочие","мат. помощь","больничный",null,null,null,null,null,null,null,null,"ФСЗН","аванс","алименты","исп. лист","прочие"]
[1,2,3,"3а","3б","3в","3г","3д","3е",4,"4а",5,6,7,8,9,10,11,12,13,null,null,null,null,14,15,"Иждивенцы:","Вычеты:"]
["январь",null,null,null,null,null,null,null,null,null,null,{"$f":"SUM(B229:K229)","v":0},{"$f":"J229","v":0},{"$f":"IF($A$222=\"\",IF(L229=0,0,IF(L229<AB229,L229-M229,AB229)),0)","v":0},null,null,null,{"$f":"IF($A$222=\"\",L229-M229-N229-O229-P229-Q229,L229)","v":0},{"$f":"R229*0.13","v":0},{"$f":"(L229-K229)*0.01","v":0},null,null,null,null,{"$f":"SUM(S229:X229)","v":0},{"$f":"L229-Y229","v":0},null,{"$f":"IF(L229=0,0,IF(L229<=$AE$4,$AE$5+(IF(AA229<=1,$AE$8*AA229,$AE$9*AA229))+$AA$222,(IF(AA229<=1,$AE$8*AA229,$AE$9*AA229))+$AA$222))","v":0}]
["февраль",null,null,null,null,null,null,null,null,null,null,{"$f":"SUM(B230:K230)","v":0},{"$f":"J230","v":0},{"$f":"IF($A$222=\"\",IF(L230=0,0,IF(L230<AB230,L230-M230,AB230)),0)","v":0},null,null,null,{"$f":"IF($A$222=\"\",L230-M230-N230-O230-P230-Q230,L230)","v":0},{"$f":"R230*0.13","v":0},{"$f":"(L230-K230)*0.01","v":0},null,null,null,null,{"$f":"SUM(S230:X230)","v":0},0,null,{"$f":"IF(L230=0,0,IF(L230<=$AE$4,$AE$5+(IF(AA230<=1,$AE$8*AA230,$AE$9*AA230))+$AA$222,(IF(AA230<=1,$AE$8*AA230,$AE$9*AA230))+$AA$222))","v":0}]
["март",null,null,null,null,null,null,null,null,null,null,0,0,0,null,null,null,0,0,0,null,null,null,null,0,0,null,0]
["апрель",null,null,null,null,null,null,null,null,null,null,0,0,0,null,null,null,0,0,0,null,null,null,null,0,0,null,0]
["май",null,null,null,null,null,null,null,null,null,null,0,0,0,null,null,null,0,0,0,null,null,null,null,0,0,null,0]
["июнь",null,null,null,null,null,null,null,null,null,null,0,0,0,null,null,null,0,0,0,null,null,null,null,0,0,null,0]
["июль",null,null,null,null,null,null,null,null,null,null,0,0,0,null,null,null,0,0,{"$f":"(L235-K235)*0.01","v":0},null,null,null,null,0,{"$f":"L235-Y235","v":0},null,0]
["август",null,null,null,null,null,null,null,null,null,null,0,0,0,null,null,null,0,0,{"$f":"(L236-K236)*0.01","v":0},null,null,null,null,0,{"$f":"L236-Y236","v":0},null,0]
["сентябрь",null,null,null,null,null,null,null,null,null,null,0,0,0,null,null,null,0,0,0,null,null,null,null,0,0,null,0]
["октябрь",null,null,null,null,null,null,null,null,null,null,0,0,0,null,null,null,0,0,0,null,null,null,null,0,0,null,0]
["ноябрь",null,null,null,null,null,null,null,null,null,null,0,0,0,null,null,null,0,0,0,null,null,null,null,0,0,null,0]
["декабрь",null,null,null,null,null,null,null,null,null,null,0,0,0,null,null,null,0,0,0,null,null,null,null,0,0,null,0]
[]
["* Заполняется по работникам, с которыми заключены гражданско-правовые договоры. \n** Налоговые вычеты предоставляются плательщику в соответствии со статьями 209-211, пунктом 1 статьи 212 Налогового кодекса Республики Беларусь."]
[]
[null,null,null,null,null,null,null,null,null,null,null,null,null,null,null,null,null,null,null,null,null,null,null,null,"№",10,"Стандартный вычет льготной категории:"]
["2.1. карточка лицевого счета",null,null,null,null,null,null,null,null,null,null,"10",null,null,null,null,null,null,null,null,null,null,null,null,"год",{"$f":"$Z$2","v":2019}]
[null,null,null,null,null,null,null,null,null,null,null,"(фамилия, собственное имя, отчество (если таковое имеется)"]
[null,null,null,null,null,null,null,null,null,null,null,null,null,null,null,null,null,null,null,null,null,null,null,null,"ставка:",1]
["(документы, подтверждающие право на вычеты)"]
[null,null,null,null,null,null,null,null,null,null,null,null,null,null,null,null,null,null,null,null,null,null,"должность: "]
["(дата и номер договора, условия договора)*"]
[null,null,null,null,null,null,null,null,null,null,null,null,null,null,null,null,null,null,null,null,null,null,null,null,null,"(руб.)"]
["Месяц","Начислено ",null,null,null,null,null,null,null,null,null,null,"Доходы, освобожда-емые от подоходного налога с физических лиц","Налоговые вычеты за месяц**",null,null,null,"Налоговая база \n(гр. 5 – гр. 6 – \n– гр. 7 – гр. 8 – гр. 9 - гр.10)","Удержано ",null,null,null,null,null,null,"К выплате за месяц\n(гр. 5 – гр. 14)"]
[null,"заработная плата за месяц","иные выплаты ",null,null,null,null,null,null,null,null,"итого за месяц",null,"стандартные","социальные ","имущественные","профессиональные",null,"подоходный налог с физических лиц за месяц","другие удержания за месяц ",null,null,null,null,"итого удержано за месяц\n(гр. 12 + гр. 13)"]
[null,null,"надбавка","премия","индексация","отпуск текущий","отпуск буд. периода","комп. за неисп. отпуск","прочие","мат. помощь","больничный",null,null,null,null,null,null,null,null,"ФСЗН","аванс","алименты","исп. лист","прочие"]
[1,2,3,"3а","3б","3в","3г","3д","3е",4,"4а",5,6,7,8,9,10,11,12,13,null,null,null,null,14,15,"Иждивенцы:","Вычеты:"]
["январь",null,null,null,null,null,null,null,null,null,null,{"$f":"SUM(B256:K256)","v":0},{"$f":"J256","v":0},{"$f":"IF($A$249=\"\",IF(L256=0,0,IF(L256<AB256,L256-M256,AB256)),0)","v":0},null,null,null,{"$f":"IF($A$249=\"\",L256-M256-N256-O256-P256-Q256,L256)","v":0},{"$f":"R256*0.13","v":0},{"$f":"(L256-K256)*0.01","v":0},null,null,null,null,{"$f":"SUM(S256:X256)","v":0},{"$f":"L256-Y256","v":0},null,{"$f":"IF(L256=0,0,IF(L256<=$AE$4,$AE$5+(IF(AA256<=1,$AE$8*AA256,$AE$9*AA256))+$AA$249,(IF(AA256<=1,$AE$8*AA256,$AE$9*AA256))+$AA$249))","v":0}]
["февраль",null,null,null,null,null,null,null,null,null,null,{"$f":"SUM(B257:K257)","v":0},{"$f":"J257","v":0},{"$f":"IF($A$249=\"\",IF(L257=0,0,IF(L257<AB257,L257-M257,AB257)),0)","v":0},null,null,null,{"$f":"IF($A$249=\"\",L257-M257-N257-O257-P257-Q257,L257)","v":0},{"$f":"R257*0.13","v":0},{"$f":"(L257-K257)*0.01","v":0},null,null,null,null,{"$f":"SUM(S257:X257)","v":0},0,null,{"$f":"IF(L257=0,0,IF(L257<=$AE$4,$AE$5+(IF(AA257<=1,$AE$8*AA257,$AE$9*AA257))+$AA$249,(IF(AA257<=1,$AE$8*AA257,$AE$9*AA257))+$AA$249))","v":0}]
["март",null,null,null,null,null,null,null,null,null,null,0,0,0,null,null,null,0,0,0,null,null,null,null,0,0,null,0]
["апрель",null,null,null,null,null,null,null,null,null,null,0,0,0,null,null,null,0,0,0,null,null,null,null,0,0,null,0]
["май",null,null,null,null,null,null,null,null,null,null,0,0,0,null,null,null,0,0,0,null,null,null,null,0,0,null,0]
["июнь",null,null,null,null,null,null,null,null,null,null,0,0,0,null,null,null,0,0,0,null,null,null,null,0,0,null,0]
["июль",null,null,null,null,null,null,null,null,null,null,0,0,0,null,null,null,0,0,{"$f":"(L262-K262)*0.01","v":0},null,null,null,null,0,{"$f":"L262-Y262","v":0},null,0]
["август",null,null,null,null,null,null,null,null,null,null,0,0,0,null,null,null,0,0,{"$f":"(L263-K263)*0.01","v":0},null,null,null,null,0,{"$f":"L263-Y263","v":0},null,0]
["сентябрь",null,null,null,null,null,null,null,null,null,null,0,0,0,null,null,null,0,0,0,null,null,null,null,0,0,null,0]
["октябрь",null,null,null,null,null,null,null,null,null,null,0,0,0,null,null,null,0,0,0,null,null,null,null,0,0,null,0]
["ноябрь",null,null,null,null,null,null,null,null,null,null,0,0,0,null,null,null,0,0,0,null,null,null,null,0,0,null,0]
["декабрь",null,null,null,null,null,null,null,null,null,null,0,0,0,null,null,null,0,0,0,null,null,null,null,0,0,null,0]
[]
["* Заполняется по работникам, с которыми заключены гражданско-правовые договоры. \n** Налоговые вычеты предоставляются плательщику в соответствии со статьями 209-211, пунктом 1 статьи 212 Налогового кодекса Республики Беларусь."]
[]
[null,null,null,null,null,null,null,null,null,null,null,null,null,null,null,null,null,null,null,null,null,null,null,null,"№",11,"Стандартный вычет льготной категории:"]
["2.1. карточка лицевого счета",null,null,null,null,null,null,null,null,null,null,"11",null,null,null,null,null,null,null,null,null,null,null,null,"год",{"$f":"$Z$2","v":2019}]
[null,null,null,null,null,null,null,null,null,null,null,"(фамилия, собственное имя, отчество (если таковое имеется)"]
[null,null,null,null,null,null,null,null,null,null,null,null,null,null,null,null,null,null,null,null,null,null,null,null,"ставка:",1]
["(документы, подтверждающие право на вычеты)"]
[null,null,null,null,null,null,null,null,null,null,null,null,null,null,null,null,null,null,null,null,null,null,"должность: "]
["(дата и номер договора, условия договора)*"]
[null,null,null,null,null,null,null,null,null,null,null,null,null,null,null,null,null,null,null,null,null,null,null,null,null,"(руб.)"]
["Месяц","Начислено ",null,null,null,null,null,null,null,null,null,null,"Доходы, освобожда-емые от подоходного налога с физических лиц","Налоговые вычеты за месяц**",null,null,null,"Налоговая база \n(гр. 5 – гр. 6 – \n– гр. 7 – гр. 8 – гр. 9 - гр.10)","Удержано ",null,null,null,null,null,null,"К выплате за месяц\n(гр. 5 – гр. 14)"]
[null,"заработная плата за месяц","иные выплаты ",null,null,null,null,null,null,null,null,"итого за месяц",null,"стандартные","социальные ","имущественные","профессиональные",null,"подоходный налог с физических лиц за месяц","другие удержания за месяц ",null,null,null,null,"итого удержано за месяц\n(гр. 12 + гр. 13)"]
[null,null,"надбавка","премия","индексация","отпуск текущий","отпуск буд. периода","комп. за неисп. отпуск","прочие","мат. помощь","больничный",null,null,null,null,null,null,null,null,"ФСЗН","аванс","алименты","исп. лист","прочие"]
[1,2,3,"3а","3б","3в","3г","3д","3е",4,"4а",5,6,7,8,9,10,11,12,13,null,null,null,null,14,15,"Иждивенцы:","Вычеты:"]
["январь",null,null,null,null,null,null,null,null,null,null,{"$f":"SUM(B283:K283)","v":0},{"$f":"J283","v":0},{"$f":"IF($A$276=\"\",IF(L283=0,0,IF(L283<AB283,L283-M283,AB283)),0)","v":0},null,null,null,{"$f":"IF($A$276=\"\",L283-M283-N283-O283-P283-Q283,L283)","v":0},{"$f":"R283*0.13","v":0},{"$f":"(L283-K283)*0.01","v":0},null,null,null,null,{"$f":"SUM(S283:X283)","v":0},{"$f":"L283-Y283","v":0},null,{"$f":"IF(L283=0,0,IF(L283<=$AE$4,$AE$5+(IF(AA283<=1,$AE$8*AA283,$AE$9*AA283))+$AA$276,(IF(AA283<=1,$AE$8*AA283,$AE$9*AA283))+$AA$276))","v":0}]
["февраль",null,null,null,null,null,null,null,null,null,null,{"$f":"SUM(B284:K284)","v":0},{"$f":"J284","v":0},{"$f":"IF($A$276=\"\",IF(L284=0,0,IF(L284<AB284,L284-M284,AB284)),0)","v":0},null,null,null,{"$f":"IF($A$276=\"\",L284-M284-N284-O284-P284-Q284,L284)","v":0},{"$f":"R284*0.13","v":0},{"$f":"(L284-K284)*0.01","v":0},null,null,null,null,{"$f":"SUM(S284:X284)","v":0},0,null,{"$f":"IF(L284=0,0,IF(L284<=$AE$4,$AE$5+(IF(AA284<=1,$AE$8*AA284,$AE$9*AA284))+$AA$276,(IF(AA284<=1,$AE$8*AA284,$AE$9*AA284))+$AA$276))","v":0}]
["март",null,null,null,null,null,null,null,null,null,null,0,0,0,null,null,null,0,0,0,null,null,null,null,0,0,null,0]
["апрель",null,null,null,null,null,null,null,null,null,null,0,0,0,null,null,null,0,0,0,null,null,null,null,0,0,null,0]
["май",null,null,null,null,null,null,null,null,null,null,0,0,0,null,null,null,0,0,0,null,null,null,null,0,0,null,0]
["июнь",null,null,null,null,null,null,null,null,null,null,0,0,0,null,null,null,0,0,0,null,null,null,null,0,0,null,0]
["июль",null,null,null,null,null,null,null,null,null,null,0,0,0,null,null,null,0,0,{"$f":"(L289-K289)*0.01","v":0},null,null,null,null,0,{"$f":"L289-Y289","v":0},null,0]
["август",null,null,null,null,null,null,null,null,null,null,0,0,0,null,null,null,0,0,{"$f":"(L290-K290)*0.01","v":0},null,null,null,null,0,{"$f":"L290-Y290","v":0},null,0]
["сентябрь",null,null,null,null,null,null,null,null,null,null,0,0,0,null,null,null,0,0,0,null,null,null,null,0,0,null,0]
["октябрь",null,null,null,null,null,null,null,null,null,null,0,0,0,null,null,null,0,0,0,null,null,null,null,0,0,null,0]
["ноябрь",null,null,null,null,null,null,null,null,null,null,0,0,0,null,null,null,0,0,0,null,null,null,null,0,0,null,0]
["декабрь",null,null,null,null,null,null,null,null,null,null,0,0,0,null,null,null,0,0,0,null,null,null,null,0,0,null,0]
[]
["* Заполняется по работникам, с которыми заключены гражданско-правовые договоры. \n** Налоговые вычеты предоставляются плательщику в соответствии со статьями 209-211, пунктом 1 статьи 212 Налогового кодекса Республики Беларусь."]
[]
[null,null,null,null,null,null,null,null,null,null,null,null,null,null,null,null,null,null,null,null,null,null,null,null,"№",12,"Стандартный вычет льготной категории:"]
["2.1. карточка лицевого счета",null,null,null,null,null,null,null,null,null,null,"12",null,null,null,null,null,null,null,null,null,null,null,null,"год",{"$f":"$Z$2","v":2019}]
[null,null,null,null,null,null,null,null,null,null,null,"(фамилия, собственное имя, отчество (если таковое имеется)"]
[null,null,null,null,null,null,null,null,null,null,null,null,null,null,null,null,null,null,null,null,null,null,null,null,"ставка:",1]
["(документы, подтверждающие право на вычеты)"]
[null,null,null,null,null,null,null,null,null,null,null,null,null,null,null,null,null,null,null,null,null,null,"должность: "]
["(дата и номер договора, условия договора)*"]
[null,null,null,null,null,null,null,null,null,null,null,null,null,null,null,null,null,null,null,null,null,null,null,null,null,"(руб.)"]
["Месяц","Начислено ",null,null,null,null,null,null,null,null,null,null,"Доходы, освобожда-емые от подоходного налога с физических лиц","Налоговые вычеты за месяц**",null,null,null,"Налоговая база \n(гр. 5 – гр. 6 – \n– гр. 7 – гр. 8 – гр. 9 - гр.10)","Удержано ",null,null,null,null,null,null,"К выплате за месяц\n(гр. 5 – гр. 14)"]
[null,"заработная плата за месяц","иные выплаты ",null,null,null,null,null,null,null,null,"итого за месяц",null,"стандартные","социальные ","имущественные","профессиональные",null,"подоходный налог с физических лиц за месяц","другие удержания за месяц ",null,null,null,null,"итого удержано за месяц\n(гр. 12 + гр. 13)"]
[null,null,"надбавка","премия","индексация","отпуск текущий","отпуск буд. периода","комп. за неисп. отпуск","прочие","мат. помощь","больничный",null,null,null,null,null,null,null,null,"ФСЗН","аванс","алименты","исп. лист","прочие"]
[1,2,3,"3а","3б","3в","3г","3д","3е",4,"4а",5,6,7,8,9,10,11,12,13,null,null,null,null,14,15,"Иждивенцы:","Вычеты:"]
["январь",null,null,null,null,null,null,null,null,null,null,{"$f":"SUM(B310:K310)","v":0},{"$f":"J310","v":0},{"$f":"IF($A$303=\"\",IF(L310=0,0,IF(L310<AB310,L310-M310,AB310)),0)","v":0},null,null,null,{"$f":"IF($A$303=\"\",L310-M310-N310-O310-P310-Q310,L310)","v":0},{"$f":"R310*0.13","v":0},{"$f":"(L310-K310)*0.01","v":0},null,null,null,null,{"$f":"SUM(S310:X310)","v":0},{"$f":"L310-Y310","v":0},null,{"$f":"IF(L310=0,0,IF(L310<=$AE$4,$AE$5+(IF(AA310<=1,$AE$8*AA310,$AE$9*AA310))+$AA$303,(IF(AA310<=1,$AE$8*AA310,$AE$9*AA310))+$AA$303))","v":0}]
["февраль",null,null,null,null,null,null,null,null,null,null,{"$f":"SUM(B311:K311)","v":0},{"$f":"J311","v":0},{"$f":"IF($A$303=\"\",IF(L311=0,0,IF(L311<AB311,L311-M311,AB311)),0)","v":0},null,null,null,{"$f":"IF($A$303=\"\",L311-M311-N311-O311-P311-Q311,L311)","v":0},{"$f":"R311*0.13","v":0},{"$f":"(L311-K311)*0.01","v":0},null,null,null,null,{"$f":"SUM(S311:X311)","v":0},0,null,{"$f":"IF(L311=0,0,IF(L311<=$AE$4,$AE$5+(IF(AA311<=1,$AE$8*AA311,$AE$9*AA311))+$AA$303,(IF(AA311<=1,$AE$8*AA311,$AE$9*AA311))+$AA$303))","v":0}]
["март",null,null,null,null,null,null,null,null,null,null,0,0,0,null,null,null,0,0,0,null,null,null,null,0,0,null,0]
["апрель",null,null,null,null,null,null,null,null,null,null,0,0,0,null,null,null,0,0,0,null,null,null,null,0,0,null,0]
["май",null,null,null,null,null,null,null,null,null,null,0,0,0,null,null,null,0,0,0,null,null,null,null,0,0,null,0]
["июнь",null,null,null,null,null,null,null,null,null,null,0,0,0,null,null,null,0,0,0,null,null,null,null,0,0,null,0]
["июль",null,null,null,null,null,null,null,null,null,null,0,0,0,null,null,null,0,0,{"$f":"(L316-K316)*0.01","v":0},null,null,null,null,0,{"$f":"L316-Y316","v":0},null,0]
["август",null,null,null,null,null,null,null,null,null,null,0,0,0,null,null,null,0,0,{"$f":"(L317-K317)*0.01","v":0},null,null,null,null,0,{"$f":"L317-Y317","v":0},null,0]
["сентябрь",null,null,null,null,null,null,null,null,null,null,0,0,0,null,null,null,0,0,0,null,null,null,null,0,0,null,0]
["октябрь",null,null,null,null,null,null,null,null,null,null,0,0,0,null,null,null,0,0,0,null,null,null,null,0,0,null,0]
["ноябрь",null,null,null,null,null,null,null,null,null,null,0,0,0,null,null,null,0,0,0,null,null,null,null,0,0,null,0]
["декабрь",null,null,null,null,null,null,null,null,null,null,0,0,0,null,null,null,0,0,0,null,null,null,null,0,0,null,0]
[]
["* Заполняется по работникам, с которыми заключены гражданско-правовые договоры. \n** Налоговые вычеты предоставляются плательщику в соответствии со статьями 209-211, пунктом 1 статьи 212 Налогового кодекса Республики Беларусь."]
[]
[null,null,null,null,null,null,null,null,null,null,null,null,null,null,null,null,null,null,null,null,null,null,null,null,"№",13,"Стандартный вычет льготной категории:"]
["2.1. карточка лицевого счета",null,null,null,null,null,null,null,null,null,null,"13",null,null,null,null,null,null,null,null,null,null,null,null,"год",{"$f":"$Z$2","v":2019}]
[null,null,null,null,null,null,null,null,null,null,null,"(фамилия, собственное имя, отчество (если таковое имеется)"]
[null,null,null,null,null,null,null,null,null,null,null,null,null,null,null,null,null,null,null,null,null,null,null,null,"ставка:",1]
["(документы, подтверждающие право на вычеты)"]
[null,null,null,null,null,null,null,null,null,null,null,null,null,null,null,null,null,null,null,null,null,null,"должность: "]
["(дата и номер договора, условия договора)*"]
[null,null,null,null,null,null,null,null,null,null,null,null,null,null,null,null,null,null,null,null,null,null,null,null,null,"(руб.)"]
["Месяц","Начислено ",null,null,null,null,null,null,null,null,null,null,"Доходы, освобожда-емые от подоходного налога с физических лиц","Налоговые вычеты за месяц**",null,null,null,"Налоговая база \n(гр. 5 – гр. 6 – \n– гр. 7 – гр. 8 – гр. 9 - гр.10)","Удержано ",null,null,null,null,null,null,"К выплате за месяц\n(гр. 5 – гр. 14)"]
[null,"заработная плата за месяц","иные выплаты ",null,null,null,null,null,null,null,null,"итого за месяц",null,"стандартные","социальные ","имущественные","профессиональные",null,"подоходный налог с физических лиц за месяц","другие удержания за месяц ",null,null,null,null,"итого удержано за месяц\n(гр. 12 + гр. 13)"]
[null,null,"надбавка","премия","индексация","отпуск текущий","отпуск буд. периода","комп. за неисп. отпуск","прочие","мат. помощь","больничный",null,null,null,null,null,null,null,null,"ФСЗН","аванс","алименты","исп. лист","прочие"]
[1,2,3,"3а","3б","3в","3г","3д","3е",4,"4а",5,6,7,8,9,10,11,12,13,null,null,null,null,14,15,"Иждивенцы:","Вычеты:"]
["январь",null,null,null,null,null,null,null,null,null,null,{"$f":"SUM(B337:K337)","v":0},{"$f":"J337","v":0},{"$f":"IF($A$330=\"\",IF(L337=0,0,IF(L337<AB337,L337-M337,AB337)),0)","v":0},null,null,null,{"$f":"IF($A$330=\"\",L337-M337-N337-O337-P337-Q337,L337)","v":0},{"$f":"R337*0.13","v":0},{"$f":"(L337-K337)*0.01","v":0},null,null,null,null,{"$f":"SUM(S337:X337)","v":0},{"$f":"L337-Y337","v":0},null,{"$f":"IF(L337=0,0,IF(L337<=$AE$4,$AE$5+(IF(AA337<=1,$AE$8*AA337,$AE$9*AA337))+$AA$330,(IF(AA337<=1,$AE$8*AA337,$AE$9*AA337))+$AA$330))","v":0}]
["февраль",null,null,null,null,null,null,null,null,null,null,{"$f":"SUM(B338:K338)","v":0},{"$f":"J338","v":0},{"$f":"IF($A$330=\"\",IF(L338=0,0,IF(L338<AB338,L338-M338,AB338)),0)","v":0},null,null,null,{"$f":"IF($A$330=\"\",L338-M338-N338-O338-P338-Q338,L338)","v":0},{"$f":"R338*0.13","v":0},{"$f":"(L338-K338)*0.01","v":0},null,null,null,null,{"$f":"SUM(S338:X338)","v":0},0,null,{"$f":"IF(L338=0,0,IF(L338<=$AE$4,$AE$5+(IF(AA338<=1,$AE$8*AA338,$AE$9*AA338))+$AA$330,(IF(AA338<=1,$AE$8*AA338,$AE$9*AA338))+$AA$330))","v":0}]
["март",null,null,null,null,null,null,null,null,null,null,0,0,0,null,null,null,0,0,0,null,null,null,null,0,0,null,0]
["апрель",null,null,null,null,null,null,null,null,null,null,0,0,0,null,null,null,0,0,0,null,null,null,null,0,0,null,0]
["май",null,null,null,null,null,null,null,null,null,null,0,0,0,null,null,null,0,0,0,null,null,null,null,0,0,null,0]
["июнь",null,null,null,null,null,null,null,null,null,null,0,0,0,null,null,null,0,0,0,null,null,null,null,0,0,null,0]
["июль",null,null,null,null,null,null,null,null,null,null,0,0,0,null,null,null,0,0,{"$f":"(L343-K343)*0.01","v":0},null,null,null,null,0,{"$f":"L343-Y343","v":0},null,0]
["август",null,null,null,null,null,null,null,null,null,null,0,0,0,null,null,null,0,0,{"$f":"(L344-K344)*0.01","v":0},null,null,null,null,0,{"$f":"L344-Y344","v":0},null,0]
["сентябрь",null,null,null,null,null,null,null,null,null,null,0,0,0,null,null,null,0,0,0,null,null,null,null,0,0,null,0]
["октябрь",null,null,null,null,null,null,null,null,null,null,0,0,0,null,null,null,0,0,0,null,null,null,null,0,0,null,0]
["ноябрь",null,null,null,null,null,null,null,null,null,null,0,0,0,null,null,null,0,0,0,null,null,null,null,0,0,null,0]
["декабрь",null,null,null,null,null,null,null,null,null,null,0,0,0,null,null,null,0,0,0,null,null,null,null,0,0,null,0]
[]
["* Заполняется по работникам, с которыми заключены гражданско-правовые договоры. \n** Налоговые вычеты предоставляются плательщику в соответствии со статьями 209-211, пунктом 1 статьи 212 Налогового кодекса Республики Беларусь."]
[]
[null,null,null,null,null,null,null,null,null,null,null,null,null,null,null,null,null,null,null,null,null,null,null,null,"№",14,"Стандартный вычет льготной категории:"]
["2.1. карточка лицевого счета",null,null,null,null,null,null,null,null,null,null,"14",null,null,null,null,null,null,null,null,null,null,null,null,"год",{"$f":"$Z$2","v":2019}]
[null,null,null,null,null,null,null,null,null,null,null,"(фамилия, собственное имя, отчество (если таковое имеется)"]
[null,null,null,null,null,null,null,null,null,null,null,null,null,null,null,null,null,null,null,null,null,null,null,null,"ставка:",1]
["(документы, подтверждающие право на вычеты)"]
[null,null,null,null,null,null,null,null,null,null,null,null,null,null,null,null,null,null,null,null,null,null,"должность: "]
["(дата и номер договора, условия договора)*"]
[null,null,null,null,null,null,null,null,null,null,null,null,null,null,null,null,null,null,null,null,null,null,null,null,null,"(руб.)"]
["Месяц","Начислено ",null,null,null,null,null,null,null,null,null,null,"Доходы, освобожда-емые от подоходного налога с физических лиц","Налоговые вычеты за месяц**",null,null,null,"Налоговая база \n(гр. 5 – гр. 6 – \n– гр. 7 – гр. 8 – гр. 9 - гр.10)","Удержано ",null,null,null,null,null,null,"К выплате за месяц\n(гр. 5 – гр. 14)"]
[null,"заработная плата за месяц","иные выплаты ",null,null,null,null,null,null,null,null,"итого за месяц",null,"стандартные","социальные ","имущественные","профессиональные",null,"подоходный налог с физических лиц за месяц","другие удержания за месяц ",null,null,null,null,"итого удержано за месяц\n(гр. 12 + гр. 13)"]
[null,null,"надбавка","премия","индексация","отпуск текущий","отпуск буд. периода","комп. за неисп. отпуск","прочие","мат. помощь","больничный",null,null,null,null,null,null,null,null,"ФСЗН","аванс","алименты","исп. лист","прочие"]
[1,2,3,"3а","3б","3в","3г","3д","3е",4,"4а",5,6,7,8,9,10,11,12,13,null,null,null,null,14,15,"Иждивенцы:","Вычеты:"]
["январь",null,null,null,null,null,null,null,null,null,null,{"$f":"SUM(B364:K364)","v":0},{"$f":"J364","v":0},{"$f":"IF($A$357=\"\",IF(L364=0,0,IF(L364<AB364,L364-M364,AB364)),0)","v":0},null,null,null,{"$f":"IF($A$357=\"\",L364-M364-N364-O364-P364-Q364,L364)","v":0},{"$f":"R364*0.13","v":0},{"$f":"(L364-K364)*0.01","v":0},null,null,null,null,{"$f":"SUM(S364:X364)","v":0},{"$f":"L364-Y364","v":0},null,{"$f":"IF(L364=0,0,IF(L364<=$AE$4,$AE$5+(IF(AA364<=1,$AE$8*AA364,$AE$9*AA364))+$AA$357,(IF(AA364<=1,$AE$8*AA364,$AE$9*AA364))+$AA$357))","v":0}]
["февраль",null,null,null,null,null,null,null,null,null,null,{"$f":"SUM(B365:K365)","v":0},{"$f":"J365","v":0},{"$f":"IF($A$357=\"\",IF(L365=0,0,IF(L365<AB365,L365-M365,AB365)),0)","v":0},null,null,null,{"$f":"IF($A$357=\"\",L365-M365-N365-O365-P365-Q365,L365)","v":0},{"$f":"R365*0.13","v":0},{"$f":"(L365-K365)*0.01","v":0},null,null,null,null,{"$f":"SUM(S365:X365)","v":0},0,null,{"$f":"IF(L365=0,0,IF(L365<=$AE$4,$AE$5+(IF(AA365<=1,$AE$8*AA365,$AE$9*AA365))+$AA$357,(IF(AA365<=1,$AE$8*AA365,$AE$9*AA365))+$AA$357))","v":0}]
["март",null,null,null,null,null,null,null,null,null,null,0,0,0,null,null,null,0,0,0,null,null,null,null,0,0,null,0]
["апрель",null,null,null,null,null,null,null,null,null,null,0,0,0,null,null,null,0,0,0,null,null,null,null,0,0,null,0]
["май",null,null,null,null,null,null,null,null,null,null,0,0,0,null,null,null,0,0,0,null,null,null,null,0,0,null,0]
["июнь",null,null,null,null,null,null,null,null,null,null,0,0,0,null,null,null,0,0,0,null,null,null,null,0,0,null,0]
["июль",null,null,null,null,null,null,null,null,null,null,0,0,0,null,null,null,0,0,{"$f":"(L370-K370)*0.01","v":0},null,null,null,null,0,{"$f":"L370-Y370","v":0},null,0]
["август",null,null,null,null,null,null,null,null,null,null,0,0,0,null,null,null,0,0,{"$f":"(L371-K371)*0.01","v":0},null,null,null,null,0,{"$f":"L371-Y371","v":0},null,0]
["сентябрь",null,null,null,null,null,null,null,null,null,null,0,0,0,null,null,null,0,0,0,null,null,null,null,0,0,null,0]
["октябрь",null,null,null,null,null,null,null,null,null,null,0,0,0,null,null,null,0,0,0,null,null,null,null,0,0,null,0]
["ноябрь",null,null,null,null,null,null,null,null,null,null,0,0,0,null,null,null,0,0,0,null,null,null,null,0,0,null,0]
["декабрь",null,null,null,null,null,null,null,null,null,null,0,0,0,null,null,null,0,0,0,null,null,null,null,0,0,null,0]
[]
["* Заполняется по работникам, с которыми заключены гражданско-правовые договоры. \n** Налоговые вычеты предоставляются плательщику в соответствии со статьями 209-211, пунктом 1 статьи 212 Налогового кодекса Республики Беларусь."]
[]
[null,null,null,null,null,null,null,null,null,null,null,null,null,null,null,null,null,null,null,null,null,null,null,null,"№",15,"Стандартный вычет льготной категории:"]
["2.1. карточка лицевого счета",null,null,null,null,null,null,null,null,null,null,"15",null,null,null,null,null,null,null,null,null,null,null,null,"год",{"$f":"$Z$2","v":2019}]
[null,null,null,null,null,null,null,null,null,null,null,"(фамилия, собственное имя, отчество (если таковое имеется)"]
[null,null,null,null,null,null,null,null,null,null,null,null,null,null,null,null,null,null,null,null,null,null,null,null,"ставка:",1]
["(документы, подтверждающие право на вычеты)"]
[null,null,null,null,null,null,null,null,null,null,null,null,null,null,null,null,null,null,null,null,null,null,"должность: "]
["(дата и номер договора, условия договора)*"]
[null,null,null,null,null,null,null,null,null,null,null,null,null,null,null,null,null,null,null,null,null,null,null,null,null,"(руб.)"]
["Месяц","Начислено ",null,null,null,null,null,null,null,null,null,null,"Доходы, освобожда-емые от подоходного налога с физических лиц","Налоговые вычеты за месяц**",null,null,null,"Налоговая база \n(гр. 5 – гр. 6 – \n– гр. 7 – гр. 8 – гр. 9 - гр.10)","Удержано ",null,null,null,null,null,null,"К выплате за месяц\n(гр. 5 – гр. 14)"]
[null,"заработная плата за месяц","иные выплаты ",null,null,null,null,null,null,null,null,"итого за месяц",null,"стандартные","социальные ","имущественные","профессиональные",null,"подоходный налог с физических лиц за месяц","другие удержания за месяц ",null,null,null,null,"итого удержано за месяц\n(гр. 12 + гр. 13)"]
[null,null,"надбавка","премия","индексация","отпуск текущий","отпуск буд. периода","комп. за неисп. отпуск","прочие","мат. помощь","больничный",null,null,null,null,null,null,null,null,"ФСЗН","аванс","алименты","исп. лист","прочие"]
[1,2,3,"3а","3б","3в","3г","3д","3е",4,"4а",5,6,7,8,9,10,11,12,13,null,null,null,null,14,15,"Иждивенцы:","Вычеты:"]
["январь",null,null,null,null,null,null,null,null,null,null,{"$f":"SUM(B391:K391)","v":0},{"$f":"J391","v":0},{"$f":"IF($A$384=\"\",IF(L391=0,0,IF(L391<AB391,L391-M391,AB391)),0)","v":0},null,null,null,{"$f":"IF($A$384=\"\",L391-M391-N391-O391-P391-Q391,L391)","v":0},{"$f":"R391*0.13","v":0},{"$f":"(L391-K391)*0.01","v":0},null,null,null,null,{"$f":"SUM(S391:X391)","v":0},{"$f":"L391-Y391","v":0},null,{"$f":"IF(L391=0,0,IF(L391<=$AE$4,$AE$5+(IF(AA391<=1,$AE$8*AA391,$AE$9*AA391))+$AA$384,(IF(AA391<=1,$AE$8*AA391,$AE$9*AA391))+$AA$384))","v":0}]
["февраль",null,null,null,null,null,null,null,null,null,null,{"$f":"SUM(B392:K392)","v":0},{"$f":"J392","v":0},{"$f":"IF($A$384=\"\",IF(L392=0,0,IF(L392<AB392,L392-M392,AB392)),0)","v":0},null,null,null,{"$f":"IF($A$384=\"\",L392-M392-N392-O392-P392-Q392,L392)","v":0},{"$f":"R392*0.13","v":0},{"$f":"(L392-K392)*0.01","v":0},null,null,null,null,{"$f":"SUM(S392:X392)","v":0},0,null,{"$f":"IF(L392=0,0,IF(L392<=$AE$4,$AE$5+(IF(AA392<=1,$AE$8*AA392,$AE$9*AA392))+$AA$384,(IF(AA392<=1,$AE$8*AA392,$AE$9*AA392))+$AA$384))","v":0}]
["март",null,null,null,null,null,null,null,null,null,null,0,0,0,null,null,null,0,0,0,null,null,null,null,0,0,null,0]
["апрель",null,null,null,null,null,null,null,null,null,null,0,0,0,null,null,null,0,0,0,null,null,null,null,0,0,null,0]
["май",null,null,null,null,null,null,null,null,null,null,0,0,0,null,null,null,0,0,0,null,null,null,null,0,0,null,0]
["июнь",null,null,null,null,null,null,null,null,null,null,0,0,0,null,null,null,0,0,0,null,null,null,null,0,0,null,0]
["июль",null,null,null,null,null,null,null,null,null,null,0,0,0,null,null,null,0,0,{"$f":"(L397-K397)*0.01","v":0},null,null,null,null,0,{"$f":"L397-Y397","v":0},null,0]
["август",null,null,null,null,null,null,null,null,null,null,0,0,0,null,null,null,0,0,{"$f":"(L398-K398)*0.01","v":0},null,null,null,null,0,{"$f":"L398-Y398","v":0},null,0]
["сентябрь",null,null,null,null,null,null,null,null,null,null,0,0,0,null,null,null,0,0,0,null,null,null,null,0,0,null,0]
["октябрь",null,null,null,null,null,null,null,null,null,null,0,0,0,null,null,null,0,0,0,null,null,null,null,0,0,null,0]
["ноябрь",null,null,null,null,null,null,null,null,null,null,0,0,0,null,null,null,0,0,0,null,null,null,null,0,0,null,0]
["декабрь",null,null,null,null,null,null,null,null,null,null,0,0,0,null,null,null,0,0,0,null,null,null,null,0,0,null,0]
[]
["* Заполняется по работникам, с которыми заключены гражданско-правовые договоры. \n** Налоговые вычеты предоставляются плательщику в соответствии со статьями 209-211, пунктом 1 статьи 212 Налогового кодекса Республики Беларусь."]
[]
[null,null,null,null,null,null,null,null,null,null,null,null,null,null,null,null,null,null,null,null,null,null,null,null,"№",16,"Стандартный вычет льготной категории:"]
["2.1. карточка лицевого счета",null,null,null,null,null,null,null,null,null,null,"16",null,null,null,null,null,null,null,null,null,null,null,null,"год",{"$f":"$Z$2","v":2019}]
[null,null,null,null,null,null,null,null,null,null,null,"(фамилия, собственное имя, отчество (если таковое имеется)"]
[null,null,null,null,null,null,null,null,null,null,null,null,null,null,null,null,null,null,null,null,null,null,null,null,"ставка:",1]
["(документы, подтверждающие право на вычеты)"]
[null,null,null,null,null,null,null,null,null,null,null,null,null,null,null,null,null,null,null,null,null,null,"должность: "]
["(дата и номер договора, условия договора)*"]
[null,null,null,null,null,null,null,null,null,null,null,null,null,null,null,null,null,null,null,null,null,null,null,null,null,"(руб.)"]
["Месяц","Начислено ",null,null,null,null,null,null,null,null,null,null,"Доходы, освобожда-емые от подоходного налога с физических лиц","Налоговые вычеты за месяц**",null,null,null,"Налоговая база \n(гр. 5 – гр. 6 – \n– гр. 7 – гр. 8 – гр. 9 - гр.10)","Удержано ",null,null,null,null,null,null,"К выплате за месяц\n(гр. 5 – гр. 14)"]
[null,"заработная плата за месяц","иные выплаты ",null,null,null,null,null,null,null,null,"итого за месяц",null,"стандартные","социальные ","имущественные","профессиональные",null,"подоходный налог с физических лиц за месяц","другие удержания за месяц ",null,null,null,null,"итого удержано за месяц\n(гр. 12 + гр. 13)"]
[null,null,"надбавка","премия","индексация","отпуск текущий","отпуск буд. периода","комп. за неисп. отпуск","прочие","мат. помощь","больничный",null,null,null,null,null,null,null,null,"ФСЗН","аванс","алименты","исп. лист","прочие"]
[1,2,3,"3а","3б","3в","3г","3д","3е",4,"4а",5,6,7,8,9,10,11,12,13,null,null,null,null,14,15,"Иждивенцы:","Вычеты:"]
["январь",null,null,null,null,null,null,null,null,null,null,{"$f":"SUM(B418:K418)","v":0},{"$f":"J418","v":0},{"$f":"IF($A$411=\"\",IF(L418=0,0,IF(L418<AB418,L418-M418,AB418)),0)","v":0},null,null,null,{"$f":"IF($A$411=\"\",L418-M418-N418-O418-P418-Q418,L418)","v":0},{"$f":"R418*0.13","v":0},{"$f":"(L418-K418)*0.01","v":0},null,null,null,null,{"$f":"SUM(S418:X418)","v":0},{"$f":"L418-Y418","v":0},null,{"$f":"IF(L418=0,0,IF(L418<=$AE$4,$AE$5+(IF(AA418<=1,$AE$8*AA418,$AE$9*AA418))+$AA$411,(IF(AA418<=1,$AE$8*AA418,$AE$9*AA418))+$AA$411))","v":0}]
["февраль",null,null,null,null,null,null,null,null,null,null,{"$f":"SUM(B419:K419)","v":0},{"$f":"J419","v":0},{"$f":"IF($A$411=\"\",IF(L419=0,0,IF(L419<AB419,L419-M419,AB419)),0)","v":0},null,null,null,{"$f":"IF($A$411=\"\",L419-M419-N419-O419-P419-Q419,L419)","v":0},{"$f":"R419*0.13","v":0},{"$f":"(L419-K419)*0.01","v":0},null,null,null,null,{"$f":"SUM(S419:X419)","v":0},0,null,{"$f":"IF(L419=0,0,IF(L419<=$AE$4,$AE$5+(IF(AA419<=1,$AE$8*AA419,$AE$9*AA419))+$AA$411,(IF(AA419<=1,$AE$8*AA419,$AE$9*AA419))+$AA$411))","v":0}]
["март",null,null,null,null,null,null,null,null,null,null,0,0,0,null,null,null,0,0,0,null,null,null,null,0,0,null,0]
["апрель",null,null,null,null,null,null,null,null,null,null,0,0,0,null,null,null,0,0,0,null,null,null,null,0,0,null,0]
["май",null,null,null,null,null,null,null,null,null,null,0,0,0,null,null,null,0,0,0,null,null,null,null,0,0,null,0]
["июнь",null,null,null,null,null,null,null,null,null,null,0,0,0,null,null,null,0,0,0,null,null,null,null,0,0,null,0]
["июль",null,null,null,null,null,null,null,null,null,null,0,0,0,null,null,null,0,0,{"$f":"(L424-K424)*0.01","v":0},null,null,null,null,0,{"$f":"L424-Y424","v":0},null,0]
["август",null,null,null,null,null,null,null,null,null,null,0,0,0,null,null,null,0,0,{"$f":"(L425-K425)*0.01","v":0},null,null,null,null,0,{"$f":"L425-Y425","v":0},null,0]
["сентябрь",null,null,null,null,null,null,null,null,null,null,0,0,0,null,null,null,0,0,0,null,null,null,null,0,0,null,0]
["октябрь",null,null,null,null,null,null,null,null,null,null,0,0,0,null,null,null,0,0,0,null,null,null,null,0,0,null,0]
["ноябрь",null,null,null,null,null,null,null,null,null,null,0,0,0,null,null,null,0,0,0,null,null,null,null,0,0,null,0]
["декабрь",null,null,null,null,null,null,null,null,null,null,0,0,0,null,null,null,0,0,0,null,null,null,null,0,0,null,0]
[]
["* Заполняется по работникам, с которыми заключены гражданско-правовые договоры. \n** Налоговые вычеты предоставляются плательщику в соответствии со статьями 209-211, пунктом 1 статьи 212 Налогового кодекса Республики Беларусь."]
[]
[null,null,null,null,null,null,null,null,null,null,null,null,null,null,null,null,null,null,null,null,null,null,null,null,"№",17,"Стандартный вычет льготной категории:"]
["2.1. карточка лицевого счета",null,null,null,null,null,null,null,null,null,null,"17",null,null,null,null,null,null,null,null,null,null,null,null,"год",{"$f":"$Z$2","v":2019}]
[null,null,null,null,null,null,null,null,null,null,null,"(фамилия, собственное имя, отчество (если таковое имеется)"]
[null,null,null,null,null,null,null,null,null,null,null,null,null,null,null,null,null,null,null,null,null,null,null,null,"ставка:",1]
["(документы, подтверждающие право на вычеты)"]
[null,null,null,null,null,null,null,null,null,null,null,null,null,null,null,null,null,null,null,null,null,null,"должность: "]
["(дата и номер договора, условия договора)*"]
[null,null,null,null,null,null,null,null,null,null,null,null,null,null,null,null,null,null,null,null,null,null,null,null,null,"(руб.)"]
["Месяц","Начислено ",null,null,null,null,null,null,null,null,null,null,"Доходы, освобожда-емые от подоходного налога с физических лиц","Налоговые вычеты за месяц**",null,null,null,"Налоговая база \n(гр. 5 – гр. 6 – \n– гр. 7 – гр. 8 – гр. 9 - гр.10)","Удержано ",null,null,null,null,null,null,"К выплате за месяц\n(гр. 5 – гр. 14)"]
[null,"заработная плата за месяц","иные выплаты ",null,null,null,null,null,null,null,null,"итого за месяц",null,"стандартные","социальные ","имущественные","профессиональные",null,"подоходный налог с физических лиц за месяц","другие удержания за месяц ",null,null,null,null,"итого удержано за месяц\n(гр. 12 + гр. 13)"]
[null,null,"надбавка","премия","индексация","отпуск текущий","отпуск буд. периода","комп. за неисп. отпуск","прочие","мат. помощь","больничный",null,null,null,null,null,null,null,null,"ФСЗН","аванс","алименты","исп. лист","прочие"]
[1,2,3,"3а","3б","3в","3г","3д","3е",4,"4а",5,6,7,8,9,10,11,12,13,null,null,null,null,14,15,"Иждивенцы:","Вычеты:"]
["январь",null,null,null,null,null,null,null,null,null,null,{"$f":"SUM(B445:K445)","v":0},{"$f":"J445","v":0},{"$f":"IF($A$438=\"\",IF(L445=0,0,IF(L445<AB445,L445-M445,AB445)),0)","v":0},null,null,null,{"$f":"IF($A$438=\"\",L445-M445-N445-O445-P445-Q445,L445)","v":0},{"$f":"R445*0.13","v":0},{"$f":"(L445-K445)*0.01","v":0},null,null,null,null,{"$f":"SUM(S445:X445)","v":0},{"$f":"L445-Y445","v":0},null,{"$f":"IF(L445=0,0,IF(L445<=$AE$4,$AE$5+(IF(AA445<=1,$AE$8*AA445,$AE$9*AA445))+$AA$438,(IF(AA445<=1,$AE$8*AA445,$AE$9*AA445))+$AA$438))","v":0}]
["февраль",null,null,null,null,null,null,null,null,null,null,{"$f":"SUM(B446:K446)","v":0},{"$f":"J446","v":0},{"$f":"IF($A$438=\"\",IF(L446=0,0,IF(L446<AB446,L446-M446,AB446)),0)","v":0},null,null,null,{"$f":"IF($A$438=\"\",L446-M446-N446-O446-P446-Q446,L446)","v":0},{"$f":"R446*0.13","v":0},{"$f":"(L446-K446)*0.01","v":0},null,null,null,null,{"$f":"SUM(S446:X446)","v":0},0,null,{"$f":"IF(L446=0,0,IF(L446<=$AE$4,$AE$5+(IF(AA446<=1,$AE$8*AA446,$AE$9*AA446))+$AA$438,(IF(AA446<=1,$AE$8*AA446,$AE$9*AA446))+$AA$438))","v":0}]
["март",null,null,null,null,null,null,null,null,null,null,0,0,0,null,null,null,0,0,0,null,null,null,null,0,0,null,0]
["апрель",null,null,null,null,null,null,null,null,null,null,0,0,0,null,null,null,0,0,0,null,null,null,null,0,0,null,0]
["май",null,null,null,null,null,null,null,null,null,null,0,0,0,null,null,null,0,0,0,null,null,null,null,0,0,null,0]
["июнь",null,null,null,null,null,null,null,null,null,null,0,0,0,null,null,null,0,0,0,null,null,null,null,0,0,null,0]
["июль",null,null,null,null,null,null,null,null,null,null,0,0,0,null,null,null,0,0,{"$f":"(L451-K451)*0.01","v":0},null,null,null,null,0,{"$f":"L451-Y451","v":0},null,0]
["август",null,null,null,null,null,null,null,null,null,null,0,0,0,null,null,null,0,0,{"$f":"(L452-K452)*0.01","v":0},null,null,null,null,0,{"$f":"L452-Y452","v":0},null,0]
["сентябрь",null,null,null,null,null,null,null,null,null,null,0,0,0,null,null,null,0,0,0,null,null,null,null,0,0,null,0]
["октябрь",null,null,null,null,null,null,null,null,null,null,0,0,0,null,null,null,0,0,0,null,null,null,null,0,0,null,0]
["ноябрь",null,null,null,null,null,null,null,null,null,null,0,0,0,null,null,null,0,0,0,null,null,null,null,0,0,null,0]
["декабрь",null,null,null,null,null,null,null,null,null,null,0,0,0,null,null,null,0,0,0,null,null,null,null,0,0,null,0]
[]
["* Заполняется по работникам, с которыми заключены гражданско-правовые договоры. \n** Налоговые вычеты предоставляются плательщику в соответствии со статьями 209-211, пунктом 1 статьи 212 Налогового кодекса Республики Беларусь."]
[]
[null,null,null,null,null,null,null,null,null,null,null,null,null,null,null,null,null,null,null,null,null,null,null,null,"№",18,"Стандартный вычет льготной категории:"]
["2.1. карточка лицевого счета",null,null,null,null,null,null,null,null,null,null,"18",null,null,null,null,null,null,null,null,null,null,null,null,"год",{"$f":"$Z$2","v":2019}]
[null,null,null,null,null,null,null,null,null,null,null,"(фамилия, собственное имя, отчество (если таковое имеется)"]
[null,null,null,null,null,null,null,null,null,null,null,null,null,null,null,null,null,null,null,null,null,null,null,null,"ставка:",1]
["(документы, подтверждающие право на вычеты)"]
[null,null,null,null,null,null,null,null,null,null,null,null,null,null,null,null,null,null,null,null,null,null,"должность: "]
["(дата и номер договора, условия договора)*"]
[null,null,null,null,null,null,null,null,null,null,null,null,null,null,null,null,null,null,null,null,null,null,null,null,null,"(руб.)"]
["Месяц","Начислено ",null,null,null,null,null,null,null,null,null,null,"Доходы, освобожда-емые от подоходного налога с физических лиц","Налоговые вычеты за месяц**",null,null,null,"Налоговая база \n(гр. 5 – гр. 6 – \n– гр. 7 – гр. 8 – гр. 9 - гр.10)","Удержано ",null,null,null,null,null,null,"К выплате за месяц\n(гр. 5 – гр. 14)"]
[null,"заработная плата за месяц","иные выплаты ",null,null,null,null,null,null,null,null,"итого за месяц",null,"стандартные","социальные ","имущественные","профессиональные",null,"подоходный налог с физических лиц за месяц","другие удержания за месяц ",null,null,null,null,"итого удержано за месяц\n(гр. 12 + гр. 13)"]
[null,null,"надбавка","премия","индексация","отпуск текущий","отпуск буд. периода","комп. за неисп. отпуск","прочие","мат. помощь","больничный",null,null,null,null,null,null,null,null,"ФСЗН","аванс","алименты","исп. лист","прочие"]
[1,2,3,"3а","3б","3в","3г","3д","3е",4,"4а",5,6,7,8,9,10,11,12,13,null,null,null,null,14,15,"Иждивенцы:","Вычеты:"]
["январь",null,null,null,null,null,null,null,null,null,null,{"$f":"SUM(B472:K472)","v":0},{"$f":"J472","v":0},{"$f":"IF($A$465=\"\",IF(L472=0,0,IF(L472<AB472,L472-M472,AB472)),0)","v":0},null,null,null,{"$f":"IF($A$465=\"\",L472-M472-N472-O472-P472-Q472,L472)","v":0},{"$f":"R472*0.13","v":0},{"$f":"(L472-K472)*0.01","v":0},null,null,null,null,{"$f":"SUM(S472:X472)","v":0},{"$f":"L472-Y472","v":0},null,{"$f":"IF(L472=0,0,IF(L472<=$AE$4,$AE$5+(IF(AA472<=1,$AE$8*AA472,$AE$9*AA472))+$AA$465,(IF(AA472<=1,$AE$8*AA472,$AE$9*AA472))+$AA$465))","v":0}]
["февраль",null,null,null,null,null,null,null,null,null,null,{"$f":"SUM(B473:K473)","v":0},{"$f":"J473","v":0},{"$f":"IF($A$465=\"\",IF(L473=0,0,IF(L473<AB473,L473-M473,AB473)),0)","v":0},null,null,null,{"$f":"IF($A$465=\"\",L473-M473-N473-O473-P473-Q473,L473)","v":0},{"$f":"R473*0.13","v":0},{"$f":"(L473-K473)*0.01","v":0},null,null,null,null,{"$f":"SUM(S473:X473)","v":0},0,null,{"$f":"IF(L473=0,0,IF(L473<=$AE$4,$AE$5+(IF(AA473<=1,$AE$8*AA473,$AE$9*AA473))+$AA$465,(IF(AA473<=1,$AE$8*AA473,$AE$9*AA473))+$AA$465))","v":0}]
["март",null,null,null,null,null,null,null,null,null,null,0,0,0,null,null,null,0,0,0,null,null,null,null,0,0,null,0]
["апрель",null,null,null,null,null,null,null,null,null,null,0,0,0,null,null,null,0,0,0,null,null,null,null,0,0,null,0]
["май",null,null,null,null,null,null,null,null,null,null,0,0,0,null,null,null,0,0,0,null,null,null,null,0,0,null,0]
["июнь",null,null,null,null,null,null,null,null,null,null,0,0,0,null,null,null,0,0,0,null,null,null,null,0,0,null,0]
["июль",null,null,null,null,null,null,null,null,null,null,0,0,0,null,null,null,0,0,{"$f":"(L478-K478)*0.01","v":0},null,null,null,null,0,{"$f":"L478-Y478","v":0},null,0]
["август",null,null,null,null,null,null,null,null,null,null,0,0,0,null,null,null,0,0,{"$f":"(L479-K479)*0.01","v":0},null,null,null,null,0,{"$f":"L479-Y479","v":0},null,0]
["сентябрь",null,null,null,null,null,null,null,null,null,null,0,0,0,null,null,null,0,0,0,null,null,null,null,0,0,null,0]
["октябрь",null,null,null,null,null,null,null,null,null,null,0,0,0,null,null,null,0,0,0,null,null,null,null,0,0,null,0]
["ноябрь",null,null,null,null,null,null,null,null,null,null,0,0,0,null,null,null,0,0,0,null,null,null,null,0,0,null,0]
["декабрь",null,null,null,null,null,null,null,null,null,null,0,0,0,null,null,null,0,0,0,null,null,null,null,0,0,null,0]
[]
["* Заполняется по работникам, с которыми заключены гражданско-правовые договоры. \n** Налоговые вычеты предоставляются плательщику в соответствии со статьями 209-211, пунктом 1 статьи 212 Налогового кодекса Республики Беларусь."]
[]
[null,null,null,null,null,null,null,null,null,null,null,null,null,null,null,null,null,null,null,null,null,null,null,null,"№",19,"Стандартный вычет льготной категории:"]
["2.1. карточка лицевого счета",null,null,null,null,null,null,null,null,null,null,"19",null,null,null,null,null,null,null,null,null,null,null,null,"год",{"$f":"$Z$2","v":2019}]
[null,null,null,null,null,null,null,null,null,null,null,"(фамилия, собственное имя, отчество (если таковое имеется)"]
[null,null,null,null,null,null,null,null,null,null,null,null,null,null,null,null,null,null,null,null,null,null,null,null,"ставка:",1]
["(документы, подтверждающие право на вычеты)"]
[null,null,null,null,null,null,null,null,null,null,null,null,null,null,null,null,null,null,null,null,null,null,"должность: "]
["(дата и номер договора, условия договора)*"]
[null,null,null,null,null,null,null,null,null,null,null,null,null,null,null,null,null,null,null,null,null,null,null,null,null,"(руб.)"]
["Месяц","Начислено ",null,null,null,null,null,null,null,null,null,null,"Доходы, освобожда-емые от подоходного налога с физических лиц","Налоговые вычеты за месяц**",null,null,null,"Налоговая база \n(гр. 5 – гр. 6 – \n– гр. 7 – гр. 8 – гр. 9 - гр.10)","Удержано ",null,null,null,null,null,null,"К выплате за месяц\n(гр. 5 – гр. 14)"]
[null,"заработная плата за месяц","иные выплаты ",null,null,null,null,null,null,null,null,"итого за месяц",null,"стандартные","социальные ","имущественные","профессиональные",null,"подоходный налог с физических лиц за месяц","другие удержания за месяц ",null,null,null,null,"итого удержано за месяц\n(гр. 12 + гр. 13)"]
[null,null,"надбавка","премия","индексация","отпуск текущий","отпуск буд. периода","комп. за неисп. отпуск","прочие","мат. помощь","больничный",null,null,null,null,null,null,null,null,"ФСЗН","аванс","алименты","исп. лист","прочие"]
[1,2,3,"3а","3б","3в","3г","3д","3е",4,"4а",5,6,7,8,9,10,11,12,13,null,null,null,null,14,15,"Иждивенцы:","Вычеты:"]
["январь",null,null,null,null,null,null,null,null,null,null,{"$f":"SUM(B499:K499)","v":0},{"$f":"J499","v":0},{"$f":"IF($A$492=\"\",IF(L499=0,0,IF(L499<AB499,L499-M499,AB499)),0)","v":0},null,null,null,{"$f":"IF($A$492=\"\",L499-M499-N499-O499-P499-Q499,L499)","v":0},{"$f":"R499*0.13","v":0},{"$f":"(L499-K499)*0.01","v":0},null,null,null,null,{"$f":"SUM(S499:X499)","v":0},{"$f":"L499-Y499","v":0},null,{"$f":"IF(L499=0,0,IF(L499<=$AE$4,$AE$5+(IF(AA499<=1,$AE$8*AA499,$AE$9*AA499))+$AA$492,(IF(AA499<=1,$AE$8*AA499,$AE$9*AA499))+$AA$492))","v":0}]
["февраль",null,null,null,null,null,null,null,null,null,null,{"$f":"SUM(B500:K500)","v":0},{"$f":"J500","v":0},{"$f":"IF($A$492=\"\",IF(L500=0,0,IF(L500<AB500,L500-M500,AB500)),0)","v":0},null,null,null,{"$f":"IF($A$492=\"\",L500-M500-N500-O500-P500-Q500,L500)","v":0},{"$f":"R500*0.13","v":0},{"$f":"(L500-K500)*0.01","v":0},null,null,null,null,{"$f":"SUM(S500:X500)","v":0},0,null,{"$f":"IF(L500=0,0,IF(L500<=$AE$4,$AE$5+(IF(AA500<=1,$AE$8*AA500,$AE$9*AA500))+$AA$492,(IF(AA500<=1,$AE$8*AA500,$AE$9*AA500))+$AA$492))","v":0}]
["март",null,null,null,null,null,null,null,null,null,null,0,0,0,null,null,null,0,0,0,null,null,null,null,0,0,null,0]
["апрель",null,null,null,null,null,null,null,null,null,null,0,0,0,null,null,null,0,0,0,null,null,null,null,0,0,null,0]
["май",null,null,null,null,null,null,null,null,null,null,0,0,0,null,null,null,0,0,0,null,null,null,null,0,0,null,0]
["июнь",null,null,null,null,null,null,null,null,null,null,0,0,0,null,null,null,0,0,0,null,null,null,null,0,0,null,0]
["июль",null,null,null,null,null,null,null,null,null,null,0,0,0,null,null,null,0,0,{"$f":"(L505-K505)*0.01","v":0},null,null,null,null,0,{"$f":"L505-Y505","v":0},null,0]
["август",null,null,null,null,null,null,null,null,null,null,0,0,0,null,null,null,0,0,{"$f":"(L506-K506)*0.01","v":0},null,null,null,null,0,{"$f":"L506-Y506","v":0},null,0]
["сентябрь",null,null,null,null,null,null,null,null,null,null,0,0,0,null,null,null,0,0,0,null,null,null,null,0,0,null,0]
["октябрь",null,null,null,null,null,null,null,null,null,null,0,0,0,null,null,null,0,0,0,null,null,null,null,0,0,null,0]
["ноябрь",null,null,null,null,null,null,null,null,null,null,0,0,0,null,null,null,0,0,0,null,null,null,null,0,0,null,0]
["декабрь",null,null,null,null,null,null,null,null,null,null,0,0,0,null,null,null,0,0,0,null,null,null,null,0,0,null,0]
[]
["* Заполняется по работникам, с которыми заключены гражданско-правовые договоры. \n** Налоговые вычеты предоставляются плательщику в соответствии со статьями 209-211, пунктом 1 статьи 212 Налогового кодекса Республики Беларусь."]
[]
[null,null,null,null,null,null,null,null,null,null,null,null,null,null,null,null,null,null,null,null,null,null,null,null,"№",20,"Стандартный вычет льготной категории:"]
["2.1. карточка лицевого счета",null,null,null,null,null,null,null,null,null,null,"20",null,null,null,null,null,null,null,null,null,null,null,null,"год",{"$f":"$Z$2","v":2019}]
[null,null,null,null,null,null,null,null,null,null,null,"(фамилия, собственное имя, отчество (если таковое имеется)"]
[null,null,null,null,null,null,null,null,null,null,null,null,null,null,null,null,null,null,null,null,null,null,null,null,"ставка:",1]
["(документы, подтверждающие право на вычеты)"]
[null,null,null,null,null,null,null,null,null,null,null,null,null,null,null,null,null,null,null,null,null,null,"должность: "]
["(дата и номер договора, условия договора)*"]
[null,null,null,null,null,null,null,null,null,null,null,null,null,null,null,null,null,null,null,null,null,null,null,null,null,"(руб.)"]
["Месяц","Начислено ",null,null,null,null,null,null,null,null,null,null,"Доходы, освобожда-емые от подоходного налога с физических лиц","Налоговые вычеты за месяц**",null,null,null,"Налоговая база \n(гр. 5 – гр. 6 – \n– гр. 7 – гр. 8 – гр. 9 - гр.10)","Удержано ",null,null,null,null,null,null,"К выплате за месяц\n(гр. 5 – гр. 14)"]
[null,"заработная плата за месяц","иные выплаты ",null,null,null,null,null,null,null,null,"итого за месяц",null,"стандартные","социальные ","имущественные","профессиональные",null,"подоходный налог с физических лиц за месяц","другие удержания за месяц ",null,null,null,null,"итого удержано за месяц\n(гр. 12 + гр. 13)"]
[null,null,"надбавка","премия","индексация","отпуск текущий","отпуск буд. периода","комп. за неисп. отпуск","прочие","мат. помощь","больничный",null,null,null,null,null,null,null,null,"ФСЗН","аванс","алименты","исп. лист","прочие"]
[1,2,3,"3а","3б","3в","3г","3д","3е",4,"4а",5,6,7,8,9,10,11,12,13,null,null,null,null,14,15,"Иждивенцы:","Вычеты:"]
["январь",null,null,null,null,null,null,null,null,null,null,{"$f":"SUM(B526:K526)","v":0},{"$f":"J526","v":0},{"$f":"IF($A$519=\"\",IF(L526=0,0,IF(L526<AB526,L526-M526,AB526)),0)","v":0},null,null,null,{"$f":"IF($A$519=\"\",L526-M526-N526-O526-P526-Q526,L526)","v":0},{"$f":"R526*0.13","v":0},{"$f":"(L526-K526)*0.01","v":0},null,null,null,null,{"$f":"SUM(S526:X526)","v":0},{"$f":"L526-Y526","v":0},null,{"$f":"IF(L526=0,0,IF(L526<=$AE$4,$AE$5+(IF(AA526<=1,$AE$8*AA526,$AE$9*AA526))+$AA$519,(IF(AA526<=1,$AE$8*AA526,$AE$9*AA526))+$AA$519))","v":0}]
["февраль",null,null,null,null,null,null,null,null,null,null,{"$f":"SUM(B527:K527)","v":0},{"$f":"J527","v":0},{"$f":"IF($A$519=\"\",IF(L527=0,0,IF(L527<AB527,L527-M527,AB527)),0)","v":0},null,null,null,{"$f":"IF($A$519=\"\",L527-M527-N527-O527-P527-Q527,L527)","v":0},{"$f":"R527*0.13","v":0},{"$f":"(L527-K527)*0.01","v":0},null,null,null,null,{"$f":"SUM(S527:X527)","v":0},0,null,{"$f":"IF(L527=0,0,IF(L527<=$AE$4,$AE$5+(IF(AA527<=1,$AE$8*AA527,$AE$9*AA527))+$AA$519,(IF(AA527<=1,$AE$8*AA527,$AE$9*AA527))+$AA$519))","v":0}]
["март",null,null,null,null,null,null,null,null,null,null,0,0,0,null,null,null,0,0,0,null,null,null,null,0,0,null,0]
["апрель",null,null,null,null,null,null,null,null,null,null,0,0,0,null,null,null,0,0,0,null,null,null,null,0,0,null,0]
["май",null,null,null,null,null,null,null,null,null,null,0,0,0,null,null,null,0,0,0,null,null,null,null,0,0,null,0]
["июнь",null,null,null,null,null,null,null,null,null,null,0,0,0,null,null,null,0,0,0,null,null,null,null,0,0,null,0]
["июль",null,null,null,null,null,null,null,null,null,null,0,0,0,null,null,null,0,0,{"$f":"(L532-K532)*0.01","v":0},null,null,null,null,0,{"$f":"L532-Y532","v":0},null,0]
["август",null,null,null,null,null,null,null,null,null,null,0,0,0,null,null,null,0,0,{"$f":"(L533-K533)*0.01","v":0},null,null,null,null,0,{"$f":"L533-Y533","v":0},null,0]
["сентябрь",null,null,null,null,null,null,null,null,null,null,0,0,0,null,null,null,0,0,0,null,null,null,null,0,0,null,0]
["октябрь",null,null,null,null,null,null,null,null,null,null,0,0,0,null,null,null,0,0,0,null,null,null,null,0,0,null,0]
["ноябрь",null,null,null,null,null,null,null,null,null,null,0,0,0,null,null,null,0,0,0,null,null,null,null,0,0,null,0]
["декабрь",null,null,null,null,null,null,null,null,null,null,0,0,0,null,null,null,0,0,0,null,null,null,null,0,0,null,0]
[]
["* Заполняется по работникам, с которыми заключены гражданско-правовые договоры. \n** Налоговые вычеты предоставляются плательщику в соответствии со статьями 209-211, пунктом 1 статьи 212 Налогового кодекса Республики Беларусь."]
[]
["Карточка учёта дивидендов и уплаченного подоходного налога для учредителя предприятия"]
[]
[]
["2.1. (а) карточка лицевого счета",null,null,null,null,null,null,null,null,null,null,1]
[null,null,null,null,null,null,null,null,null,null,null,"(фамилия, собственное имя, отчество (если таковое имеется)"]
["Месяц выплаты","Дата выплаты","Сумма начисления",null,null,null,null,"Ставка подоходного налога (%)",null,null,null,"Сумма подоходного налога",null,"К выдаче (перечислению)",null,null,"Для заметок"]
["январь",null,null,null,null,null,null,0.13,null,null,null,{"$f":"C547*H547","v":0},null,{"$f":"C547-L547","v":0}]
["февраль",null,null,null,null,null,null,0.13,null,null,null,{"$f":"C548*H548","v":0},null,{"$f":"C548-L548","v":0}]
["март",null,null,null,null,null,null,0.13,null,null,null,0,null,0]
["I квартал",null,{"$f":"SUM(C547:G549)","v":0},null,null,null,null,null,null,null,null,{"$f":"SUM(L547:M549)","v":0},null,{"$f":"SUM(N547:P549)","v":0}]
["апрель",null,null,null,null,null,null,0.13,null,null,null,0,null,0]
["май",null,null,null,null,null,null,0.13,null,null,null,0,null,0]
["июнь",null,null,null,null,null,null,0.13,null,null,null,0,null,0]
["II квартал",null,{"$f":"SUM(C551:G553)","v":0},null,null,null,null,null,null,null,null,{"$f":"SUM(L551:M553)","v":0},null,{"$f":"SUM(N551:P553)","v":0}]
["июль",null,null,null,null,null,null,0.13,null,null,null,0,null,0]
["август",null,null,null,null,null,null,0.13,null,null,null,0,null,0]
["сентябрь",null,null,null,null,null,null,0.13,null,null,null,0,null,0]
["III квартал",null,{"$f":"SUM(C555:G557)","v":0},null,null,null,null,null,null,null,null,{"$f":"SUM(L555:M557)","v":0},null,{"$f":"SUM(N555:P557)","v":0}]
["октябрь",null,null,null,null,null,null,0.13,null,null,null,0,null,0]
["ноябрь",null,null,null,null,null,null,0.13,null,null,null,0,null,0]
["декабрь",null,null,null,null,null,null,0.13,null,null,null,0,null,0]
["IV квартал",null,{"$f":"SUM(C559:G561)","v":0},null,null,null,null,null,null,null,null,{"$f":"SUM(L559:M561)","v":0},null,{"$f":"SUM(N559:P561)","v":0}]
["ИТОГО ЗА ГОД",null,{"$f":"C550+C554+C558+C562","v":0},null,null,null,null,"X",null,null,null,{"$f":"L550+L554+L558+L562","v":0},null,{"$f":"N550+N554+N558+N562","v":0}]

{"sheet":"Платежи по подоходному налогу","index":9,"n_rows":31,"n_cols":7,"rows_kept":31,"cut":false,"hidden":false,"merged":[[30,1,30,2],[5,1,5,2],[0,1,0,6],[4,4,4,6],[2,1,3,1],[2,2,3,2],[2,3,2,6],[3,4,3,6]]}
[null,"2.2. учет исчисленных и перечисленных сумм подоходного налога с физических лиц:"]
[null,null,null,null,null,null,"(руб.)"]
[null,"№ п/п","Месяц","Сумма подоходного налога с физических лиц "]
[null,null,null,"начислено","перечислено, дата и номер платежной инструкции "]
[null,1,2,3,4]
[null,"Остаток на начало года"]
[null,1,"Январь",{"$f":"'Карточки лицевых счетов'!AD13","v":0},{"$f":"D7","v":0}]
[null,null,null,null,{"$f":"D8","v":0}]
[null,2,"Февраль",{"$f":"'Карточки лицевых счетов'!AD14","v":0},{"$f":"D9","v":0}]
[null,null,null,null,0]
[null,3,"Март",{"$f":"'Карточки лицевых счетов'!AD15","v":0},0]
[null,null,null,null,0]
[null,4,"Апрель",{"$f":"'Карточки лицевых счетов'!AD16","v":0},0]
[null,null,null,null,0]
[null,5,"Май",{"$f":"'Карточки лицевых счетов'!AD17","v":0},0]
[null,null,null,null,0]
[null,6,"Июнь",{"$f":"'Карточки лицевых счетов'!AD18","v":0},0]
[null,null,null,null,0]
[null,7,"Июль",{"$f":"'Карточки лицевых счетов'!AD19","v":0},0]
[null,null,null,null,0]
[null,8,"Август",{"$f":"'Карточки лицевых счетов'!AD20","v":0},0]
[null,null,null,null,0]
[null,9,"Сентябрь",{"$f":"'Карточки лицевых счетов'!AD21","v":0},0]
[null,null,null,null,0]
[null,10,"Октябрь",{"$f":"'Карточки лицевых счетов'!AD22","v":0},0]
[null,null,null,null,0]
[null,11,"Ноябрь",{"$f":"'Карточки лицевых счетов'!AD23","v":0},0]
[null,null,null,null,0]
[null,12,"Декабрь",{"$f":"'Карточки лицевых счетов'!AD24","v":0},0]
[null,null,null,null,0]
[null,"Всего за год",null,{"$f":"SUM(D6:D30)","v":0},{"$f":"SUM(E6:E30)","v":0}]

{"sheet":"Дивиденды","index":10,"n_rows":19,"n_cols":10,"rows_kept":19,"cut":false,"hidden":false,"merged":[[3,1,5,1],[3,0,5,0],[6,7,6,8],[3,2,3,3],[3,4,3,9],[4,2,5,2],[4,3,5,3],[4,4,5,4],[4,5,5,5],[4,6,5,6],[4,7,4,9],[5,7,5,8]]}
[]
["3. Налог на прибыль по дивидендам, начисленным белорусским организациям:"]
[]
["№\nп/п","Наименование\nорганизации","Начислено дивидендов",null,"Налог на прибыль"]
[null,null,"дата\nначисления","сумма,\nруб.","налоговая база,\nруб.","ставка\nналога, %","сумма\nналога, руб.","перечислено налога"]
[null,null,null,null,null,null,null,"дата и номер платежной\nинструкции",null,"сумма, руб."]
[1,2,3,4,5,6,7,8,null,9]
[1,null,null,null,{"$f":"D8","v":0},null,{"$f":"E8*F8","v":0}]
[{"$f":"IF(B9<>\"\",A8+1,\"\")","v":""},null,null,null,{"$f":"D9","v":0},null,{"$f":"E9*F9","v":0}]
[{"$f":"IF(B10<>\"\",A9+1,\"\")","v":""},null,null,null,0,null,0]
["",null,null,null,0,null,0]
["",null,null,null,0,null,0]
["",null,null,null,0,null,0]
["",null,null,null,0,null,0]
["",null,null,null,0,null,0]
["",null,null,null,0,null,0]
["",null,null,null,0,null,0]
["",null,null,null,0,null,0]
["",null,null,null,0,null,0]

{"sheet":"Раздел III","index":11,"n_rows":50,"n_cols":8,"rows_kept":50,"cut":false,"hidden":false,"merged":[[9,2,9,4],[9,5,9,6],[10,2,10,4],[10,5,10,6],[11,2,11,4],[11,5,11,6],[1,1,1,7],[2,1,2,7],[4,2,4,4],[4,5,4,6],[5,2,5,4],[5,5,5,6],[6,2,6,4],[6,5,6,6],[7,2,7,4],[7,5,7,6],[8,2,8,4],[8,5,8,6],[14,2,14,4],[14,5,14,6],[15,2,15,4],[15,5,15,6],[12,2,12,4],[12,5,12,6],[13,2,13,4],[13,5,13,6],[18,2,18,4],[18,5,18,6],[19,2,19,4],[19,5,19,6],[16,2,16,4],[16,5,16,6],[17,2,17,4],[17,5,17,6],[22,2,22,4],[22,5,22,6],[23,2,23,4],[23,5,23,6],[20,2,20,4],[20,5,20,6],[21,2,21,4],[21,5,21,6]]}
[]
[null,"РАЗДЕЛ III"]
[null,"УЧЁТ СТОИМОСТИ ПАЁВ ЧЛЕНОВ ПРОИЗВОДСТВЕННОГО КООПЕРАТИВА"]
[null,"1. Расчет стоимости чистых активов организации:"]
[null,"№ п/п","Наименование показателей ",null,null,"На начало отчетного периода "]
[null,1,"Активы - всего (сумма строк 2 - 11) ",null,null,{"$f":"SUM(F7:G16)","v":0}]
[null,2,"Основные средства "]
[null,3,"Нематериальные активы "]
[null,4,"Вложения во внеоборотные активы "]
[null,5,"Запасы и затраты "]
[null,6,"Готовая продукция и товары "]
[null,7,"Товары отгруженные "]
[null,8,"Дебиторская задолженность "]
[null,9,"Финансовые вложения "]
[null,10,"Денежные средства "]
[null,11,"Прочие активы "]
[null,12,"Пассивы - всего (сумма строк 13 - 18) ",null,null,{"$f":"SUM(F18:G23)","v":0}]
[null,13,"Целевое финансирование "]
[null,14,"Заемные средства "]
[null,15,"Кредиторская задолженность "]
[null,16,"Резервы предстоящих расходов "]
[null,17,"Доходы будущих периодов "]
[null,18,"Прочие пассивы "]
[null,19,"Стоимость чистых активов (строка 1 минус строка 12) ",null,null,{"$f":"F6-F17","v":0}]
[null,"№ п/п","Фамилия, собственное имя, отчество ","Размер пая (%) ","Размер паевых взносов (руб.) ","Выплачена стоимость пая (руб.) ","Выдано иное имущество (руб.) ","Иные выплаты при выходе из кооператива (руб.) "]
[null,1,2,3,4,5,6,7]
[null,1]
[null,{"$f":"IF(C28<>\"\",B27+1,\"\")","v":""}]
[null,{"$f":"IF(C29<>\"\",B28+1,\"\")","v":""}]
[null,""]
[null,""]
[null,""]
[null,""]
[null,""]
[null,""]
[null,""]
[null,""]
[null,""]
[null,""]
[null,""]
[null,""]
[null,""]
[null,""]
[null,""]
[null,""]
[null,""]
[null,""]
[null,""]
[null,""]
[null,""]

{"sheet":"Карточки учёта по ФСЗН","index":12,"n_rows":701,"n_cols":31,"rows_kept":701,"cut":false,"hidden":false,"merged":[[670,0,670,13],[671,0,671,13],[672,0,672,13],[673,0,673,13],[674,21,674,22],[675,1,675,10],[675,11,677,11],[675,12,676,13],[675,14,675,22],[676,6,677,6],[676,7,677,7],[676,8,677,8],[676,9,677,9],[676,10,677,10],[676,14,676,19],[676,20,677,20],[676,21,677,21],[676,22,677,22],[675,0,677,0],[676,1,677,1],[676,2,677,2],[641,9,642,9],[641,10,642,10],[641,14,641,19],[641,20,642,20],[641,21,642,21],[641,22,642,22],[667,0,667,22],[668,0,668,22],[669,0,669,22],[640,11,642,11],[640,12,641,13],[640,14,640,22],[641,6,642,6],[641,7,642,7],[641,8,642,8],[640,1,640,10],[571,20,572,20],[571,21,572,21],[571,22,572,22],[604,21,604,22],[605,1,605,10],[605,11,607,11],[605,12,606,13],[605,14,605,22],[606,6,607,6],[606,7,607,7],[606,8,607,8],[606,9,607,9],[606,10,607,10],[606,14,606,19],[606,20,607,20],[606,21,607,21],[606,22,607,22],[597,0,597,22],[598,0,598,22],[599,0,599,22],[600,0,600,13],[601,0,601,13],[602,0,602,13],[603,0,603,13],[527,0,527,22],[528,0,528,22],[529,0,529,22],[530,0,530,13],[531,0,531,13],[532,0,532,13],[533,0,533,13],[534,21,534,22],[535,1,535,10],[535,11,537,11],[535,12,536,13],[535,14,535,22],[536,6,537,6],[536,7,537,7],[536,8,537,8],[536,9,537,9],[536,10,537,10],[536,14,536,19],[536,20,537,20],[536,21,537,21],[536,22,537,22],[463,0,463,13],[464,21,464,22],[465,1,465,10],[465,11,467,11],[465,12,466,13],[465,14,465,22],[466,6,467,6],[466,7,467,7],[466,8,467,8],[466,9,467,9],[466,10,467,10],[466,14,466,19],[466,20,467,20],[466,21,467,21],[466,22,467,22],[459,0,459,22],[460,0,460,13],[461,0,461,13],[462,0,462,13],[457,0,457,22],[458,0,458,22],[430,0,432,0],[431,1,432,1],[431,2,432,2],[431,3,432,3],[431,4,432,4],[431,5,432,5],[358,0,358,13],[359,21,359,22],[360,1,360,10],[360,11,362,11],[360,12,361,13],[360,14,360,22],[361,6,362,6],[361,7,362,7],[361,8,362,8],[361,9,362,9],[361,10,362,10],[361,14,361,19],[361,20,362,20],[361,21,362,21],[361,22,362,22],[354,0,354,22],[355,0,355,13],[356,0,356,13],[357,0,357,13],[352,0,352,22],[353,0,353,22],[325,0,327,0],[326,1,327,1],[326,2,327,2],[326,3,327,3],[326,4,327,4],[326,5,327,5],[253,0,253,13],[254,21,254,22],[255,1,255,10],[255,11,257,11],[255,12,256,13],[255,14,255,22],[256,6,257,6],[256,7,257,7],[256,8,257,8],[256,9,257,9],[256,10,257,10],[256,14,256,19],[256,20,257,20],[256,21,257,21],[256,22,257,22],[249,0,249,22],[250,0,250,13],[251,0,251,13],[252,0,252,13],[247,0,247,22],[248,0,248,22],[220,0,222,0],[221,1,222,1],[221,2,222,2],[221,3,222,3],[221,4,222,4],[221,5,222,5],[148,0,148,13],[149,21,149,22],[150,1,150,10],[150,11,152,11],[150,12,151,13],[150,14,150,22],[151,6,152,6],[151,7,152,7],[151,8,152,8],[151,9,152,9],[151,10,152,10],[151,14,151,19],[151,20,152,20],[151,21,152,21],[151,22,152,22],[144,0,144,22],[145,0,145,13],[146,0,146,13],[147,0,147,13],[142,0,142,22],[143,0,143,22],[115,0,117,0],[116,1,117,1],[116,2,117,2],[116,3,117,3],[116,4,117,4],[116,5,117,5],[76,0,76,13],[77,0,77,13],[78,0,78,13],[79,21,79,22],[80,1,80,10],[80,11,82,11],[80,12,81,13],[80,14,80,22],[81,6,82,6],[81,7,82,7],[81,8,82,8],[81,9,82,9],[81,10,82,10],[81,14,81,19],[81,20,82,20],[81,21,82,21],[81,22,82,22],[80,0,82,0],[81,1,82,1],[81,2,82,2],[81,3,82,3],[81,4,82,4],[81,5,82,5],[12,24,13,24],[12,25,13,25],[12,26,13,26],[12,27,13,27],[12,28,13,28],[37,0,37,22],[38,0,38,22],[39,0,39,22],[40,0,40,13],[3,0,3,22],[4,0,4,22],[5,0,5,13],[6,0,6,13],[7,0,7,13],[8,0,8,13],[9,21,9,22],[10,1,10,10],[10,11,12,11],[10,12,11,13],[10,14,10,22],[11,6,12,6],[11,7,12,7],[11,8,12,8],[11,9,12,9],[11,10,12,10],[11,14,11,19],[11,20,12,20],[11,21,12,21],[11,22,12,22],[11,5,12,5],[11,4,12,4],[492,0,492,22],[493,0,493,22],[465,0,467,0],[466,1,467,1],[466,2,467,2],[466,3,467,3],[466,4,467,4],[466,5,467,5],[494,0,494,22],[495,0,495,13],[496,0,496,13],[497,0,497,13],[498,0,498,13],[499,21,499,22],[500,1,500,10],[500,11,502,11],[500,12,501,13],[500,14,500,22],[501,6,502,6],[501,7,502,7],[501,8,502,8],[501,9,502,9],[501,10,502,10],[501,14,501,19],[501,20,502,20],[501,21,502,21],[501,22,502,22],[501,2,502,2],[501,3,502,3],[501,4,502,4],[501,5,502,5],[500,0,502,0],[501,1,502,1],[422,0,422,22],[423,0,423,22],[424,0,424,22],[425,0,425,13],[426,0,426,13],[427,0,427,13],[428,0,428,13],[429,21,429,22],[430,1,430,10],[430,11,432,11],[430,12,431,13],[430,14,430,22],[431,6,432,6],[431,7,432,7],[431,8,432,8],[431,9,432,9],[431,10,432,10],[431,14,431,19],[431,20,432,20],[431,21,432,21],[431,22,432,22],[387,0,387,22],[388,0,388,22],[360,0,362,0],[361,1,362,1],[361,2,362,2],[361,3,362,3],[361,4,362,4],[361,5,362,5],[389,0,389,22],[390,0,390,13],[391,0,391,13],[392,0,392,13],[393,0,393,13],[394,21,394,22],[395,1,395,10],[395,11,397,11],[395,12,396,13],[395,14,395,22],[396,6,397,6],[396,7,397,7],[396,8,397,8],[396,9,397,9],[396,10,397,10],[396,14,396,19],[396,20,397,20],[396,21,397,21],[396,22,397,22],[395,0,397,0],[396,1,397,1],[396,2,397,2],[396,3,397,3],[396,4,397,4],[396,5,397,5],[317,0,317,22],[318,0,318,22],[319,0,319,22],[320,0,320,13],[321,0,321,13],[322,0,322,13],[323,0,323,13],[324,21,324,22],[325,1,325,10],[325,11,327,11],[325,12,326,13],[325,14,325,22],[326,6,327,6],[326,7,327,7],[326,8,327,8],[326,9,327,9],[326,10,327,10],[326,14,326,19],[326,20,327,20],[326,21,327,21],[326,22,327,22],[282,0,282,22],[283,0,283,22],[255,0,257,0],[256,1,257,1],[256,2,257,2],[256,3,257,3],[256,4,257,4],[256,5,257,5],[284,0,284,22],[285,0,285,13],[286,0,286,13],[287,0,287,13],[288,0,288,13],[289,21,289,22],[290,1,290,10],[290,11,292,11],[290,12,291,13],[290,14,290,22],[291,6,292,6],[291,7,292,7],[291,8,292,8],[291,9,292,9],[291,10,292,10],[291,14,291,19],[291,20,292,20],[291,21,292,21],[291,22,292,22],[290,0,292,0],[291,1,292,1],[291,2,292,2],[291,3,292,3],[291,4,292,4],[291,5,292,5],[212,0,212,22],[213,0,213,22],[214,0,214,22],[215,0,215,13],[216,0,216,13],[217,0,217,13],[218,0,218,13],[219,21,219,22],[220,1,220,10],[220,11,222,11],[220,12,221,13],[220,14,220,22],[221,6,222,6],[221,7,222,7],[221,8,222,8],[221,9,222,9],[221,10,222,10],[221,14,221,19],[221,20,222,20],[221,21,222,21],[221,22,222,22],[177,0,177,22],[178,0,178,22],[150,0,152,0],[151,1,152,1],[151,2,152,2],[151,3,152,3],[151,4,152,4],[151,5,152,5],[179,0,179,22],[180,0,180,13],[181,0,181,13],[182,0,182,13],[183,0,183,13],[184,21,184,22],[185,1,185,10],[185,11,187,11],[185,12,186,13],[185,14,185,22],[186,6,187,6],[186,7,187,7],[186,8,187,8],[186,9,187,9],[186,10,187,10],[186,14,186,19],[186,20,187,20],[186,21,187,21],[186,22,187,22],[185,0,187,0],[186,1,187,1],[186,2,187,2],[186,3,187,3],[186,4,187,4],[186,5,187,5],[107,0,107,22],[108,0,108,22],[109,0,109,22],[110,0,110,13],[111,0,111,13],[112,0,112,13],[113,0,113,13],[114,21,114,22],[115,1,115,10],[115,11,117,11],[115,12,116,13],[115,14,115,22],[116,6,117,6],[116,7,117,7],[116,8,117,8],[116,9,117,9],[116,10,117,10],[116,14,116,19],[116,20,117,20],[116,21,117,21],[116,22,117,22],[42,0,42,13],[43,0,43,13],[44,21,44,22],[45,1,45,10],[45,11,47,11],[45,12,46,13],[45,14,45,22],[46,6,47,6],[46,7,47,7],[46,8,47,8],[46,9,47,9],[46,10,47,10],[46,14,46,19],[46,20,47,20],[46,21,47,21],[46,22,47,22],[0,0,0,22],[1,0,1,22],[2,0,2,22],[11,2,12,2],[11,3,12,3],[45,0,47,0],[46,1,47,1],[535,0,537,0],[536,1,537,1],[536,2,537,2],[536,3,537,3],[536,4,537,4],[536,5,537,5],[73,0,73,22],[74,0,74,22],[75,0,75,13],[46,2,47,2],[46,3,47,3],[46,4,47,4],[46,5,47,5],[72,0,72,22],[11,1,12,1],[10,0,12,0],[41,0,41,13],[562,0,562,22],[563,0,563,22],[564,0,564,22],[565,0,565,13],[566,0,566,13],[567,0,567,13],[568,0,568,13],[570,0,572,0],[571,1,572,1],[571,2,572,2],[571,3,572,3],[571,4,572,4],[571,5,572,5],[569,21,569,22],[570,1,570,10],[570,11,572,11],[570,12,571,13],[570,14,570,22],[571,6,572,6],[571,7,572,7],[571,8,572,8],[571,9,572,9],[571,10,572,10],[571,14,571,19],[11,27,11,28],[605,0,607,0],[606,1,607,1],[606,2,607,2],[606,3,607,3],[606,4,607,4],[606,5,607,5],[676,3,677,3],[676,4,677,4],[676,5,677,5],[641,5,642,5],[632,0,632,22],[633,0,633,22],[634,0,634,22],[635,0,635,13],[636,0,636,13],[637,0,637,13],[638,0,638,13],[640,0,642,0],[641,1,642,1],[641,2,642,2],[641,3,642,3],[641,4,642,4],[639,21,639,22]]}
["РАЗДЕЛ IV"]
["УЧЕТ ИСЧИСЛЕНИЯ И УПЛАТЫ ОБЯЗАТЕЛЬНЫХ СТРАХОВЫХ ВЗНОСОВ И ИНЫХ ПЛАТЕЖЕЙ В БЮДЖЕТ ГОСУДАРСТВЕННОГО ВНЕБЮДЖЕТНОГО ФОНДА СОЦИАЛЬНОЙ ЗАЩИТЫ НАСЕЛЕНИЯ РЕСПУБЛИКИ БЕЛАРУСЬ (ДАЛЕЕ - БЮДЖЕТ ФОНДА)"]
["1. Карточка  учета  начисленных  обязательных  страховых взносов в бюджет фонда и пособий из средств бюджета фонда"]
[{"$f":"'Карточки лицевых счетов'!L2","v":"1"},null,null,null,null,null,null,null,null,null,null,null,null,null,null,null,null,null,null,null,null,null,null,1]
["(фамилия, собственное имя, отчество (если таковое имеется) работника)"]
[null,null,null,null,null,null,null,null,null,null,null,null,null,null,null,null,0.35,"- размер страховых взносов в ФСЗН"]
["(дата и номер договора, дата выплаты вознаграждения)*"]
[]
["(группа и период инвалидности)**"]
[null,null,null,null,null,null,null,null,null,null,null,null,null,null,null,null,null,null,null,null,null,"(руб.)"]
["Месяц ","Выплаты в денежном и (или) натуральном выражении, начисленные в пользу работника",null,null,null,null,null,null,null,null,null,"Выплаты, на которые начисляются страховые взносы","Сумма начисленных страховых взносов ",null,"Начислено пособий "]
[null,"основная заработная плата","надбавка","премия","индексация","отпуск","комп. за неисп. отпуск","прочие","мат. помощь","больничный","итого \n(гр. 2 + гр. 3 + гр. 4 + гр. 5) ",null,null,null,"сумма ",null,null,null,null,null,"за какой месяц","количество рабочих дней ","количество пособий",null,"ИТОГИ"]
[null,null,null,null,null,null,null,null,null,null,null,null,"всего","в том числе 1% ","пособия по временной нетрудо-способности","пособия по беремен-ности и родам","единовре-менные пособия","пособия по уходу за ребенком в возрасте до 3 лет","пособия на детей старше 3 лет из отдельных категорий семей и семьям на детей в возрасте от 3 до 18 лет в период воспитания ребенка в возрасте до 3 лет","оплата свободного от работы дня матери (мачехе) или отцу (отчиму), опекуну (попечителю), воспитывающей (ему) ребенка-инвалида в возрасте до 18 лет",null,null,null,null,"Выплаты в денежном и (или) натуральном выражении, начисленные в пользу работника","Выплаты, на которые начисляются страховые взносы","Всего начисленных взносов","Пособия по карточке","Пособия ВСЕГО"]
[1,2,3,"3а","3б","3в","3г","3е",4,5,6,7,8,9,10,11,12,13,14,15,16,17,18,null,null,null,null,null,null,null,"Диапазон"]
["Январь",{"$f":"'Карточки лицевых счетов'!B13","v":0},{"$f":"'Карточки лицевых счетов'!C13","v":0},{"$f":"'Карточки лицевых счетов'!D13","v":0},{"$f":"'Карточки лицевых счетов'!E13","v":0},{"$f":"'Карточки лицевых счетов'!F13+'Карточки лицевых счетов'!G13","v":0},{"$f":"'Карточки лицевых счетов'!H13","v":0},{"$f":"'Карточки лицевых счетов'!I13","v":0},{"$f":"'Карточки лицевых счетов'!J13","v":0},{"$f":"'Карточки лицевых счетов'!K13","v":0},{"$f":"SUM(B15:J15)","v":0},{"$f":"K15-J15","v":0},{"$f":"L15*Q6","v":0},{"$f":"L15*1%","v":0},null,null,null,null,null,null,null,null,null,null,{"$f":"K15+K50+K85+K120+K155+K190+K225+K260+K295+K330+K365+K400+K435+K470+K505+K540+K575+K610+K645+K680","v":0},0,0,{"$f":"SUM(O15:T15)","v":0},{"$f":"AB15+AB50+AB85+AB120+AB155+AB190+AB225+AB260+AB295+AB330+AB365+AB400+AB435+AB470+AB505+AB540+AB575+AB610+AB645+AB680","v":0},null,"январь"]
["Февраль",{"$f":"'Карточки лицевых счетов'!B14","v":0},{"$f":"'Карточки лицевых счетов'!C14","v":0},{"$f":"'Карточки лицевых счетов'!D14","v":0},{"$f":"'Карточки лицевых счетов'!E14","v":0},{"$f":"'Карточки лицевых счетов'!F14+'Карточки лицевых счетов'!G14","v":0},{"$f":"'Карточки лицевых счетов'!H14","v":0},{"$f":"'Карточки лицевых счетов'!I14","v":0},{"$f":"'Карточки лицевых счетов'!J14","v":0},{"$f":"'Карточки лицевых счетов'!K14","v":0},{"$f":"SUM(B16:J16)","v":0},{"$f":"K16-J16","v":0},{"$f":"L16*Q6","v":0},{"$f":"L16*1%","v":0},null,null,null,null,null,null,null,null,null,null,0,0,0,{"$f":"SUM(O16:T16)","v":0},{"$f":"AB16+AB51+AB86+AB121+AB156+AB191+AB226+AB261+AB296+AB331+AB366+AB401+AB436+AB471+AB506+AB541+AB576+AB611+AB646+AB681","v":0},null,"февраль"]
["Март",{"$f":"'Карточки лицевых счетов'!B15","v":0},{"$f":"'Карточки лицевых счетов'!C15","v":0},{"$f":"'Карточки лицевых счетов'!D15","v":0},{"$f":"'Карточки лицевых счетов'!E15","v":0},{"$f":"'Карточки лицевых счетов'!F15+'Карточки лицевых счетов'!G15","v":0},{"$f":"'Карточки лицевых счетов'!H15","v":0},{"$f":"'Карточки лицевых счетов'!I15","v":0},{"$f":"'Карточки лицевых счетов'!J15","v":0},{"$f":"'Карточки лицевых счетов'!K15","v":0},{"$f":"SUM(B17:J17)","v":0},0,{"$f":"L17*Q6","v":0},{"$f":"L17*1%","v":0},null,null,null,null,null,null,null,null,null,null,0,0,0,{"$f":"SUM(O17:T17)","v":0},{"$f":"AB17+AB52+AB87+AB122+AB157+AB192+AB227+AB262+AB297+AB332+AB367+AB402+AB437+AB472+AB507+AB542+AB577+AB612+AB647+AB682","v":0},null,"март"]
["Итого за I квартал / Итого c начала года",{"$f":"SUM(B15:B17)","v":0},0,0,0,0,0,0,0,0,0,0,0,0,0,0,0,0,0,0,"х",{"$f":"SUM(V15:V17)","v":0},{"$f":"SUM(W15:W17)","v":0},"1 кв.",{"$f":"SUM(Y15:Y17)","v":0},{"$f":"SUM(Z15:Z17)","v":0},0,{"$f":"SUM(AB15:AB17)","v":0},{"$f":"SUM(AC15:AC17)","v":0},null,"апрель"]
["Апрель",{"$f":"'Карточки лицевых счетов'!B16","v":0},{"$f":"'Карточки лицевых счетов'!C16","v":0},{"$f":"'Карточки лицевых счетов'!D16","v":0},{"$f":"'Карточки лицевых счетов'!E16","v":0},{"$f":"'Карточки лицевых счетов'!F16+'Карточки лицевых счетов'!G16","v":0},{"$f":"'Карточки лицевых счетов'!H16","v":0},{"$f":"'Карточки лицевых счетов'!I16","v":0},{"$f":"'Карточки лицевых счетов'!J16","v":0},{"$f":"'Карточки лицевых счетов'!K16","v":0},{"$f":"SUM(B19:J19)","v":0},{"$f":"K19-J19","v":0},{"$f":"L19*Q6","v":0},{"$f":"L19*1%","v":0},null,null,null,null,null,null,null,null,null,null,{"$f":"K19+K54+K89+K124+K159+K194+K229+K264+K299+K334+K369+K404+K439+K474+K509+K544+K579+K614+K649+K684","v":0},{"$f":"L19+L54+L89+L124+L159+L194+L229+L264+L299+L334+L369+L404+L439+L474+L509+L544+L579+L614+L649+L684","v":0},0,{"$f":"SUM(O19:T19)","v":0},{"$f":"AB19+AB54+AB89+AB124+AB159+AB194+AB229+AB264+AB299+AB334+AB369+AB404+AB439+AB474+AB509+AB544+AB579+AB614+AB649+AB684","v":0},null,"май"]
["Май",{"$f":"'Карточки лицевых счетов'!B17","v":0},{"$f":"'Карточки лицевых счетов'!C17","v":0},{"$f":"'Карточки лицевых счетов'!D17","v":0},{"$f":"'Карточки лицевых счетов'!E17","v":0},{"$f":"'Карточки лицевых счетов'!F17+'Карточки лицевых счетов'!G17","v":0},{"$f":"'Карточки лицевых счетов'!H17","v":0},{"$f":"'Карточки лицевых счетов'!I17","v":0},{"$f":"'Карточки лицевых счетов'!J17","v":0},{"$f":"'Карточки лицевых счетов'!K17","v":0},{"$f":"SUM(B20:J20)","v":0},{"$f":"K20-J20","v":0},{"$f":"L20*Q6","v":0},{"$f":"L20*1%","v":0},null,null,null,null,null,null,null,null,null,null,{"$f":"K20+K55+K90+K125+K160+K195+K230+K265+K300+K335+K370+K405+K440+K475+K510+K545+K580+K615+K650+K685","v":0},0,0,{"$f":"SUM(O20:T20)","v":0},{"$f":"AB20+AB55+AB90+AB125+AB160+AB195+AB230+AB265+AB300+AB335+AB370+AB405+AB440+AB475+AB510+AB545+AB580+AB615+AB650+AB685","v":0},null,"июнь"]
["Июнь",{"$f":"'Карточки лицевых счетов'!B18","v":0},{"$f":"'Карточки лицевых счетов'!C18","v":0},{"$f":"'Карточки лицевых счетов'!D18","v":0},{"$f":"'Карточки лицевых счетов'!E18","v":0},{"$f":"'Карточки лицевых счетов'!F18+'Карточки лицевых счетов'!G18","v":0},{"$f":"'Карточки лицевых счетов'!H18","v":0},{"$f":"'Карточки лицевых счетов'!I18","v":0},{"$f":"'Карточки лицевых счетов'!J18","v":0},{"$f":"'Карточки лицевых счетов'!K18","v":0},{"$f":"SUM(B21:J21)","v":0},0,{"$f":"L21*Q6","v":0},{"$f":"L21*1%","v":0},null,null,null,null,null,null,null,null,null,null,{"$f":"K21+K56+K91+K126+K161+K196+K231+K266+K301+K336+K371+K406+K441+K476+K511+K546+K581+K616+K651+K686","v":0},0,0,{"$f":"SUM(O21:T21)","v":0},{"$f":"AB21+AB56+AB91+AB126+AB161+AB196+AB231+AB266+AB301+AB336+AB371+AB406+AB441+AB476+AB511+AB546+AB581+AB616+AB651+AB686","v":0},null,"июль"]
["Итого за II квартал",{"$f":"SUM(B19:B21)","v":0},0,0,0,0,0,0,0,{"$f":"SUM(J19:J21)","v":0},0,0,0,0,0,0,0,0,0,0,"х",{"$f":"SUM(V19:V21)","v":0},{"$f":"SUM(W19:W21)","v":0},"2 кв.",{"$f":"SUM(Y19:Y21)","v":0},{"$f":"SUM(Z19:Z21)","v":0},0,{"$f":"SUM(AB19:AB21)","v":0},{"$f":"SUM(AC19:AC21)","v":0},null,"август"]
["Итого c начала года",{"$f":" B18+ B22","v":0},0,0,0,0,0,0,0,0,0,0,0,0,0,0,0,0,0,0,null,0,0]
["Июль",{"$f":"'Карточки лицевых счетов'!B19","v":0},{"$f":"'Карточки лицевых счетов'!C19","v":0},{"$f":"'Карточки лицевых счетов'!D19","v":0},{"$f":"'Карточки лицевых счетов'!E19","v":0},{"$f":"'Карточки лицевых счетов'!F19+'Карточки лицевых счетов'!G19","v":0},{"$f":"'Карточки лицевых счетов'!H19","v":0},{"$f":"'Карточки лицевых счетов'!I19","v":0},{"$f":"'Карточки лицевых счетов'!J19","v":0},{"$f":"'Карточки лицевых счетов'!K19","v":0},{"$f":"SUM(B24:J24)","v":0},{"$f":"K24-J24","v":0},{"$f":"L24*Q6","v":0},{"$f":"L24*1%","v":0},null,null,null,null,null,null,null,null,null,null,{"$f":"K24+K59+K94+K129+K164+K199+K234+K269+K304+K339+K374+K409+K444+K479+K514+K549+K584+K619+K654+K689","v":0},{"$f":"L24+L59+L94+L129+L164+L199+L234+L269+L304+L339+L374+L409+L444+L479+L514+L549+L584+L619+L654+L689","v":0},0,{"$f":"SUM(O24:T24)","v":0},{"$f":"AB24+AB59+AB94+AB129+AB164+AB199+AB234+AB269+AB304+AB339+AB374+AB409+AB444+AB479+AB514+AB549+AB584+AB619+AB654+AB689","v":0},null,"сентябрь"]
["Август",{"$f":"'Карточки лицевых счетов'!B20","v":0},{"$f":"'Карточки лицевых счетов'!C20","v":0},{"$f":"'Карточки лицевых счетов'!D20","v":0},{"$f":"'Карточки лицевых счетов'!E20","v":0},{"$f":"'Карточки лицевых счетов'!F20+'Карточки лицевых счетов'!G20","v":0},{"$f":"'Карточки лицевых счетов'!H20","v":0},{"$f":"'Карточки лицевых счетов'!I20","v":0},{"$f":"'Карточки лицевых счетов'!J20","v":0},{"$f":"'Карточки лицевых счетов'!K20","v":0},{"$f":"SUM(B25:J25)","v":0},{"$f":"K25-J25","v":0},{"$f":"L25*Q6","v":0},{"$f":"L25*1%","v":0},null,null,null,null,null,null,null,null,null,null,{"$f":"K25+K60+K95+K130+K165+K200+K235+K270+K305+K340+K375+K410+K445+K480+K515+K550+K585+K620+K655+K690","v":0},0,0,{"$f":"SUM(O25:T25)","v":0},{"$f":"AB25+AB60+AB95+AB130+AB165+AB200+AB235+AB270+AB305+AB340+AB375+AB410+AB445+AB480+AB515+AB550+AB585+AB620+AB655+AB690","v":0},null,"октябрь"]
["Сентябрь",{"$f":"'Карточки лицевых счетов'!B21","v":0},{"$f":"'Карточки лицевых счетов'!C21","v":0},{"$f":"'Карточки лицевых счетов'!D21","v":0},{"$f":"'Карточки лицевых счетов'!E21","v":0},{"$f":"'Карточки лицевых счетов'!F21+'Карточки лицевых счетов'!G21","v":0},{"$f":"'Карточки лицевых счетов'!H21","v":0},{"$f":"'Карточки лицевых счетов'!I21","v":0},{"$f":"'Карточки лицевых счетов'!J21","v":0},{"$f":"'Карточки лицевых счетов'!K21","v":0},{"$f":"SUM(B26:J26)","v":0},0,{"$f":"L26*Q6","v":0},{"$f":"L26*1%","v":0},null,null,null,null,null,null,null,null,null,null,{"$f":"K26+K61+K96+K131+K166+K201+K236+K271+K306+K341+K376+K411+K446+K481+K516+K551+K586+K621+K656+K691","v":0},0,0,{"$f":"SUM(O26:T26)","v":0},{"$f":"AB26+AB61+AB96+AB131+AB166+AB201+AB236+AB271+AB306+AB341+AB376+AB411+AB446+AB481+AB516+AB551+AB586+AB621+AB656+AB691","v":0},null,"ноябрь"]
["Итого за III квартал",{"$f":"SUM(B24:B26)","v":0},{"$f":"SUM(C24:C26)","v":0},0,0,0,0,0,0,0,0,0,0,0,0,0,0,0,0,0,"х",{"$f":"SUM(V24:V26)","v":0},{"$f":"SUM(W24:W26)","v":0},"3 кв.",{"$f":"SUM(Y24:Y26)","v":0},{"$f":"SUM(Z24:Z26)","v":0},0,{"$f":"SUM(AB24:AB26)","v":0},{"$f":"SUM(AC24:AC26)","v":0},null,"декабрь"]
["Итого c начала года",{"$f":" B23+ B27","v":0},{"$f":" C23+ C27","v":0},0,0,0,0,0,0,0,0,0,0,0,0,0,0,0,0,0,null,{"$f":" V18+ V22+ V27","v":0},0]
["Октябрь",{"$f":"'Карточки лицевых счетов'!B22","v":0},{"$f":"'Карточки лицевых счетов'!C22","v":0},{"$f":"'Карточки лицевых счетов'!D22","v":0},{"$f":"'Карточки лицевых счетов'!E22","v":0},{"$f":"'Карточки лицевых счетов'!F22+'Карточки лицевых счетов'!G22","v":0},{"$f":"'Карточки лицевых счетов'!H22","v":0},{"$f":"'Карточки лицевых счетов'!I22","v":0},{"$f":"'Карточки лицевых счетов'!J22","v":0},{"$f":"'Карточки лицевых счетов'!K22","v":0},{"$f":"SUM(B29:J29)","v":0},{"$f":"K29-J29","v":0},{"$f":"L29*Q6","v":0},{"$f":"L29*1%","v":0},null,null,null,null,null,null,null,null,null,null,{"$f":"K29+K64+K99+K134+K169+K204+K239+K274+K309+K344+K379+K414+K449+K484+K519+K554+K589+K624+K659+K694","v":0},{"$f":"L29+L64+L99+L134+L169+L204+L239+L274+L309+L344+L379+L414+L449+L484+L519+L554+L589+L624+L659+L694","v":0},0,{"$f":"SUM(O29:T29)","v":0},{"$f":"AB29+AB64+AB99+AB134+AB169+AB204+AB239+AB274+AB309+AB344+AB379+AB414+AB449+AB484+AB519+AB554+AB589+AB624+AB659+AB694","v":0}]
["Ноябрь",{"$f":"'Карточки лицевых счетов'!B23","v":0},{"$f":"'Карточки лицевых счетов'!C23","v":0},{"$f":"'Карточки лицевых счетов'!D23","v":0},{"$f":"'Карточки лицевых счетов'!E23","v":0},{"$f":"'Карточки лицевых счетов'!F23+'Карточки лицевых счетов'!G23","v":0},{"$f":"'Карточки лицевых счетов'!H23","v":0},{"$f":"'Карточки лицевых счетов'!I23","v":0},{"$f":"'Карточки лицевых счетов'!J23","v":0},{"$f":"'Карточки лицевых счетов'!K23","v":0},{"$f":"SUM(B30:J30)","v":0},{"$f":"K30-J30","v":0},{"$f":"L30*Q6","v":0},{"$f":"L30*1%","v":0},null,null,null,null,null,null,null,null,null,null,{"$f":"K30+K65+K100+K135+K170+K205+K240+K275+K310+K345+K380+K415+K450+K485+K520+K555+K590+K625+K660+K695","v":0},0,0,{"$f":"SUM(O30:T30)","v":0},{"$f":"AB30+AB65+AB100+AB135+AB170+AB205+AB240+AB275+AB310+AB345+AB380+AB415+AB450+AB485+AB520+AB555+AB590+AB625+AB660+AB695","v":0}]
["Декабрь",{"$f":"'Карточки лицевых счетов'!B24","v":0},{"$f":"'Карточки лицевых счетов'!C24","v":0},{"$f":"'Карточки лицевых счетов'!D24","v":0},{"$f":"'Карточки лицевых счетов'!E24","v":0},{"$f":"'Карточки лицевых счетов'!F24+'Карточки лицевых счетов'!G24","v":0},{"$f":"'Карточки лицевых счетов'!H24","v":0},{"$f":"'Карточки лицевых счетов'!I24","v":0},{"$f":"'Карточки лицевых счетов'!J24","v":0},{"$f":"'Карточки лицевых счетов'!K24","v":0},{"$f":"SUM(B31:J31)","v":0},0,{"$f":"L31*Q6","v":0},{"$f":"L31*1%","v":0},null,null,null,null,null,null,null,null,null,null,{"$f":"K31+K66+K101+K136+K171+K206+K241+K276+K311+K346+K381+K416+K451+K486+K521+K556+K591+K626+K661+K696","v":0},0,0,{"$f":"SUM(O31:T31)","v":0},{"$f":"AB31+AB66+AB101+AB136+AB171+AB206+AB241+AB276+AB311+AB346+AB381+AB416+AB451+AB486+AB521+AB556+AB591+AB626+AB661+AB696","v":0}]
["Итого за IV квартал",{"$f":"SUM(B29:B31)","v":0},{"$f":"SUM(C29:C31)","v":0},0,0,0,0,0,0,0,0,0,0,0,0,0,0,0,0,0,"х",{"$f":"SUM(V29:V31)","v":0},{"$f":"SUM(W29:W31)","v":0},"4 кв.",{"$f":"SUM(Y29:Y31)","v":0},{"$f":"SUM(Z29:Z31)","v":0},0,{"$f":"SUM(AB29:AB31)","v":0},{"$f":"SUM(AC29:AC31)","v":0}]
["Итого с начала года",{"$f":"B28+B32","v":0},{"$f":"C28+C32","v":0},0,0,0,0,0,0,0,0,0,0,0,0,0,0,0,0,0,"х",{"$f":"V18+V22+V27+V32","v":0},{"$f":"W18+W22+W27+W32","v":0}]
[]
["* Заполняется по работникам, с которыми заключены гражданско-правовые договоры."]
["** Заполняется по работникам-инвалидам."]
[]
["1. Карточка  учета  начисленных  обязательных  страховых взносов в бюджет фонда и пособий из средств бюджета фонда"]
[{"$f":"'Карточки лицевых счетов'!L29","v":"2"},null,null,null,null,null,null,null,null,null,null,null,null,null,null,null,null,null,null,null,null,null,null,2]
["(фамилия, собственное имя, отчество (если таковое имеется) работника)"]
[null,null,null,null,null,null,null,null,null,null,null,null,null,null,null,null,{"$f":"$Q$6","v":0.35},"- размер страховых взносов в ФСЗН"]
["(дата и номер договора, дата выплаты вознаграждения)*"]
[]
["(группа и период инвалидности)**"]
[null,null,null,null,null,null,null,null,null,null,null,null,null,null,null,null,null,null,null,null,null,"(руб.)"]
["Месяц ","Выплаты в денежном и (или) натуральном выражении, начисленные в пользу работника",null,null,null,null,null,null,null,null,null,"Выплаты, на которые начисляются страховые взносы","Сумма начисленных страховых взносов ",null,"Начислено пособий "]
[null,"основная заработная плата","надбавка","премия","индексация","отпуск","комп. за неисп. отпуск","прочие","мат. помощь","больничный","итого \n(гр. 2 + гр. 3 + гр. 4 + гр. 5) ",null,null,null,"сумма ",null,null,null,null,null,"за какой месяц","количество рабочих дней ","количество пособий"]
[null,null,null,null,null,null,null,null,null,null,null,null,"всего","в том числе 1% ","пособия по временной нетрудо-способности","пособия по беремен-ности и родам","единовре-менные пособия","пособия по уходу за ребенком в возрасте до 3 лет","пособия на детей старше 3 лет из отдельных категорий семей и семьям на детей в возрасте от 3 до 18 лет в период воспитания ребенка в возрасте до 3 лет","оплата свободного от работы дня матери (мачехе) или отцу (отчиму), опекуну (попечителю), воспитывающей (ему) ребенка-инвалида в возрасте до 18 лет"]
[1,2,3,"3а","3б","3в","3г","3е",4,5,6,7,8,9,10,11,12,13,14,15,16,17,18,null,null,null,null,"Пособия по карточке"]
["Январь",{"$f":"'Карточки лицевых счетов'!B40","v":0},{"$f":"'Карточки лицевых счетов'!C40","v":0},{"$f":"'Карточки лицевых счетов'!D40","v":0},{"$f":"'Карточки лицевых счетов'!E40","v":0},{"$f":"'Карточки лицевых счетов'!F40+'Карточки лицевых счетов'!G40","v":0},{"$f":"'Карточки лицевых счетов'!H40","v":0},{"$f":"'Карточки лицевых счетов'!I40","v":0},{"$f":"'Карточки лицевых счетов'!J40","v":0},{"$f":"'Карточки лицевых счетов'!K40","v":0},{"$f":"SUM(B50:J50)","v":0},{"$f":"K50-J50","v":0},{"$f":"L50*Q41","v":0},{"$f":"L50*1%","v":0},null,null,null,null,null,null,null,null,null,null,null,null,null,{"$f":"SUM(O50:T50)","v":0}]
["Февраль",{"$f":"'Карточки лицевых счетов'!B41","v":0},{"$f":"'Карточки лицевых счетов'!C41","v":0},{"$f":"'Карточки лицевых счетов'!D41","v":0},{"$f":"'Карточки лицевых счетов'!E41","v":0},{"$f":"'Карточки лицевых счетов'!F41+'Карточки лицевых счетов'!G41","v":0},{"$f":"'Карточки лицевых счетов'!H41","v":0},{"$f":"'Карточки лицевых счетов'!I41","v":0},{"$f":"'Карточки лицевых счетов'!J41","v":0},{"$f":"'Карточки лицевых счетов'!K41","v":0},{"$f":"SUM(B51:J51)","v":0},{"$f":"K51-J51","v":0},{"$f":"L51*Q41","v":0},{"$f":"L51*1%","v":0},null,null,null,null,null,null,null,null,null,null,null,null,null,{"$f":"SUM(O51:T51)","v":0}]
["Март",{"$f":"'Карточки лицевых счетов'!B42","v":0},{"$f":"'Карточки лицевых счетов'!C42","v":0},{"$f":"'Карточки лицевых счетов'!D42","v":0},{"$f":"'Карточки лицевых счетов'!E42","v":0},{"$f":"'Карточки лицевых счетов'!F42+'Карточки лицевых счетов'!G42","v":0},{"$f":"'Карточки лицевых счетов'!H42","v":0},{"$f":"'Карточки лицевых счетов'!I42","v":0},{"$f":"'Карточки лицевых счетов'!J42","v":0},{"$f":"'Карточки лицевых счетов'!K42","v":0},{"$f":"SUM(B52:J52)","v":0},0,{"$f":"L52*Q41","v":0},{"$f":"L52*1%","v":0},null,null,null,null,null,null,null,null,null,null,null,null,null,{"$f":"SUM(O52:T52)","v":0}]
["Итого за I квартал / Итого c начала года",{"$f":"SUM(B50:B52)","v":0},0,0,0,0,0,0,0,0,0,0,0,0,0,0,0,0,0,0,"х",{"$f":"SUM(V50:V52)","v":0},{"$f":"SUM(W50:W52)","v":0},null,null,null,null,{"$f":"SUM(AB50:AB52)","v":0}]
["Апрель",{"$f":"'Карточки лицевых счетов'!B43","v":0},{"$f":"'Карточки лицевых счетов'!C43","v":0},{"$f":"'Карточки лицевых счетов'!D43","v":0},{"$f":"'Карточки лицевых счетов'!E43","v":0},{"$f":"'Карточки лицевых счетов'!F43+'Карточки лицевых счетов'!G43","v":0},{"$f":"'Карточки лицевых счетов'!H43","v":0},{"$f":"'Карточки лицевых счетов'!I43","v":0},{"$f":"'Карточки лицевых счетов'!J43","v":0},{"$f":"'Карточки лицевых счетов'!K43","v":0},{"$f":"SUM(B54:J54)","v":0},{"$f":"K54-J54","v":0},{"$f":"L54*Q41","v":0},{"$f":"L54*1%","v":0},null,null,null,null,null,null,null,null,null,null,null,null,null,{"$f":"SUM(O54:T54)","v":0}]
["Май",{"$f":"'Карточки лицевых счетов'!B44","v":0},{"$f":"'Карточки лицевых счетов'!C44","v":0},{"$f":"'Карточки лицевых счетов'!D44","v":0},{"$f":"'Карточки лицевых счетов'!E44","v":0},{"$f":"'Карточки лицевых счетов'!F44+'Карточки лицевых счетов'!G44","v":0},{"$f":"'Карточки лицевых счетов'!H44","v":0},{"$f":"'Карточки лицевых счетов'!I44","v":0},{"$f":"'Карточки лицевых счетов'!J44","v":0},{"$f":"'Карточки лицевых счетов'!K44","v":0},{"$f":"SUM(B55:J55)","v":0},{"$f":"K55-J55","v":0},{"$f":"L55*Q41","v":0},{"$f":"L55*1%","v":0},null,null,null,null,null,null,null,null,null,null,null,null,null,{"$f":"SUM(O55:T55)","v":0}]
["Июнь",{"$f":"'Карточки лицевых счетов'!B45","v":0},{"$f":"'Карточки лицевых счетов'!C45","v":0},{"$f":"'Карточки лицевых счетов'!D45","v":0},{"$f":"'Карточки лицевых счетов'!E45","v":0},{"$f":"'Карточки лицевых счетов'!F45+'Карточки лицевых счетов'!G45","v":0},{"$f":"'Карточки лицевых счетов'!H45","v":0},{"$f":"'Карточки лицевых счетов'!I45","v":0},{"$f":"'Карточки лицевых счетов'!J45","v":0},{"$f":"'Карточки лицевых счетов'!K45","v":0},{"$f":"SUM(B56:J56)","v":0},0,{"$f":"L56*Q41","v":0},{"$f":"L56*1%","v":0},null,null,null,null,null,null,null,null,null,null,null,null,null,{"$f":"SUM(O56:T56)","v":0}]
["Итого за II квартал",{"$f":"SUM(B54:B56)","v":0},0,0,0,0,0,0,0,0,0,0,0,0,0,0,0,0,0,0,"х",{"$f":"SUM(V54:V56)","v":0},{"$f":"SUM(W54:W56)","v":0},null,null,null,null,{"$f":"SUM(AB54:AB56)","v":0}]
["Итого c начала года",{"$f":" B53+ B57","v":0},{"$f":" C53+ C57","v":0},0,0,0,0,0,0,0,0,0,0,0,0,0,0,0,0,0,null,0,0]
["Июль",{"$f":"'Карточки лицевых счетов'!B46","v":0},{"$f":"'Карточки лицевых счетов'!C46","v":0},{"$f":"'Карточки лицевых счетов'!D46","v":0},{"$f":"'Карточки лицевых счетов'!E46","v":0},{"$f":"'Карточки лицевых счетов'!F46+'Карточки лицевых счетов'!G46","v":0},{"$f":"'Карточки лицевых счетов'!H46","v":0},{"$f":"'Карточки лицевых счетов'!I46","v":0},{"$f":"'Карточки лицевых счетов'!J46","v":0},{"$f":"'Карточки лицевых счетов'!K46","v":0},{"$f":"SUM(B59:J59)","v":0},{"$f":"K59-J59","v":0},{"$f":"L59*Q41","v":0},{"$f":"L59*1%","v":0},null,null,null,null,null,null,null,null,null,null,null,null,null,{"$f":"SUM(O59:T59)","v":0}]
["Август",{"$f":"'Карточки лицевых счетов'!B47","v":0},{"$f":"'Карточки лицевых счетов'!C47","v":0},{"$f":"'Карточки лицевых счетов'!D47","v":0},{"$f":"'Карточки лицевых счетов'!E47","v":0},{"$f":"'Карточки лицевых счетов'!F47+'Карточки лицевых счетов'!G47","v":0},{"$f":"'Карточки лицевых счетов'!H47","v":0},{"$f":"'Карточки лицевых счетов'!I47","v":0},{"$f":"'Карточки лицевых счетов'!J47","v":0},{"$f":"'Карточки лицевых счетов'!K47","v":0},{"$f":"SUM(B60:J60)","v":0},{"$f":"K60-J60","v":0},{"$f":"L60*Q41","v":0},{"$f":"L60*1%","v":0},null,null,null,null,null,null,null,null,null,null,null,null,null,{"$f":"SUM(O60:T60)","v":0}]
["Сентябрь",{"$f":"'Карточки лицевых счетов'!B48","v":0},{"$f":"'Карточки лицевых счетов'!C48","v":0},{"$f":"'Карточки лицевых счетов'!D48","v":0},{"$f":"'Карточки лицевых счетов'!E48","v":0},{"$f":"'Карточки лицевых счетов'!F48+'Карточки лицевых счетов'!G48","v":0},{"$f":"'Карточки лицевых счетов'!H48","v":0},{"$f":"'Карточки лицевых счетов'!I48","v":0},{"$f":"'Карточки лицевых счетов'!J48","v":0},{"$f":"'Карточки лицевых счетов'!K48","v":0},{"$f":"SUM(B61:J61)","v":0},0,{"$f":"L61*Q41","v":0},{"$f":"L61*1%","v":0},null,null,null,null,null,null,null,null,null,null,null,null,null,{"$f":"SUM(O61:T61)","v":0}]
["Итого за III квартал",{"$f":"SUM(B59:B61)","v":0},0,0,0,0,0,0,0,0,0,0,0,0,0,0,0,0,0,0,"х",{"$f":"SUM(V59:V61)","v":0},{"$f":"SUM(W59:W61)","v":0},null,null,null,null,{"$f":"SUM(AB59:AB61)","v":0}]
["Итого c начала года",{"$f":" B58+ B62","v":0},{"$f":" C58+ C62","v":0},0,0,0,0,0,0,0,0,0,0,0,0,0,0,0,0,0,null,{"$f":" V53+ V57+ V62","v":0},0]
["Октябрь",{"$f":"'Карточки лицевых счетов'!B49","v":0},{"$f":"'Карточки лицевых счетов'!C49","v":0},{"$f":"'Карточки лицевых счетов'!D49","v":0},{"$f":"'Карточки лицевых счетов'!E49","v":0},{"$f":"'Карточки лицевых счетов'!F49+'Карточки лицевых счетов'!G49","v":0},{"$f":"'Карточки лицевых счетов'!H49","v":0},{"$f":"'Карточки лицевых счетов'!I49","v":0},{"$f":"'Карточки лицевых счетов'!J49","v":0},{"$f":"'Карточки лицевых счетов'!K49","v":0},{"$f":"SUM(B64:J64)","v":0},{"$f":"K64-J64","v":0},{"$f":"L64*Q41","v":0},{"$f":"L64*1%","v":0},null,null,null,null,null,null,null,null,null,null,null,null,null,{"$f":"SUM(O64:T64)","v":0}]
["Ноябрь",{"$f":"'Карточки лицевых счетов'!B50","v":0},{"$f":"'Карточки лицевых счетов'!C50","v":0},{"$f":"'Карточки лицевых счетов'!D50","v":0},{"$f":"'Карточки лицевых счетов'!E50","v":0},{"$f":"'Карточки лицевых счетов'!F50+'Карточки лицевых счетов'!G50","v":0},{"$f":"'Карточки лицевых счетов'!H50","v":0},{"$f":"'Карточки лицевых счетов'!I50","v":0},{"$f":"'Карточки лицевых счетов'!J50","v":0},{"$f":"'Карточки лицевых счетов'!K50","v":0},{"$f":"SUM(B65:J65)","v":0},{"$f":"K65-J65","v":0},{"$f":"L65*Q41","v":0},{"$f":"L65*1%","v":0},null,null,null,null,null,null,null,null,null,null,null,null,null,{"$f":"SUM(O65:T65)","v":0}]
["Декабрь",{"$f":"'Карточки лицевых счетов'!B51","v":0},{"$f":"'Карточки лицевых счетов'!C51","v":0},{"$f":"'Карточки лицевых счетов'!D51","v":0},{"$f":"'Карточки лицевых счетов'!E51","v":0},{"$f":"'Карточки лицевых счетов'!F51+'Карточки лицевых счетов'!G51","v":0},{"$f":"'Карточки лицевых счетов'!H51","v":0},{"$f":"'Карточки лицевых счетов'!I51","v":0},{"$f":"'Карточки лицевых счетов'!J51","v":0},{"$f":"'Карточки лицевых счетов'!K51","v":0},{"$f":"SUM(B66:J66)","v":0},0,{"$f":"L66*Q41","v":0},{"$f":"L66*1%","v":0},null,null,null,null,null,null,null,null,null,null,null,null,null,{"$f":"SUM(O66:T66)","v":0}]
["Итого за IV квартал",{"$f":"SUM(B64:B66)","v":0},0,0,0,0,0,0,0,0,0,0,0,0,0,0,0,0,0,0,"х",{"$f":"SUM(V64:V66)","v":0},{"$f":"SUM(W64:W66)","v":0},null,null,null,null,{"$f":"SUM(AB64:AB66)","v":0}]
["Итого с начала года",{"$f":"B63+B67","v":0},{"$f":"C63+C67","v":0},{"$f":"D63+D67","v":0},{"$f":"E63+E67","v":0},{"$f":"F63+F67","v":0},{"$f":"G63+G67","v":0},{"$f":"H63+H67","v":0},{"$f":"I63+I67","v":0},{"$f":"J63+J67","v":0},{"$f":"K63+K67","v":0},{"$f":"L63+L67","v":0},{"$f":"M63+M67","v":0},{"$f":"N63+N67","v":0},{"$f":"O63+O67","v":0},{"$f":"P63+P67","v":0},{"$f":"Q63+Q67","v":0},{"$f":"R63+R67","v":0},{"$f":"S63+S67","v":0},{"$f":"T63+T67","v":0},"х",{"$f":"V53+V57+V62+V67","v":0},{"$f":"W53+W57+W62+W67","v":0},null,null,null,null,{"$f":"AB53+AB57+AB62+AB67","v":0}]
[]
["* Заполняется по работникам, с которыми заключены гражданско-правовые договоры."]
["** Заполняется по работникам-инвалидам."]
[]
["1. Карточка  учета  начисленных  обязательных  страховых взносов в бюджет фонда и пособий из средств бюджета фонда"]
[{"$f":"'Карточки лицевых счетов'!L56","v":"3"},null,null,null,null,null,null,null,null,null,null,null,null,null,null,null,null,null,null,null,null,null,null,3]
["(фамилия, собственное имя, отчество (если таковое имеется) работника)"]
[null,null,null,null,null,null,null,null,null,null,null,null,null,null,null,null,{"$f":"$Q$6","v":0.35},"- размер страховых взносов в ФСЗН"]
["(дата и номер договора, дата выплаты вознаграждения)*"]
[]
["(группа и период инвалидности)**"]
[null,null,null,null,null,null,null,null,null,null,null,null,null,null,null,null,null,null,null,null,null,"(руб.)"]
["Месяц ","Выплаты в денежном и (или) натуральном выражении, начисленные в пользу работника",null,null,null,null,null,null,null,null,null,"Выплаты, на которые начисляются страховые взносы","Сумма начисленных страховых взносов ",null,"Начислено пособий "]
[null,"основная заработная плата","надбавка","премия","индексация","отпуск","комп. за неисп. отпуск","прочие","мат. помощь","больничный","итого \n(гр. 2 + гр. 3 + гр. 4 + гр. 5) ",null,null,null,"сумма ",null,null,null,null,null,"за какой месяц","количество рабочих дней ","количество пособий"]
[null,null,null,null,null,null,null,null,null,null,null,null,"всего","в том числе 1% ","пособия по временной нетрудо-способности","пособия по беремен-ности и родам","единовре-менные пособия","пособия по уходу за ребенком в возрасте до 3 лет","пособия на детей старше 3 лет из отдельных категорий семей и семьям на детей в возрасте от 3 до 18 лет в период воспитания ребенка в возрасте до 3 лет","оплата свободного от работы дня матери (мачехе) или отцу (отчиму), опекуну (попечителю), воспитывающей (ему) ребенка-инвалида в возрасте до 18 лет"]
[1,2,3,"3а","3б","3в","3г","3е",4,5,6,7,8,9,10,11,12,13,14,15,16,17,18,null,null,null,null,"Пособия по карточке"]
["Январь",{"$f":"'Карточки лицевых счетов'!B67","v":0},{"$f":"'Карточки лицевых счетов'!C67","v":0},{"$f":"'Карточки лицевых счетов'!D67","v":0},{"$f":"'Карточки лицевых счетов'!E67","v":0},{"$f":"'Карточки лицевых счетов'!F67+'Карточки лицевых счетов'!G67","v":0},{"$f":"'Карточки лицевых счетов'!H67","v":0},{"$f":"'Карточки лицевых счетов'!I67","v":0},{"$f":"'Карточки лицевых счетов'!J67","v":0},{"$f":"'Карточки лицевых счетов'!K67","v":0},{"$f":"SUM(B85:J85)","v":0},{"$f":"K85-J85","v":0},{"$f":"L85*Q76","v":0},{"$f":"L85*1%","v":0},null,null,null,null,null,null,null,null,null,null,null,null,null,{"$f":"SUM(O85:T85)","v":0}]
["Февраль",{"$f":"'Карточки лицевых счетов'!B68","v":0},{"$f":"'Карточки лицевых счетов'!C68","v":0},{"$f":"'Карточки лицевых счетов'!D68","v":0},{"$f":"'Карточки лицевых счетов'!E68","v":0},{"$f":"'Карточки лицевых счетов'!F68+'Карточки лицевых счетов'!G68","v":0},{"$f":"'Карточки лицевых счетов'!H68","v":0},{"$f":"'Карточки лицевых счетов'!I68","v":0},{"$f":"'Карточки лицевых счетов'!J68","v":0},{"$f":"'Карточки лицевых счетов'!K68","v":0},{"$f":"SUM(B86:J86)","v":0},{"$f":"K86-J86","v":0},{"$f":"L86*Q76","v":0},{"$f":"L86*1%","v":0},null,null,null,null,null,null,null,null,null,null,null,null,null,{"$f":"SUM(O86:T86)","v":0}]
["Март",{"$f":"'Карточки лицевых счетов'!B69","v":0},{"$f":"'Карточки лицевых счетов'!C69","v":0},{"$f":"'Карточки лицевых счетов'!D69","v":0},{"$f":"'Карточки лицевых счетов'!E69","v":0},{"$f":"'Карточки лицевых счетов'!F69+'Карточки лицевых счетов'!G69","v":0},{"$f":"'Карточки лицевых счетов'!H69","v":0},{"$f":"'Карточки лицевых счетов'!I69","v":0},{"$f":"'Карточки лицевых счетов'!J69","v":0},{"$f":"'Карточки лицевых счетов'!K69","v":0},{"$f":"SUM(B87:J87)","v":0},0,{"$f":"L87*Q76","v":0},{"$f":"L87*1%","v":0},null,null,null,null,null,null,null,null,null,null,null,null,null,{"$f":"SUM(O87:T87)","v":0}]
["Итого за I квартал / Итого c начала года",{"$f":"SUM(B85:B87)","v":0},0,0,0,0,0,0,0,0,0,0,0,0,0,0,0,0,0,0,"х",{"$f":"SUM(V85:V87)","v":0},{"$f":"SUM(W85:W87)","v":0},null,null,null,null,{"$f":"SUM(AB85:AB87)","v":0}]
["Апрель",{"$f":"'Карточки лицевых счетов'!B70","v":0},{"$f":"'Карточки лицевых счетов'!C70","v":0},{"$f":"'Карточки лицевых счетов'!D70","v":0},{"$f":"'Карточки лицевых счетов'!E70","v":0},{"$f":"'Карточки лицевых счетов'!F70+'Карточки лицевых счетов'!G70","v":0},{"$f":"'Карточки лицевых счетов'!H70","v":0},{"$f":"'Карточки лицевых счетов'!I70","v":0},{"$f":"'Карточки лицевых счетов'!J70","v":0},{"$f":"'Карточки лицевых счетов'!K70","v":0},{"$f":"SUM(B89:J89)","v":0},{"$f":"K89-J89","v":0},{"$f":"L89*Q76","v":0},{"$f":"L89*1%","v":0},null,null,null,null,null,null,null,null,null,null,null,null,null,{"$f":"SUM(O89:T89)","v":0}]
["Май",{"$f":"'Карточки лицевых счетов'!B71","v":0},{"$f":"'Карточки лицевых счетов'!C71","v":0},{"$f":"'Карточки лицевых счетов'!D71","v":0},{"$f":"'Карточки лицевых счетов'!E71","v":0},{"$f":"'Карточки лицевых счетов'!F71+'Карточки лицевых счетов'!G71","v":0},{"$f":"'Карточки лицевых счетов'!H71","v":0},{"$f":"'Карточки лицевых счетов'!I71","v":0},{"$f":"'Карточки лицевых счетов'!J71","v":0},{"$f":"'Карточки лицевых счетов'!K71","v":0},{"$f":"SUM(B90:J90)","v":0},{"$f":"K90-J90","v":0},{"$f":"L90*Q76","v":0},{"$f":"L90*1%","v":0},null,null,null,null,null,null,null,null,null,null,null,null,null,{"$f":"SUM(O90:T90)","v":0}]
["Июнь",{"$f":"'Карточки лицевых счетов'!B72","v":0},{"$f":"'Карточки лицевых счетов'!C72","v":0},{"$f":"'Карточки лицевых счетов'!D72","v":0},{"$f":"'Карточки лицевых счетов'!E72","v":0},{"$f":"'Карточки лицевых счетов'!F72+'Карточки лицевых счетов'!G72","v":0},{"$f":"'Карточки лицевых счетов'!H72","v":0},{"$f":"'Карточки лицевых счетов'!I72","v":0},{"$f":"'Карточки лицевых счетов'!J72","v":0},{"$f":"'Карточки лицевых счетов'!K72","v":0},{"$f":"SUM(B91:J91)","v":0},0,{"$f":"L91*Q76","v":0},{"$f":"L91*1%","v":0},null,null,null,null,null,null,null,null,null,null,null,null,null,{"$f":"SUM(O91:T91)","v":0}]
["Итого за II квартал",{"$f":"SUM(B89:B91)","v":0},0,0,0,0,0,0,0,0,0,0,0,0,0,0,0,0,0,0,"х",{"$f":"SUM(V89:V91)","v":0},{"$f":"SUM(W89:W91)","v":0},null,null,null,null,{"$f":"SUM(AB89:AB91)","v":0}]
["Итого c начала года",{"$f":" B88+ B92","v":0},{"$f":" C88+ C92","v":0},0,0,0,0,0,0,0,0,0,0,0,0,0,0,0,0,0,null,0,0]
["Июль",{"$f":"'Карточки лицевых счетов'!B73","v":0},{"$f":"'Карточки лицевых счетов'!C73","v":0},{"$f":"'Карточки лицевых счетов'!D73","v":0},{"$f":"'Карточки лицевых счетов'!E73","v":0},{"$f":"'Карточки лицевых счетов'!F73+'Карточки лицевых счетов'!G73","v":0},{"$f":"'Карточки лицевых счетов'!H73","v":0},{"$f":"'Карточки лицевых счетов'!I73","v":0},{"$f":"'Карточки лицевых счетов'!J73","v":0},{"$f":"'Карточки лицевых счетов'!K73","v":0},{"$f":"SUM(B94:J94)","v":0},{"$f":"K94-J94","v":0},{"$f":"L94*Q76","v":0},{"$f":"L94*1%","v":0},null,null,null,null,null,null,null,null,null,null,null,null,null,{"$f":"SUM(O94:T94)","v":0}]
["Август",{"$f":"'Карточки лицевых счетов'!B74","v":0},{"$f":"'Карточки лицевых счетов'!C74","v":0},{"$f":"'Карточки лицевых счетов'!D74","v":0},{"$f":"'Карточки лицевых счетов'!E74","v":0},{"$f":"'Карточки лицевых счетов'!F74+'Карточки лицевых счетов'!G74","v":0},{"$f":"'Карточки лицевых счетов'!H74","v":0},{"$f":"'Карточки лицевых счетов'!I74","v":0},{"$f":"'Карточки лицевых счетов'!J74","v":0},{"$f":"'Карточки лицевых счетов'!K74","v":0},{"$f":"SUM(B95:J95)","v":0},{"$f":"K95-J95","v":0},{"$f":"L95*Q76","v":0},{"$f":"L95*1%","v":0},null,null,null,null,null,null,null,null,null,null,null,null,null,{"$f":"SUM(O95:T95)","v":0}]
["Сентябрь",{"$f":"'Карточки лицевых счетов'!B75","v":0},{"$f":"'Карточки лицевых счетов'!C75","v":0},{"$f":"'Карточки лицевых счетов'!D75","v":0},{"$f":"'Карточки лицевых счетов'!E75","v":0},{"$f":"'Карточки лицевых счетов'!F75+'Карточки лицевых счетов'!G75","v":0},{"$f":"'Карточки лицевых счетов'!H75","v":0},{"$f":"'Карточки лицевых счетов'!I75","v":0},{"$f":"'Карточки лицевых счетов'!J75","v":0},{"$f":"'Карточки лицевых счетов'!K75","v":0},{"$f":"SUM(B96:J96)","v":0},0,{"$f":"L96*Q76","v":0},{"$f":"L96*1%","v":0},null,null,null,null,null,null,null,null,null,null,null,null,null,{"$f":"SUM(O96:T96)","v":0}]
["Итого за III квартал",{"$f":"SUM(B94:B96)","v":0},0,0,0,0,0,0,0,0,0,0,0,0,0,0,0,0,0,0,"х",{"$f":"SUM(V94:V96)","v":0},{"$f":"SUM(W94:W96)","v":0},null,null,null,null,{"$f":"SUM(AB94:AB96)","v":0}]
["Итого c начала года",{"$f":" B93+ B97","v":0},{"$f":" C93+ C97","v":0},0,0,0,0,0,0,0,0,0,0,0,0,0,0,0,0,0,null,{"$f":" V88+ V92+ V97","v":0},0]
["Октябрь",{"$f":"'Карточки лицевых счетов'!B76","v":0},{"$f":"'Карточки лицевых счетов'!C76","v":0},{"$f":"'Карточки лицевых счетов'!D76","v":0},{"$f":"'Карточки лицевых счетов'!E76","v":0},{"$f":"'Карточки лицевых счетов'!F76+'Карточки лицевых счетов'!G76","v":0},{"$f":"'Карточки лицевых счетов'!H76","v":0},{"$f":"'Карточки лицевых счетов'!I76","v":0},{"$f":"'Карточки лицевых счетов'!J76","v":0},{"$f":"'Карточки лицевых счетов'!K76","v":0},{"$f":"SUM(B99:J99)","v":0},{"$f":"K99-J99","v":0},{"$f":"L99*Q76","v":0},{"$f":"L99*1%","v":0},null,null,null,null,null,null,null,null,null,null,null,null,null,{"$f":"SUM(O99:T99)","v":0}]
["Ноябрь",{"$f":"'Карточки лицевых счетов'!B77","v":0},{"$f":"'Карточки лицевых счетов'!C77","v":0},{"$f":"'Карточки лицевых счетов'!D77","v":0},{"$f":"'Карточки лицевых счетов'!E77","v":0},{"$f":"'Карточки лицевых счетов'!F77+'Карточки лицевых счетов'!G77","v":0},{"$f":"'Карточки лицевых счетов'!H77","v":0},{"$f":"'Карточки лицевых счетов'!I77","v":0},{"$f":"'Карточки лицевых счетов'!J77","v":0},{"$f":"'Карточки лицевых счетов'!K77","v":0},{"$f":"SUM(B100:J100)","v":0},{"$f":"K100-J100","v":0},{"$f":"L100*Q76","v":0},{"$f":"L100*1%","v":0},null,null,null,null,null,null,null,null,null,null,null,null,null,{"$f":"SUM(O100:T100)","v":0}]
["Декабрь",{"$f":"'Карточки лицевых счетов'!B78","v":0},{"$f":"'Карточки лицевых счетов'!C78","v":0},{"$f":"'Карточки лицевых счетов'!D78","v":0},{"$f":"'Карточки лицевых счетов'!E78","v":0},{"$f":"'Карточки лицевых счетов'!F78+'Карточки лицевых счетов'!G78","v":0},{"$f":"'Карточки лицевых счетов'!H78","v":0},{"$f":"'Карточки лицевых счетов'!I78","v":0},{"$f":"'Карточки лицевых счетов'!J78","v":0},{"$f":"'Карточки лицевых счетов'!K78","v":0},{"$f":"SUM(B101:J101)","v":0},0,{"$f":"L101*Q76","v":0},{"$f":"L101*1%","v":0},null,null,null,null,null,null,null,null,null,null,null,null,null,{"$f":"SUM(O101:T101)","v":0}]
["Итого за IV квартал",{"$f":"SUM(B99:B101)","v":0},0,0,0,0,0,0,0,0,0,0,0,0,0,0,0,0,0,0,"х",{"$f":"SUM(V99:V101)","v":0},{"$f":"SUM(W99:W101)","v":0},null,null,null,null,{"$f":"SUM(AB99:AB101)","v":0}]
["Итого с начала года",{"$f":"B98+B102","v":0},{"$f":"C98+C102","v":0},{"$f":"D98+D102","v":0},{"$f":"E98+E102","v":0},{"$f":"F98+F102","v":0},{"$f":"G98+G102","v":0},{"$f":"H98+H102","v":0},{"$f":"I98+I102","v":0},{"$f":"J98+J102","v":0},{"$f":"K98+K102","v":0},{"$f":"L98+L102","v":0},{"$f":"M98+M102","v":0},{"$f":"N98+N102","v":0},{"$f":"O98+O102","v":0},{"$f":"P98+P102","v":0},{"$f":"Q98+Q102","v":0},{"$f":"R98+R102","v":0},{"$f":"S98+S102","v":0},{"$f":"T98+T102","v":0},"х",{"$f":"V88+V92+V97+V102","v":0},{"$f":"W88+W92+W97+W102","v":0},null,null,null,null,{"$f":"AB88+AB92+AB97+AB102","v":0}]
[]
["* Заполняется по работникам, с которыми заключены гражданско-правовые договоры."]
["** Заполняется по работникам-инвалидам."]
[]
["1. Карточка  учета  начисленных  обязательных  страховых взносов в бюджет фонда и пособий из средств бюджета фонда"]
[{"$f":"'Карточки лицевых счетов'!L83","v":"4"},null,null,null,null,null,null,null,null,null,null,null,null,null,null,null,null,null,null,null,null,null,null,4]
["(фамилия, собственное имя, отчество (если таковое имеется) работника)"]
[null,null,null,null,null,null,null,null,null,null,null,null,null,null,null,null,{"$f":"$Q$6","v":0.35},"- размер страховых взносов в ФСЗН"]
["(дата и номер договора, дата выплаты вознаграждения)*"]
[]
["(группа и период инвалидности)**"]
[null,null,null,null,null,null,null,null,null,null,null,null,null,null,null,null,null,null,null,null,null,"(руб.)"]
["Месяц ","Выплаты в денежном и (или) натуральном выражении, начисленные в пользу работника",null,null,null,null,null,null,null,null,null,"Выплаты, на которые начисляются страховые взносы","Сумма начисленных страховых взносов ",null,"Начислено пособий "]
[null,"основная заработная плата","надбавка","премия","индексация","отпуск","комп. за неисп. отпуск","прочие","мат. помощь","больничный","итого \n(гр. 2 + гр. 3 + гр. 4 + гр. 5) ",null,null,null,"сумма ",null,null,null,null,null,"за какой месяц","количество рабочих дней ","количество пособий"]
[null,null,null,null,null,null,null,null,null,null,null,null,"всего","в том числе 1% ","пособия по временной нетрудо-способности","пособия по беремен-ности и родам","единовре-менные пособия","пособия по уходу за ребенком в возрасте до 3 лет","пособия на детей старше 3 лет из отдельных категорий семей и семьям на детей в возрасте от 3 до 18 лет в период воспитания ребенка в возрасте до 3 лет","оплата свободного от работы дня матери (мачехе) или отцу (отчиму), опекуну (попечителю), воспитывающей (ему) ребенка-инвалида в возрасте до 18 лет"]
[1,2,3,"3а","3б","3в","3г","3е",4,5,6,7,8,9,10,11,12,13,14,15,16,17,18,null,null,null,null,"Пособия по карточке"]
["Январь",{"$f":"'Карточки лицевых счетов'!B94","v":0},{"$f":"'Карточки лицевых счетов'!C94","v":0},{"$f":"'Карточки лицевых счетов'!D94","v":0},{"$f":"'Карточки лицевых счетов'!E94","v":0},{"$f":"'Карточки лицевых счетов'!F94+'Карточки лицевых счетов'!G94","v":0},{"$f":"'Карточки лицевых счетов'!H94","v":0},{"$f":"'Карточки лицевых счетов'!I94","v":0},{"$f":"'Карточки лицевых счетов'!J94","v":0},{"$f":"'Карточки лицевых счетов'!K94","v":0},{"$f":"SUM(B120:J120)","v":0},{"$f":"K120-J120","v":0},{"$f":"L120*Q111","v":0},{"$f":"L120*1%","v":0},null,null,null,null,null,null,null,null,null,null,null,null,null,{"$f":"SUM(O120:T120)","v":0}]
["Февраль",{"$f":"'Карточки лицевых счетов'!B95","v":0},{"$f":"'Карточки лицевых счетов'!C95","v":0},{"$f":"'Карточки лицевых счетов'!D95","v":0},{"$f":"'Карточки лицевых счетов'!E95","v":0},{"$f":"'Карточки лицевых счетов'!F95+'Карточки лицевых счетов'!G95","v":0},{"$f":"'Карточки лицевых счетов'!H95","v":0},{"$f":"'Карточки лицевых счетов'!I95","v":0},{"$f":"'Карточки лицевых счетов'!J95","v":0},{"$f":"'Карточки лицевых счетов'!K95","v":0},{"$f":"SUM(B121:J121)","v":0},{"$f":"K121-J121","v":0},{"$f":"L121*Q111","v":0},{"$f":"L121*1%","v":0},null,null,null,null,null,null,null,null,null,null,null,null,null,{"$f":"SUM(O121:T121)","v":0}]
["Март",{"$f":"'Карточки лицевых счетов'!B96","v":0},{"$f":"'Карточки лицевых счетов'!C96","v":0},{"$f":"'Карточки лицевых счетов'!D96","v":0},{"$f":"'Карточки лицевых счетов'!E96","v":0},{"$f":"'Карточки лицевых счетов'!F96+'Карточки лицевых счетов'!G96","v":0},{"$f":"'Карточки лицевых счетов'!H96","v":0},{"$f":"'Карточки лицевых счетов'!I96","v":0},{"$f":"'Карточки лицевых счетов'!J96","v":0},{"$f":"'Карточки лицевых счетов'!K96","v":0},{"$f":"SUM(B122:J122)","v":0},0,{"$f":"L122*Q111","v":0},{"$f":"L122*1%","v":0},null,null,null,null,null,null,null,null,null,null,null,null,null,{"$f":"SUM(O122:T122)","v":0}]
["Итого за I квартал / Итого c начала года",{"$f":"SUM(B120:B122)","v":0},0,0,0,0,0,0,0,0,0,0,0,0,0,0,0,0,0,0,"х",{"$f":"SUM(V120:V122)","v":0},{"$f":"SUM(W120:W122)","v":0},null,null,null,null,{"$f":"SUM(AB120:AB122)","v":0}]
["Апрель",{"$f":"'Карточки лицевых счетов'!B97","v":0},{"$f":"'Карточки лицевых счетов'!C97","v":0},{"$f":"'Карточки лицевых счетов'!D97","v":0},{"$f":"'Карточки лицевых счетов'!E97","v":0},{"$f":"'Карточки лицевых счетов'!F97+'Карточки лицевых счетов'!G97","v":0},{"$f":"'Карточки лицевых счетов'!H97","v":0},{"$f":"'Карточки лицевых счетов'!I97","v":0},{"$f":"'Карточки лицевых счетов'!J97","v":0},{"$f":"'Карточки лицевых счетов'!K97","v":0},{"$f":"SUM(B124:J124)","v":0},{"$f":"K124-J124","v":0},{"$f":"L124*Q111","v":0},{"$f":"L124*1%","v":0},null,null,null,null,null,null,null,null,null,null,null,null,null,{"$f":"SUM(O124:T124)","v":0}]
["Май",{"$f":"'Карточки лицевых счетов'!B98","v":0},{"$f":"'Карточки лицевых счетов'!C98","v":0},{"$f":"'Карточки лицевых счетов'!D98","v":0},{"$f":"'Карточки лицевых счетов'!E98","v":0},{"$f":"'Карточки лицевых счетов'!F98+'Карточки лицевых счетов'!G98","v":0},{"$f":"'Карточки лицевых счетов'!H98","v":0},{"$f":"'Карточки лицевых счетов'!I98","v":0},{"$f":"'Карточки лицевых счетов'!J98","v":0},{"$f":"'Карточки лицевых счетов'!K98","v":0},{"$f":"SUM(B125:J125)","v":0},{"$f":"K125-J125","v":0},{"$f":"L125*Q111","v":0},{"$f":"L125*1%","v":0},null,null,null,null,null,null,null,null,null,null,null,null,null,{"$f":"SUM(O125:T125)","v":0}]
["Июнь",{"$f":"'Карточки лицевых счетов'!B99","v":0},{"$f":"'Карточки лицевых счетов'!C99","v":0},{"$f":"'Карточки лицевых счетов'!D99","v":0},{"$f":"'Карточки лицевых счетов'!E99","v":0},{"$f":"'Карточки лицевых счетов'!F99+'Карточки лицевых счетов'!G99","v":0},{"$f":"'Карточки лицевых счетов'!H99","v":0},{"$f":"'Карточки лицевых счетов'!I99","v":0},{"$f":"'Карточки лицевых счетов'!J99","v":0},{"$f":"'Карточки лицевых счетов'!K99","v":0},{"$f":"SUM(B126:J126)","v":0},0,{"$f":"L126*Q111","v":0},{"$f":"L126*1%","v":0},null,null,null,null,null,null,null,null,null,null,null,null,null,{"$f":"SUM(O126:T126)","v":0}]
["Итого за II квартал",{"$f":"SUM(B124:B126)","v":0},0,0,0,0,0,0,0,0,0,0,0,0,0,0,0,0,0,0,"х",{"$f":"SUM(V124:V126)","v":0},{"$f":"SUM(W124:W126)","v":0},null,null,null,null,{"$f":"SUM(AB124:AB126)","v":0}]
["Итого c начала года",{"$f":" B123+ B127","v":0},{"$f":" C123+ C127","v":0},0,0,0,0,0,0,0,0,0,0,0,0,0,0,0,0,0,null,0,0]
["Июль",{"$f":"'Карточки лицевых счетов'!B100","v":0},{"$f":"'Карточки лицевых счетов'!C100","v":0},{"$f":"'Карточки лицевых счетов'!D100","v":0},{"$f":"'Карточки лицевых счетов'!E100","v":0},{"$f":"'Карточки лицевых счетов'!F100+'Карточки лицевых счетов'!G100","v":0},{"$f":"'Карточки лицевых счетов'!H100","v":0},{"$f":"'Карточки лицевых счетов'!I100","v":0},{"$f":"'Карточки лицевых счетов'!J100","v":0},{"$f":"'Карточки лицевых счетов'!K100","v":0},{"$f":"SUM(B129:J129)","v":0},{"$f":"K129-J129","v":0},{"$f":"L129*Q111","v":0},{"$f":"L129*1%","v":0},null,null,null,null,null,null,null,null,null,null,null,null,null,{"$f":"SUM(O129:T129)","v":0}]
["Август",{"$f":"'Карточки лицевых счетов'!B101","v":0},{"$f":"'Карточки лицевых счетов'!C101","v":0},{"$f":"'Карточки лицевых счетов'!D101","v":0},{"$f":"'Карточки лицевых счетов'!E101","v":0},{"$f":"'Карточки лицевых счетов'!F101+'Карточки лицевых счетов'!G101","v":0},{"$f":"'Карточки лицевых счетов'!H101","v":0},{"$f":"'Карточки лицевых счетов'!I101","v":0},{"$f":"'Карточки лицевых счетов'!J101","v":0},{"$f":"'Карточки лицевых счетов'!K101","v":0},{"$f":"SUM(B130:J130)","v":0},{"$f":"K130-J130","v":0},{"$f":"L130*Q111","v":0},{"$f":"L130*1%","v":0},null,null,null,null,null,null,null,null,null,null,null,null,null,{"$f":"SUM(O130:T130)","v":0}]
["Сентябрь",{"$f":"'Карточки лицевых счетов'!B102","v":0},{"$f":"'Карточки лицевых счетов'!C102","v":0},{"$f":"'Карточки лицевых счетов'!D102","v":0},{"$f":"'Карточки лицевых счетов'!E102","v":0},{"$f":"'Карточки лицевых счетов'!F102+'Карточки лицевых счетов'!G102","v":0},{"$f":"'Карточки лицевых счетов'!H102","v":0},{"$f":"'Карточки лицевых счетов'!I102","v":0},{"$f":"'Карточки лицевых счетов'!J102","v":0},{"$f":"'Карточки лицевых счетов'!K102","v":0},{"$f":"SUM(B131:J131)","v":0},0,{"$f":"L131*Q111","v":0},{"$f":"L131*1%","v":0},null,null,null,null,null,null,null,null,null,null,null,null,null,{"$f":"SUM(O131:T131)","v":0}]
["Итого за III квартал",{"$f":"SUM(B129:B131)","v":0},0,0,0,0,0,0,0,0,0,0,0,0,0,0,0,0,0,0,"х",{"$f":"SUM(V129:V131)","v":0},{"$f":"SUM(W129:W131)","v":0},null,null,null,null,{"$f":"SUM(AB129:AB131)","v":0}]
["Итого c начала года",{"$f":" B128+ B132","v":0},{"$f":" C128+ C132","v":0},0,0,0,0,0,0,0,0,0,0,0,0,0,0,0,0,0,null,{"$f":" V123+ V127+ V132","v":0},0]
["Октябрь",{"$f":"'Карточки лицевых счетов'!B103","v":0},{"$f":"'Карточки лицевых счетов'!C103","v":0},{"$f":"'Карточки лицевых счетов'!D103","v":0},{"$f":"'Карточки лицевых счетов'!E103","v":0},{"$f":"'Карточки лицевых счетов'!F103+'Карточки лицевых счетов'!G103","v":0},{"$f":"'Карточки лицевых счетов'!H103","v":0},{"$f":"'Карточки лицевых счетов'!I103","v":0},{"$f":"'Карточки лицевых счетов'!J103","v":0},{"$f":"'Карточки лицевых счетов'!K103","v":0},{"$f":"SUM(B134:J134)","v":0},{"$f":"K134-J134","v":0},{"$f":"L134*Q111","v":0},{"$f":"L134*1%","v":0},null,null,null,null,null,null,null,null,null,null,null,null,null,{"$f":"SUM(O134:T134)","v":0}]
["Ноябрь",{"$f":"'Карточки лицевых счетов'!B104","v":0},{"$f":"'Карточки лицевых счетов'!C104","v":0},{"$f":"'Карточки лицевых счетов'!D104","v":0},{"$f":"'Карточки лицевых счетов'!E104","v":0},{"$f":"'Карточки лицевых счетов'!F104+'Карточки лицевых счетов'!G104","v":0},{"$f":"'Карточки лицевых счетов'!H104","v":0},{"$f":"'Карточки лицевых счетов'!I104","v":0},{"$f":"'Карточки лицевых счетов'!J104","v":0},{"$f":"'Карточки лицевых счетов'!K104","v":0},{"$f":"SUM(B135:J135)","v":0},{"$f":"K135-J135","v":0},{"$f":"L135*Q111","v":0},{"$f":"L135*1%","v":0},null,null,null,null,null,null,null,null,null,null,null,null,null,{"$f":"SUM(O135:T135)","v":0}]
["Декабрь",{"$f":"'Карточки лицевых счетов'!B105","v":0},{"$f":"'Карточки лицевых счетов'!C105","v":0},{"$f":"'Карточки лицевых счетов'!D105","v":0},{"$f":"'Карточки лицевых счетов'!E105","v":0},{"$f":"'Карточки лицевых счетов'!F105+'Карточки лицевых счетов'!G105","v":0},{"$f":"'Карточки лицевых счетов'!H105","v":0},{"$f":"'Карточки лицевых счетов'!I105","v":0},{"$f":"'Карточки лицевых счетов'!J105","v":0},{"$f":"'Карточки лицевых счетов'!K105","v":0},{"$f":"SUM(B136:J136)","v":0},0,{"$f":"L136*Q111","v":0},{"$f":"L136*1%","v":0},null,null,null,null,null,null,null,null,null,null,null,null,null,{"$f":"SUM(O136:T136)","v":0}]
["Итого за IV квартал",{"$f":"SUM(B134:B136)","v":0},0,0,0,0,0,0,0,0,0,0,0,0,0,0,0,0,0,0,"х",{"$f":"SUM(V134:V136)","v":0},{"$f":"SUM(W134:W136)","v":0},null,null,null,null,{"$f":"SUM(AB134:AB136)","v":0}]
["Итого с начала года",{"$f":"B133+B137","v":0},{"$f":"C133+C137","v":0},{"$f":"D133+D137","v":0},{"$f":"E133+E137","v":0},{"$f":"F133+F137","v":0},{"$f":"G133+G137","v":0},{"$f":"H133+H137","v":0},{"$f":"I133+I137","v":0},{"$f":"J133+J137","v":0},{"$f":"K133+K137","v":0},{"$f":"L133+L137","v":0},{"$f":"M133+M137","v":0},{"$f":"N133+N137","v":0},{"$f":"O133+O137","v":0},{"$f":"P133+P137","v":0},{"$f":"Q133+Q137","v":0},{"$f":"R133+R137","v":0},{"$f":"S133+S137","v":0},{"$f":"T133+T137","v":0},"х",{"$f":"V123+V127+V132+V137","v":0},{"$f":"W123+W127+W132+W137","v":0},null,null,null,null,{"$f":"AB123+AB127+AB132+AB137","v":0}]
[]
["* Заполняется по работникам, с которыми заключены гражданско-правовые договоры."]
["** Заполняется по работникам-инвалидам."]
[]
["1. Карточка  учета  начисленных  обязательных  страховых взносов в бюджет фонда и пособий из средств бюджета фонда"]
[{"$f":"'Карточки лицевых счетов'!L110","v":"5"},null,null,null,null,null,null,null,null,null,null,null,null,null,null,null,null,null,null,null,null,null,null,5]
["(фамилия, собственное имя, отчество (если таковое имеется) работника)"]
[null,null,null,null,null,null,null,null,null,null,null,null,null,null,null,null,{"$f":"$Q$6","v":0.35},"- размер страховых взносов в ФСЗН"]
["(дата и номер договора, дата выплаты вознаграждения)*"]
[]
["(группа и период инвалидности)**"]
[null,null,null,null,null,null,null,null,null,null,null,null,null,null,null,null,null,null,null,null,null,"(руб.)"]
["Месяц ","Выплаты в денежном и (или) натуральном выражении, начисленные в пользу работника",null,null,null,null,null,null,null,null,null,"Выплаты, на которые начисляются страховые взносы","Сумма начисленных страховых взносов ",null,"Начислено пособий "]
[null,"основная заработная плата","надбавка","премия","индексация","отпуск","комп. за неисп. отпуск","прочие","мат. помощь","больничный","итого \n(гр. 2 + гр. 3 + гр. 4 + гр. 5) ",null,null,null,"сумма ",null,null,null,null,null,"за какой месяц","количество рабочих дней ","количество пособий"]
[null,null,null,null,null,null,null,null,null,null,null,null,"всего","в том числе 1% ","пособия по временной нетрудо-способности","пособия по беремен-ности и родам","единовре-менные пособия","пособия по уходу за ребенком в возрасте до 3 лет","пособия на детей старше 3 лет из отдельных категорий семей и семьям на детей в возрасте от 3 до 18 лет в период воспитания ребенка в возрасте до 3 лет","оплата свободного от работы дня матери (мачехе) или отцу (отчиму), опекуну (попечителю), воспитывающей (ему) ребенка-инвалида в возрасте до 18 лет"]
[1,2,3,"3а","3б","3в","3г","3е",4,5,6,7,8,9,10,11,12,13,14,15,16,17,18,null,null,null,null,"Пособия по карточке"]
["Январь",{"$f":"'Карточки лицевых счетов'!B121","v":0},{"$f":"'Карточки лицевых счетов'!C121","v":0},{"$f":"'Карточки лицевых счетов'!D121","v":0},{"$f":"'Карточки лицевых счетов'!E121","v":0},{"$f":"'Карточки лицевых счетов'!F121+'Карточки лицевых счетов'!G121","v":0},{"$f":"'Карточки лицевых счетов'!H121","v":0},{"$f":"'Карточки лицевых счетов'!I121","v":0},{"$f":"'Карточки лицевых счетов'!J121","v":0},{"$f":"'Карточки лицевых счетов'!K121","v":0},{"$f":"SUM(B155:J155)","v":0},{"$f":"K155-J155","v":0},{"$f":"L155*Q146","v":0},{"$f":"L155*1%","v":0},null,null,null,null,null,null,null,null,null,null,null,null,null,{"$f":"SUM(O155:T155)","v":0}]
["Февраль",{"$f":"'Карточки лицевых счетов'!B122","v":0},{"$f":"'Карточки лицевых счетов'!C122","v":0},{"$f":"'Карточки лицевых счетов'!D122","v":0},{"$f":"'Карточки лицевых счетов'!E122","v":0},{"$f":"'Карточки лицевых счетов'!F122+'Карточки лицевых счетов'!G122","v":0},{"$f":"'Карточки лицевых счетов'!H122","v":0},{"$f":"'Карточки лицевых счетов'!I122","v":0},{"$f":"'Карточки лицевых счетов'!J122","v":0},{"$f":"'Карточки лицевых счетов'!K122","v":0},{"$f":"SUM(B156:J156)","v":0},{"$f":"K156-J156","v":0},{"$f":"L156*Q146","v":0},{"$f":"L156*1%","v":0},null,null,null,null,null,null,null,null,null,null,null,null,null,{"$f":"SUM(O156:T156)","v":0}]
["Март",{"$f":"'Карточки лицевых счетов'!B123","v":0},{"$f":"'Карточки лицевых счетов'!C123","v":0},{"$f":"'Карточки лицевых счетов'!D123","v":0},{"$f":"'Карточки лицевых счетов'!E123","v":0},{"$f":"'Карточки лицевых счетов'!F123+'Карточки лицевых счетов'!G123","v":0},{"$f":"'Карточки лицевых счетов'!H123","v":0},{"$f":"'Карточки лицевых счетов'!I123","v":0},{"$f":"'Карточки лицевых счетов'!J123","v":0},{"$f":"'Карточки лицевых счетов'!K123","v":0},{"$f":"SUM(B157:J157)","v":0},0,{"$f":"L157*Q146","v":0},{"$f":"L157*1%","v":0},null,null,null,null,null,null,null,null,null,null,null,null,null,{"$f":"SUM(O157:T157)","v":0}]
["Итого за I квартал / Итого c начала года",{"$f":"SUM(B155:B157)","v":0},0,0,0,0,0,0,0,0,0,0,0,0,0,0,0,0,0,0,"х",{"$f":"SUM(V155:V157)","v":0},{"$f":"SUM(W155:W157)","v":0},null,null,null,null,{"$f":"SUM(AB155:AB157)","v":0}]
["Апрель",{"$f":"'Карточки лицевых счетов'!B124","v":0},{"$f":"'Карточки лицевых счетов'!C124","v":0},{"$f":"'Карточки лицевых счетов'!D124","v":0},{"$f":"'Карточки лицевых счетов'!E124","v":0},{"$f":"'Карточки лицевых счетов'!F124+'Карточки лицевых счетов'!G124","v":0},{"$f":"'Карточки лицевых счетов'!H124","v":0},{"$f":"'Карточки лицевых счетов'!I124","v":0},{"$f":"'Карточки лицевых счетов'!J124","v":0},{"$f":"'Карточки лицевых счетов'!K124","v":0},{"$f":"SUM(B159:J159)","v":0},{"$f":"K159-J159","v":0},{"$f":"L159*Q146","v":0},{"$f":"L159*1%","v":0},null,null,null,null,null,null,null,null,null,null,null,null,null,{"$f":"SUM(O159:T159)","v":0}]
["Май",{"$f":"'Карточки лицевых счетов'!B125","v":0},{"$f":"'Карточки лицевых счетов'!C125","v":0},{"$f":"'Карточки лицевых счетов'!D125","v":0},{"$f":"'Карточки лицевых счетов'!E125","v":0},{"$f":"'Карточки лицевых счетов'!F125+'Карточки лицевых счетов'!G125","v":0},{"$f":"'Карточки лицевых счетов'!H125","v":0},{"$f":"'Карточки лицевых счетов'!I125","v":0},{"$f":"'Карточки лицевых счетов'!J125","v":0},{"$f":"'Карточки лицевых счетов'!K125","v":0},{"$f":"SUM(B160:J160)","v":0},{"$f":"K160-J160","v":0},{"$f":"L160*Q146","v":0},{"$f":"L160*1%","v":0},null,null,null,null,null,null,null,null,null,null,null,null,null,{"$f":"SUM(O160:T160)","v":0}]
["Июнь",{"$f":"'Карточки лицевых счетов'!B126","v":0},{"$f":"'Карточки лицевых счетов'!C126","v":0},{"$f":"'Карточки лицевых счетов'!D126","v":0},{"$f":"'Карточки лицевых счетов'!E126","v":0},{"$f":"'Карточки лицевых счетов'!F126+'Карточки лицевых счетов'!G126","v":0},{"$f":"'Карточки лицевых счетов'!H126","v":0},{"$f":"'Карточки лицевых счетов'!I126","v":0},{"$f":"'Карточки лицевых счетов'!J126","v":0},{"$f":"'Карточки лицевых счетов'!K126","v":0},{"$f":"SUM(B161:J161)","v":0},0,{"$f":"L161*Q146","v":0},{"$f":"L161*1%","v":0},null,null,null,null,null,null,null,null,null,null,null,null,null,{"$f":"SUM(O161:T161)","v":0}]
["Итого за II квартал",{"$f":"SUM(B159:B161)","v":0},0,0,0,0,0,0,0,0,0,0,0,0,0,0,0,0,0,0,"х",{"$f":"SUM(V159:V161)","v":0},{"$f":"SUM(W159:W161)","v":0},null,null,null,null,{"$f":"SUM(AB159:AB161)","v":0}]
["Итого c начала года",{"$f":" B158+ B162","v":0},{"$f":" C158+ C162","v":0},0,0,0,0,0,0,0,0,0,0,0,0,0,0,0,0,0,null,0,0]
["Июль",{"$f":"'Карточки лицевых счетов'!B127","v":0},{"$f":"'Карточки лицевых счетов'!C127","v":0},{"$f":"'Карточки лицевых счетов'!D127","v":0},{"$f":"'Карточки лицевых счетов'!E127","v":0},{"$f":"'Карточки лицевых счетов'!F127+'Карточки лицевых счетов'!G127","v":0},{"$f":"'Карточки лицевых счетов'!H127","v":0},{"$f":"'Карточки лицевых счетов'!I127","v":0},{"$f":"'Карточки лицевых счетов'!J127","v":0},{"$f":"'Карточки лицевых счетов'!K127","v":0},{"$f":"SUM(B164:J164)","v":0},{"$f":"K164-J164","v":0},{"$f":"L164*Q146","v":0},{"$f":"L164*1%","v":0},null,null,null,null,null,null,null,null,null,null,null,null,null,{"$f":"SUM(O164:T164)","v":0}]
["Август",{"$f":"'Карточки лицевых счетов'!B128","v":0},{"$f":"'Карточки лицевых счетов'!C128","v":0},{"$f":"'Карточки лицевых счетов'!D128","v":0},{"$f":"'Карточки лицевых счетов'!E128","v":0},{"$f":"'Карточки лицевых счетов'!F128+'Карточки лицевых счетов'!G128","v":0},{"$f":"'Карточки лицевых счетов'!H128","v":0},{"$f":"'Карточки лицевых счетов'!I128","v":0},{"$f":"'Карточки лицевых счетов'!J128","v":0},{"$f":"'Карточки лицевых счетов'!K128","v":0},{"$f":"SUM(B165:J165)","v":0},{"$f":"K165-J165","v":0},{"$f":"L165*Q146","v":0},{"$f":"L165*1%","v":0},null,null,null,null,null,null,null,null,null,null,null,null,null,{"$f":"SUM(O165:T165)","v":0}]
["Сентябрь",{"$f":"'Карточки лицевых счетов'!B129","v":0},{"$f":"'Карточки лицевых счетов'!C129","v":0},{"$f":"'Карточки лицевых счетов'!D129","v":0},{"$f":"'Карточки лицевых счетов'!E129","v":0},{"$f":"'Карточки лицевых счетов'!F129+'Карточки лицевых счетов'!G129","v":0},{"$f":"'Карточки лицевых счетов'!H129","v":0},{"$f":"'Карточки лицевых счетов'!I129","v":0},{"$f":"'Карточки лицевых счетов'!J129","v":0},{"$f":"'Карточки лицевых счетов'!K129","v":0},{"$f":"SUM(B166:J166)","v":0},0,{"$f":"L166*Q146","v":0},{"$f":"L166*1%","v":0},null,null,null,null,null,null,null,null,null,null,null,null,null,{"$f":"SUM(O166:T166)","v":0}]
["Итого за III квартал",{"$f":"SUM(B164:B166)","v":0},0,0,0,0,0,0,0,0,0,0,0,0,0,0,0,0,0,0,"х",{"$f":"SUM(V164:V166)","v":0},{"$f":"SUM(W164:W166)","v":0},null,null,null,null,{"$f":"SUM(AB164:AB166)","v":0}]
["Итого c начала года",{"$f":" B163+ B167","v":0},{"$f":" C163+ C167","v":0},0,0,0,0,0,0,0,0,0,0,0,0,0,0,0,0,0,null,{"$f":" V158+ V162+ V167","v":0},0]
["Октябрь",{"$f":"'Карточки лицевых счетов'!B130","v":0},{"$f":"'Карточки лицевых счетов'!C130","v":0},{"$f":"'Карточки лицевых счетов'!D130","v":0},{"$f":"'Карточки лицевых счетов'!E130","v":0},{"$f":"'Карточки лицевых счетов'!F130+'Карточки лицевых счетов'!G130","v":0},{"$f":"'Карточки лицевых счетов'!H130","v":0},{"$f":"'Карточки лицевых счетов'!I130","v":0},{"$f":"'Карточки лицевых счетов'!J130","v":0},{"$f":"'Карточки лицевых счетов'!K130","v":0},{"$f":"SUM(B169:J169)","v":0},{"$f":"K169-J169","v":0},{"$f":"L169*Q146","v":0},{"$f":"L169*1%","v":0},null,null,null,null,null,null,null,null,null,null,null,null,null,{"$f":"SUM(O169:T169)","v":0}]
["Ноябрь",{"$f":"'Карточки лицевых счетов'!B131","v":0},{"$f":"'Карточки лицевых счетов'!C131","v":0},{"$f":"'Карточки лицевых счетов'!D131","v":0},{"$f":"'Карточки лицевых счетов'!E131","v":0},{"$f":"'Карточки лицевых счетов'!F131+'Карточки лицевых счетов'!G131","v":0},{"$f":"'Карточки лицевых счетов'!H131","v":0},{"$f":"'Карточки лицевых счетов'!I131","v":0},{"$f":"'Карточки лицевых счетов'!J131","v":0},{"$f":"'Карточки лицевых счетов'!K131","v":0},{"$f":"SUM(B170:J170)","v":0},{"$f":"K170-J170","v":0},{"$f":"L170*Q146","v":0},{"$f":"L170*1%","v":0},null,null,null,null,null,null,null,null,null,null,null,null,null,{"$f":"SUM(O170:T170)","v":0}]
["Декабрь",{"$f":"'Карточки лицевых счетов'!B132","v":0},{"$f":"'Карточки лицевых счетов'!C132","v":0},{"$f":"'Карточки лицевых счетов'!D132","v":0},{"$f":"'Карточки лицевых счетов'!E132","v":0},{"$f":"'Карточки лицевых счетов'!F132+'Карточки лицевых счетов'!G132","v":0},{"$f":"'Карточки лицевых счетов'!H132","v":0},{"$f":"'Карточки лицевых счетов'!I132","v":0},{"$f":"'Карточки лицевых счетов'!J132","v":0},{"$f":"'Карточки лицевых счетов'!K132","v":0},{"$f":"SUM(B171:J171)","v":0},0,{"$f":"L171*Q146","v":0},{"$f":"L171*1%","v":0},null,null,null,null,null,null,null,null,null,null,null,null,null,{"$f":"SUM(O171:T171)","v":0}]
["Итого за IV квартал",{"$f":"SUM(B169:B171)","v":0},0,0,0,0,0,0,0,0,0,0,0,0,0,0,0,0,0,0,"х",{"$f":"SUM(V169:V171)","v":0},{"$f":"SUM(W169:W171)","v":0},null,null,null,null,{"$f":"SUM(AB169:AB171)","v":0}]
["Итого с начала года",{"$f":"B168+B172","v":0},{"$f":"C168+C172","v":0},{"$f":"D168+D172","v":0},{"$f":"E168+E172","v":0},{"$f":"F168+F172","v":0},{"$f":"G168+G172","v":0},{"$f":"H168+H172","v":0},{"$f":"I168+I172","v":0},{"$f":"J168+J172","v":0},{"$f":"K168+K172","v":0},{"$f":"L168+L172","v":0},{"$f":"M168+M172","v":0},{"$f":"N168+N172","v":0},{"$f":"O168+O172","v":0},{"$f":"P168+P172","v":0},{"$f":"Q168+Q172","v":0},{"$f":"R168+R172","v":0},{"$f":"S168+S172","v":0},{"$f":"T168+T172","v":0},"х",{"$f":"V158+V162+V167+V172","v":0},{"$f":"W158+W162+W167+W172","v":0},null,null,null,null,{"$f":"AB158+AB162+AB167+AB172","v":0}]
[]
["* Заполняется по работникам, с которыми заключены гражданско-правовые договоры."]
["** Заполняется по работникам-инвалидам."]
[]
["1. Карточка  учета  начисленных  обязательных  страховых взносов в бюджет фонда и пособий из средств бюджета фонда"]
[{"$f":"'Карточки лицевых счетов'!L137","v":"6"},null,null,null,null,null,null,null,null,null,null,null,null,null,null,null,null,null,null,null,null,null,null,6]
["(фамилия, собственное имя, отчество (если таковое имеется) работника)"]
[null,null,null,null,null,null,null,null,null,null,null,null,null,null,null,null,{"$f":"$Q$6","v":0.35},"- размер страховых взносов в ФСЗН"]
["(дата и номер договора, дата выплаты вознаграждения)*"]
[]
["(группа и период инвалидности)**"]
[null,null,null,null,null,null,null,null,null,null,null,null,null,null,null,null,null,null,null,null,null,"(руб.)"]
["Месяц ","Выплаты в денежном и (или) натуральном выражении, начисленные в пользу работника",null,null,null,null,null,null,null,null,null,"Выплаты, на которые начисляются страховые взносы","Сумма начисленных страховых взносов ",null,"Начислено пособий "]
[null,"основная заработная плата","надбавка","премия","индексация","отпуск","комп. за неисп. отпуск","прочие","мат. помощь","больничный","итого \n(гр. 2 + гр. 3 + гр. 4 + гр. 5) ",null,null,null,"сумма ",null,null,null,null,null,"за какой месяц","количество рабочих дней ","количество пособий"]
[null,null,null,null,null,null,null,null,null,null,null,null,"всего","в том числе 1% ","пособия по временной нетрудо-способности","пособия по беремен-ности и родам","единовре-менные пособия","пособия по уходу за ребенком в возрасте до 3 лет","пособия на детей старше 3 лет из отдельных категорий семей и семьям на детей в возрасте от 3 до 18 лет в период воспитания ребенка в возрасте до 3 лет","оплата свободного от работы дня матери (мачехе) или отцу (отчиму), опекуну (попечителю), воспитывающей (ему) ребенка-инвалида в возрасте до 18 лет"]
[1,2,3,"3а","3б","3в","3г","3е",4,5,6,7,8,9,10,11,12,13,14,15,16,17,18,null,null,null,null,"Пособия по карточке"]
["Январь",{"$f":"'Карточки лицевых счетов'!B148","v":0},{"$f":"'Карточки лицевых счетов'!C148","v":0},{"$f":"'Карточки лицевых счетов'!D148","v":0},{"$f":"'Карточки лицевых счетов'!E148","v":0},{"$f":"'Карточки лицевых счетов'!F148+'Карточки лицевых счетов'!G148","v":0},{"$f":"'Карточки лицевых счетов'!H148","v":0},{"$f":"'Карточки лицевых счетов'!I148","v":0},{"$f":"'Карточки лицевых счетов'!J148","v":0},{"$f":"'Карточки лицевых счетов'!K148","v":0},{"$f":"SUM(B190:J190)","v":0},{"$f":"K190-J190","v":0},{"$f":"L190*Q181","v":0},{"$f":"L190*1%","v":0},null,null,null,null,null,null,null,null,null,null,null,null,null,{"$f":"SUM(O190:T190)","v":0}]
["Февраль",{"$f":"'Карточки лицевых счетов'!B149","v":0},{"$f":"'Карточки лицевых счетов'!C149","v":0},{"$f":"'Карточки лицевых счетов'!D149","v":0},{"$f":"'Карточки лицевых счетов'!E149","v":0},{"$f":"'Карточки лицевых счетов'!F149+'Карточки лицевых счетов'!G149","v":0},{"$f":"'Карточки лицевых счетов'!H149","v":0},{"$f":"'Карточки лицевых счетов'!I149","v":0},{"$f":"'Карточки лицевых счетов'!J149","v":0},{"$f":"'Карточки лицевых счетов'!K149","v":0},{"$f":"SUM(B191:J191)","v":0},{"$f":"K191-J191","v":0},{"$f":"L191*Q181","v":0},{"$f":"L191*1%","v":0},null,null,null,null,null,null,null,null,null,null,null,null,null,{"$f":"SUM(O191:T191)","v":0}]
["Март",{"$f":"'Карточки лицевых счетов'!B150","v":0},{"$f":"'Карточки лицевых счетов'!C150","v":0},{"$f":"'Карточки лицевых счетов'!D150","v":0},{"$f":"'Карточки лицевых счетов'!E150","v":0},{"$f":"'Карточки лицевых счетов'!F150+'Карточки лицевых счетов'!G150","v":0},{"$f":"'Карточки лицевых счетов'!H150","v":0},{"$f":"'Карточки лицевых счетов'!I150","v":0},{"$f":"'Карточки лицевых счетов'!J150","v":0},{"$f":"'Карточки лицевых счетов'!K150","v":0},{"$f":"SUM(B192:J192)","v":0},0,{"$f":"L192*Q181","v":0},{"$f":"L192*1%","v":0},null,null,null,null,null,null,null,null,null,null,null,null,null,{"$f":"SUM(O192:T192)","v":0}]
["Итого за I квартал / Итого c начала года",{"$f":"SUM(B190:B192)","v":0},0,0,0,0,0,0,0,0,0,0,0,0,0,0,0,0,0,0,"х",{"$f":"SUM(V190:V192)","v":0},{"$f":"SUM(W190:W192)","v":0},null,null,null,null,{"$f":"SUM(AB190:AB192)","v":0}]
["Апрель",{"$f":"'Карточки лицевых счетов'!B151","v":0},{"$f":"'Карточки лицевых счетов'!C151","v":0},{"$f":"'Карточки лицевых счетов'!D151","v":0},{"$f":"'Карточки лицевых счетов'!E151","v":0},{"$f":"'Карточки лицевых счетов'!F151+'Карточки лицевых счетов'!G151","v":0},{"$f":"'Карточки лицевых счетов'!H151","v":0},{"$f":"'Карточки лицевых счетов'!I151","v":0},{"$f":"'Карточки лицевых счетов'!J151","v":0},{"$f":"'Карточки лицевых счетов'!K151","v":0},{"$f":"SUM(B194:J194)","v":0},{"$f":"K194-J194","v":0},{"$f":"L194*Q181","v":0},{"$f":"L194*1%","v":0},null,null,null,null,null,null,null,null,null,null,null,null,null,{"$f":"SUM(O194:T194)","v":0}]
["Май",{"$f":"'Карточки лицевых счетов'!B152","v":0},{"$f":"'Карточки лицевых счетов'!C152","v":0},{"$f":"'Карточки лицевых счетов'!D152","v":0},{"$f":"'Карточки лицевых счетов'!E152","v":0},{"$f":"'Карточки лицевых счетов'!F152+'Карточки лицевых счетов'!G152","v":0},{"$f":"'Карточки лицевых счетов'!H152","v":0},{"$f":"'Карточки лицевых счетов'!I152","v":0},{"$f":"'Карточки лицевых счетов'!J152","v":0},{"$f":"'Карточки лицевых счетов'!K152","v":0},{"$f":"SUM(B195:J195)","v":0},{"$f":"K195-J195","v":0},{"$f":"L195*Q181","v":0},{"$f":"L195*1%","v":0},null,null,null,null,null,null,null,null,null,null,null,null,null,{"$f":"SUM(O195:T195)","v":0}]
["Июнь",{"$f":"'Карточки лицевых счетов'!B153","v":0},{"$f":"'Карточки лицевых счетов'!C153","v":0},{"$f":"'Карточки лицевых счетов'!D153","v":0},{"$f":"'Карточки лицевых счетов'!E153","v":0},{"$f":"'Карточки лицевых счетов'!F153+'Карточки лицевых счетов'!G153","v":0},{"$f":"'Карточки лицевых счетов'!H153","v":0},{"$f":"'Карточки лицевых счетов'!I153","v":0},{"$f":"'Карточки лицевых счетов'!J153","v":0},{"$f":"'Карточки лицевых счетов'!K153","v":0},{"$f":"SUM(B196:J196)","v":0},0,{"$f":"L196*Q181","v":0},{"$f":"L196*1%","v":0},null,null,null,null,null,null,null,null,null,null,null,null,null,{"$f":"SUM(O196:T196)","v":0}]
["Итого за II квартал",{"$f":"SUM(B194:B196)","v":0},0,0,0,0,0,0,0,0,0,0,0,0,0,0,0,0,0,0,"х",{"$f":"SUM(V194:V196)","v":0},{"$f":"SUM(W194:W196)","v":0},null,null,null,null,{"$f":"SUM(AB194:AB196)","v":0}]
["Итого c начала года",{"$f":" B193+ B197","v":0},{"$f":" C193+ C197","v":0},0,0,0,0,0,0,0,0,0,0,0,0,0,0,0,0,0,null,0,0]
["Июль",{"$f":"'Карточки лицевых счетов'!B154","v":0},{"$f":"'Карточки лицевых счетов'!C154","v":0},{"$f":"'Карточки лицевых счетов'!D154","v":0},{"$f":"'Карточки лицевых счетов'!E154","v":0},{"$f":"'Карточки лицевых счетов'!F154+'Карточки лицевых счетов'!G154","v":0},{"$f":"'Карточки лицевых счетов'!H154","v":0},{"$f":"'Карточки лицевых счетов'!I154","v":0},{"$f":"'Карточки лицевых счетов'!J154","v":0},{"$f":"'Карточки лицевых счетов'!K154","v":0},{"$f":"SUM(B199:J199)","v":0},{"$f":"K199-J199","v":0},{"$f":"L199*Q181","v":0},{"$f":"L199*1%","v":0},null,null,null,null,null,null,null,null,null,null,null,null,null,{"$f":"SUM(O199:T199)","v":0}]
["Август",{"$f":"'Карточки лицевых счетов'!B155","v":0},{"$f":"'Карточки лицевых счетов'!C155","v":0},{"$f":"'Карточки лицевых счетов'!D155","v":0},{"$f":"'Карточки лицевых счетов'!E155","v":0},{"$f":"'Карточки лицевых счетов'!F155+'Карточки лицевых счетов'!G155","v":0},{"$f":"'Карточки лицевых счетов'!H155","v":0},{"$f":"'Карточки лицевых счетов'!I155","v":0},{"$f":"'Карточки лицевых счетов'!J155","v":0},{"$f":"'Карточки лицевых счетов'!K155","v":0},{"$f":"SUM(B200:J200)","v":0},{"$f":"K200-J200","v":0},{"$f":"L200*Q181","v":0},{"$f":"L200*1%","v":0},null,null,null,null,null,null,null,null,null,null,null,null,null,{"$f":"SUM(O200:T200)","v":0}]
["Сентябрь",{"$f":"'Карточки лицевых счетов'!B156","v":0},{"$f":"'Карточки лицевых счетов'!C156","v":0},{"$f":"'Карточки лицевых счетов'!D156","v":0},{"$f":"'Карточки лицевых счетов'!E156","v":0},{"$f":"'Карточки лицевых счетов'!F156+'Карточки лицевых счетов'!G156","v":0},{"$f":"'Карточки лицевых счетов'!H156","v":0},{"$f":"'Карточки лицевых счетов'!I156","v":0},{"$f":"'Карточки лицевых счетов'!J156","v":0},{"$f":"'Карточки лицевых счетов'!K156","v":0},{"$f":"SUM(B201:J201)","v":0},0,{"$f":"L201*Q181","v":0},{"$f":"L201*1%","v":0},null,null,null,null,null,null,null,null,null,null,null,null,null,{"$f":"SUM(O201:T201)","v":0}]
["Итого за III квартал",{"$f":"SUM(B199:B201)","v":0},0,0,0,0,0,0,0,0,0,0,0,0,0,0,0,0,0,0,"х",{"$f":"SUM(V199:V201)","v":0},{"$f":"SUM(W199:W201)","v":0},null,null,null,null,{"$f":"SUM(AB199:AB201)","v":0}]
["Итого c начала года",{"$f":" B198+ B202","v":0},{"$f":" C198+ C202","v":0},0,0,0,0,0,0,0,0,0,0,0,0,0,0,0,0,0,null,{"$f":" V193+ V197+ V202","v":0},0]
["Октябрь",{"$f":"'Карточки лицевых счетов'!B157","v":0},{"$f":"'Карточки лицевых счетов'!C157","v":0},{"$f":"'Карточки лицевых счетов'!D157","v":0},{"$f":"'Карточки лицевых счетов'!E157","v":0},{"$f":"'Карточки лицевых счетов'!F157+'Карточки лицевых счетов'!G157","v":0},{"$f":"'Карточки лицевых счетов'!H157","v":0},{"$f":"'Карточки лицевых счетов'!I157","v":0},{"$f":"'Карточки лицевых счетов'!J157","v":0},{"$f":"'Карточки лицевых счетов'!K157","v":0},{"$f":"SUM(B204:J204)","v":0},{"$f":"K204-J204","v":0},{"$f":"L204*Q181","v":0},{"$f":"L204*1%","v":0},null,null,null,null,null,null,null,null,null,null,null,null,null,{"$f":"SUM(O204:T204)","v":0}]
["Ноябрь",{"$f":"'Карточки лицевых счетов'!B158","v":0},{"$f":"'Карточки лицевых счетов'!C158","v":0},{"$f":"'Карточки лицевых счетов'!D158","v":0},{"$f":"'Карточки лицевых счетов'!E158","v":0},{"$f":"'Карточки лицевых счетов'!F158+'Карточки лицевых счетов'!G158","v":0},{"$f":"'Карточки лицевых счетов'!H158","v":0},{"$f":"'Карточки лицевых счетов'!I158","v":0},{"$f":"'Карточки лицевых счетов'!J158","v":0},{"$f":"'Карточки лицевых счетов'!K158","v":0},{"$f":"SUM(B205:J205)","v":0},{"$f":"K205-J205","v":0},{"$f":"L205*Q181","v":0},{"$f":"L205*1%","v":0},null,null,null,null,null,null,null,null,null,null,null,null,null,{"$f":"SUM(O205:T205)","v":0}]
["Декабрь",{"$f":"'Карточки лицевых счетов'!B159","v":0},{"$f":"'Карточки лицевых счетов'!C159","v":0},{"$f":"'Карточки лицевых счетов'!D159","v":0},{"$f":"'Карточки лицевых счетов'!E159","v":0},{"$f":"'Карточки лицевых счетов'!F159+'Карточки лицевых счетов'!G159","v":0},{"$f":"'Карточки лицевых счетов'!H159","v":0},{"$f":"'Карточки лицевых счетов'!I159","v":0},{"$f":"'Карточки лицевых счетов'!J159","v":0},{"$f":"'Карточки лицевых счетов'!K159","v":0},{"$f":"SUM(B206:J206)","v":0},0,{"$f":"L206*Q181","v":0},{"$f":"L206*1%","v":0},null,null,null,null,null,null,null,null,null,null,null,null,null,{"$f":"SUM(O206:T206)","v":0}]
["Итого за IV квартал",{"$f":"SUM(B204:B206)","v":0},0,0,0,0,0,0,0,0,0,0,0,0,0,0,0,0,0,0,"х",{"$f":"SUM(V204:V206)","v":0},{"$f":"SUM(W204:W206)","v":0},null,null,null,null,{"$f":"SUM(AB204:AB206)","v":0}]
["Итого с начала года",{"$f":"B203+B207","v":0},{"$f":"C203+C207","v":0},{"$f":"D203+D207","v":0},{"$f":"E203+E207","v":0},{"$f":"F203+F207","v":0},{"$f":"G203+G207","v":0},{"$f":"H203+H207","v":0},{"$f":"I203+I207","v":0},{"$f":"J203+J207","v":0},{"$f":"K203+K207","v":0},{"$f":"L203+L207","v":0},{"$f":"M203+M207","v":0},{"$f":"N203+N207","v":0},{"$f":"O203+O207","v":0},{"$f":"P203+P207","v":0},{"$f":"Q203+Q207","v":0},{"$f":"R203+R207","v":0},{"$f":"S203+S207","v":0},{"$f":"T203+T207","v":0},"х",{"$f":"V193+V197+V202+V207","v":0},{"$f":"W193+W197+W202+W207","v":0},null,null,null,null,{"$f":"AB193+AB197+AB202+AB207","v":0}]
[]
["* Заполняется по работникам, с которыми заключены гражданско-правовые договоры."]
["** Заполняется по работникам-инвалидам."]
[]
["1. Карточка  учета  начисленных  обязательных  страховых взносов в бюджет фонда и пособий из средств бюджета фонда"]
[{"$f":"'Карточки лицевых счетов'!L164","v":"7"},null,null,null,null,null,null,null,null,null,null,null,null,null,null,null,null,null,null,null,null,null,null,7]
["(фамилия, собственное имя, отчество (если таковое имеется) работника)"]
[null,null,null,null,null,null,null,null,null,null,null,null,null,null,null,null,{"$f":"$Q$6","v":0.35},"- размер страховых взносов в ФСЗН"]
["(дата и номер договора, дата выплаты вознаграждения)*"]
[]
["(группа и период инвалидности)**"]
[null,null,null,null,null,null,null,null,null,null,null,null,null,null,null,null,null,null,null,null,null,"(руб.)"]
["Месяц ","Выплаты в денежном и (или) натуральном выражении, начисленные в пользу работника",null,null,null,null,null,null,null,null,null,"Выплаты, на которые начисляются страховые взносы","Сумма начисленных страховых взносов ",null,"Начислено пособий "]
[null,"основная заработная плата","надбавка","премия","индексация","отпуск","комп. за неисп. отпуск","прочие","мат. помощь","больничный","итого \n(гр. 2 + гр. 3 + гр. 4 + гр. 5) ",null,null,null,"сумма ",null,null,null,null,null,"за какой месяц","количество рабочих дней ","количество пособий"]
[null,null,null,null,null,null,null,null,null,null,null,null,"всего","в том числе 1% ","пособия по временной нетрудо-способности","пособия по беремен-ности и родам","единовре-менные пособия","пособия по уходу за ребенком в возрасте до 3 лет","пособия на детей старше 3 лет из отдельных категорий семей и семьям на детей в возрасте от 3 до 18 лет в период воспитания ребенка в возрасте до 3 лет","оплата свободного от работы дня матери (мачехе) или отцу (отчиму), опекуну (попечителю), воспитывающей (ему) ребенка-инвалида в возрасте до 18 лет"]
[1,2,3,"3а","3б","3в","3г","3е",4,5,6,7,8,9,10,11,12,13,14,15,16,17,18,null,null,null,null,"Пособия по карточке"]
["Январь",{"$f":"'Карточки лицевых счетов'!B175","v":0},{"$f":"'Карточки лицевых счетов'!C175","v":0},{"$f":"'Карточки лицевых счетов'!D175","v":0},{"$f":"'Карточки лицевых счетов'!E175","v":0},{"$f":"'Карточки лицевых счетов'!F175+'Карточки лицевых счетов'!G175","v":0},{"$f":"'Карточки лицевых счетов'!H175","v":0},{"$f":"'Карточки лицевых счетов'!I175","v":0},{"$f":"'Карточки лицевых счетов'!J175","v":0},{"$f":"'Карточки лицевых счетов'!K175","v":0},{"$f":"SUM(B225:J225)","v":0},{"$f":"K225-J225","v":0},{"$f":"L225*Q216","v":0},{"$f":"L225*1%","v":0},null,null,null,null,null,null,null,null,null,null,null,null,null,{"$f":"SUM(O225:T225)","v":0}]
["Февраль",{"$f":"'Карточки лицевых счетов'!B176","v":0},{"$f":"'Карточки лицевых счетов'!C176","v":0},{"$f":"'Карточки лицевых счетов'!D176","v":0},{"$f":"'Карточки лицевых счетов'!E176","v":0},{"$f":"'Карточки лицевых счетов'!F176+'Карточки лицевых счетов'!G176","v":0},{"$f":"'Карточки лицевых счетов'!H176","v":0},{"$f":"'Карточки лицевых счетов'!I176","v":0},{"$f":"'Карточки лицевых счетов'!J176","v":0},{"$f":"'Карточки лицевых счетов'!K176","v":0},{"$f":"SUM(B226:J226)","v":0},{"$f":"K226-J226","v":0},{"$f":"L226*Q216","v":0},{"$f":"L226*1%","v":0},null,null,null,null,null,null,null,null,null,null,null,null,null,{"$f":"SUM(O226:T226)","v":0}]
["Март",{"$f":"'Карточки лицевых счетов'!B177","v":0},{"$f":"'Карточки лицевых счетов'!C177","v":0},{"$f":"'Карточки лицевых счетов'!D177","v":0},{"$f":"'Карточки лицевых счетов'!E177","v":0},{"$f":"'Карточки лицевых счетов'!F177+'Карточки лицевых счетов'!G177","v":0},{"$f":"'Карточки лицевых счетов'!H177","v":0},{"$f":"'Карточки лицевых счетов'!I177","v":0},{"$f":"'Карточки лицевых счетов'!J177","v":0},{"$f":"'Карточки лицевых счетов'!K177","v":0},{"$f":"SUM(B227:J227)","v":0},0,{"$f":"L227*Q216","v":0},{"$f":"L227*1%","v":0},null,null,null,null,null,null,null,null,null,null,null,null,null,{"$f":"SUM(O227:T227)","v":0}]
["Итого за I квартал / Итого c начала года",{"$f":"SUM(B225:B227)","v":0},0,0,0,0,0,0,0,0,0,0,0,0,0,0,0,0,0,0,"х",{"$f":"SUM(V225:V227)","v":0},{"$f":"SUM(W225:W227)","v":0},null,null,null,null,{"$f":"SUM(AB225:AB227)","v":0}]
["Апрель",{"$f":"'Карточки лицевых счетов'!B178","v":0},{"$f":"'Карточки лицевых счетов'!C178","v":0},{"$f":"'Карточки лицевых счетов'!D178","v":0},{"$f":"'Карточки лицевых счетов'!E178","v":0},{"$f":"'Карточки лицевых счетов'!F178+'Карточки лицевых счетов'!G178","v":0},{"$f":"'Карточки лицевых счетов'!H178","v":0},{"$f":"'Карточки лицевых счетов'!I178","v":0},{"$f":"'Карточки лицевых счетов'!J178","v":0},{"$f":"'Карточки лицевых счетов'!K178","v":0},{"$f":"SUM(B229:J229)","v":0},{"$f":"K229-J229","v":0},{"$f":"L229*Q216","v":0},{"$f":"L229*1%","v":0},null,null,null,null,null,null,null,null,null,null,null,null,null,{"$f":"SUM(O229:T229)","v":0}]
["Май",{"$f":"'Карточки лицевых счетов'!B179","v":0},{"$f":"'Карточки лицевых счетов'!C179","v":0},{"$f":"'Карточки лицевых счетов'!D179","v":0},{"$f":"'Карточки лицевых счетов'!E179","v":0},{"$f":"'Карточки лицевых счетов'!F179+'Карточки лицевых счетов'!G179","v":0},{"$f":"'Карточки лицевых счетов'!H179","v":0},{"$f":"'Карточки лицевых счетов'!I179","v":0},{"$f":"'Карточки лицевых счетов'!J179","v":0},{"$f":"'Карточки лицевых счетов'!K179","v":0},{"$f":"SUM(B230:J230)","v":0},{"$f":"K230-J230","v":0},{"$f":"L230*Q216","v":0},{"$f":"L230*1%","v":0},null,null,null,null,null,null,null,null,null,null,null,null,null,{"$f":"SUM(O230:T230)","v":0}]
["Июнь",{"$f":"'Карточки лицевых счетов'!B180","v":0},{"$f":"'Карточки лицевых счетов'!C180","v":0},{"$f":"'Карточки лицевых счетов'!D180","v":0},{"$f":"'Карточки лицевых счетов'!E180","v":0},{"$f":"'Карточки лицевых счетов'!F180+'Карточки лицевых счетов'!G180","v":0},{"$f":"'Карточки лицевых счетов'!H180","v":0},{"$f":"'Карточки лицевых счетов'!I180","v":0},{"$f":"'Карточки лицевых счетов'!J180","v":0},{"$f":"'Карточки лицевых счетов'!K180","v":0},{"$f":"SUM(B231:J231)","v":0},0,{"$f":"L231*Q216","v":0},{"$f":"L231*1%","v":0},null,null,null,null,null,null,null,null,null,null,null,null,null,{"$f":"SUM(O231:T231)","v":0}]
["Итого за II квартал",{"$f":"SUM(B229:B231)","v":0},0,0,0,0,0,0,0,0,0,0,0,0,0,0,0,0,0,0,"х",{"$f":"SUM(V229:V231)","v":0},{"$f":"SUM(W229:W231)","v":0},null,null,null,null,{"$f":"SUM(AB229:AB231)","v":0}]
["Итого c начала года",{"$f":" B228+ B232","v":0},{"$f":" C228+ C232","v":0},0,0,0,0,0,0,0,0,0,0,0,0,0,0,0,0,0,null,0,0]
["Июль",{"$f":"'Карточки лицевых счетов'!B181","v":0},{"$f":"'Карточки лицевых счетов'!C181","v":0},{"$f":"'Карточки лицевых счетов'!D181","v":0},{"$f":"'Карточки лицевых счетов'!E181","v":0},{"$f":"'Карточки лицевых счетов'!F181+'Карточки лицевых счетов'!G181","v":0},{"$f":"'Карточки лицевых счетов'!H181","v":0},{"$f":"'Карточки лицевых счетов'!I181","v":0},{"$f":"'Карточки лицевых счетов'!J181","v":0},{"$f":"'Карточки лицевых счетов'!K181","v":0},{"$f":"SUM(B234:J234)","v":0},{"$f":"K234-J234","v":0},{"$f":"L234*Q216","v":0},{"$f":"L234*1%","v":0},null,null,null,null,null,null,null,null,null,null,null,null,null,{"$f":"SUM(O234:T234)","v":0}]
["Август",{"$f":"'Карточки лицевых счетов'!B182","v":0},{"$f":"'Карточки лицевых счетов'!C182","v":0},{"$f":"'Карточки лицевых счетов'!D182","v":0},{"$f":"'Карточки лицевых счетов'!E182","v":0},{"$f":"'Карточки лицевых счетов'!F182+'Карточки лицевых счетов'!G182","v":0},{"$f":"'Карточки лицевых счетов'!H182","v":0},{"$f":"'Карточки лицевых счетов'!I182","v":0},{"$f":"'Карточки лицевых счетов'!J182","v":0},{"$f":"'Карточки лицевых счетов'!K182","v":0},{"$f":"SUM(B235:J235)","v":0},{"$f":"K235-J235","v":0},{"$f":"L235*Q216","v":0},{"$f":"L235*1%","v":0},null,null,null,null,null,null,null,null,null,null,null,null,null,{"$f":"SUM(O235:T235)","v":0}]
["Сентябрь",{"$f":"'Карточки лицевых счетов'!B183","v":0},{"$f":"'Карточки лицевых счетов'!C183","v":0},{"$f":"'Карточки лицевых счетов'!D183","v":0},{"$f":"'Карточки лицевых счетов'!E183","v":0},{"$f":"'Карточки лицевых счетов'!F183+'Карточки лицевых счетов'!G183","v":0},{"$f":"'Карточки лицевых счетов'!H183","v":0},{"$f":"'Карточки лицевых счетов'!I183","v":0},{"$f":"'Карточки лицевых счетов'!J183","v":0},{"$f":"'Карточки лицевых счетов'!K183","v":0},{"$f":"SUM(B236:J236)","v":0},0,{"$f":"L236*Q216","v":0},{"$f":"L236*1%","v":0},null,null,null,null,null,null,null,null,null,null,null,null,null,{"$f":"SUM(O236:T236)","v":0}]
["Итого за III квартал",{"$f":"SUM(B234:B236)","v":0},0,0,0,0,0,0,0,0,0,0,0,0,0,0,0,0,0,0,"х",{"$f":"SUM(V234:V236)","v":0},{"$f":"SUM(W234:W236)","v":0},null,null,null,null,{"$f":"SUM(AB234:AB236)","v":0}]
["Итого c начала года",{"$f":" B233+ B237","v":0},{"$f":" C233+ C237","v":0},0,0,0,0,0,0,0,0,0,0,0,0,0,0,0,0,0,null,{"$f":" V228+ V232+ V237","v":0},0]
["Октябрь",{"$f":"'Карточки лицевых счетов'!B184","v":0},{"$f":"'Карточки лицевых счетов'!C184","v":0},{"$f":"'Карточки лицевых счетов'!D184","v":0},{"$f":"'Карточки лицевых счетов'!E184","v":0},{"$f":"'Карточки лицевых счетов'!F184+'Карточки лицевых счетов'!G184","v":0},{"$f":"'Карточки лицевых счетов'!H184","v":0},{"$f":"'Карточки лицевых счетов'!I184","v":0},{"$f":"'Карточки лицевых счетов'!J184","v":0},{"$f":"'Карточки лицевых счетов'!K184","v":0},{"$f":"SUM(B239:J239)","v":0},{"$f":"K239-J239","v":0},{"$f":"L239*Q216","v":0},{"$f":"L239*1%","v":0},null,null,null,null,null,null,null,null,null,null,null,null,null,{"$f":"SUM(O239:T239)","v":0}]
["Ноябрь",{"$f":"'Карточки лицевых счетов'!B185","v":0},{"$f":"'Карточки лицевых счетов'!C185","v":0},{"$f":"'Карточки лицевых счетов'!D185","v":0},{"$f":"'Карточки лицевых счетов'!E185","v":0},{"$f":"'Карточки лицевых счетов'!F185+'Карточки лицевых счетов'!G185","v":0},{"$f":"'Карточки лицевых счетов'!H185","v":0},{"$f":"'Карточки лицевых счетов'!I185","v":0},{"$f":"'Карточки лицевых счетов'!J185","v":0},{"$f":"'Карточки лицевых счетов'!K185","v":0},{"$f":"SUM(B240:J240)","v":0},{"$f":"K240-J240","v":0},{"$f":"L240*Q216","v":0},{"$f":"L240*1%","v":0},null,null,null,null,null,null,null,null,null,null,null,null,null,{"$f":"SUM(O240:T240)","v":0}]
["Декабрь",{"$f":"'Карточки лицевых счетов'!B186","v":0},{"$f":"'Карточки лицевых счетов'!C186","v":0},{"$f":"'Карточки лицевых счетов'!D186","v":0},{"$f":"'Карточки лицевых счетов'!E186","v":0},{"$f":"'Карточки лицевых счетов'!F186+'Карточки лицевых счетов'!G186","v":0},{"$f":"'Карточки лицевых счетов'!H186","v":0},{"$f":"'Карточки лицевых счетов'!I186","v":0},{"$f":"'Карточки лицевых счетов'!J186","v":0},{"$f":"'Карточки лицевых счетов'!K186","v":0},{"$f":"SUM(B241:J241)","v":0},0,{"$f":"L241*Q216","v":0},{"$f":"L241*1%","v":0},null,null,null,null,null,null,null,null,null,null,null,null,null,{"$f":"SUM(O241:T241)","v":0}]
["Итого за IV квартал",{"$f":"SUM(B239:B241)","v":0},0,0,0,0,0,0,0,0,0,0,0,0,0,0,0,0,0,0,"х",{"$f":"SUM(V239:V241)","v":0},{"$f":"SUM(W239:W241)","v":0},null,null,null,null,{"$f":"SUM(AB239:AB241)","v":0}]
["Итого с начала года",{"$f":"B238+B242","v":0},{"$f":"C238+C242","v":0},{"$f":"D238+D242","v":0},{"$f":"E238+E242","v":0},{"$f":"F238+F242","v":0},{"$f":"G238+G242","v":0},{"$f":"H238+H242","v":0},{"$f":"I238+I242","v":0},{"$f":"J238+J242","v":0},{"$f":"K238+K242","v":0},{"$f":"L238+L242","v":0},{"$f":"M238+M242","v":0},{"$f":"N238+N242","v":0},{"$f":"O238+O242","v":0},{"$f":"P238+P242","v":0},{"$f":"Q238+Q242","v":0},{"$f":"R238+R242","v":0},{"$f":"S238+S242","v":0},{"$f":"T238+T242","v":0},"х",{"$f":"V228+V232+V237+V242","v":0},{"$f":"W228+W232+W237+W242","v":0},null,null,null,null,{"$f":"AB228+AB232+AB237+AB242","v":0}]
[]
["* Заполняется по работникам, с которыми заключены гражданско-правовые договоры."]
["** Заполняется по работникам-инвалидам."]
[]
["1. Карточка  учета  начисленных  обязательных  страховых взносов в бюджет фонда и пособий из средств бюджета фонда"]
[{"$f":"'Карточки лицевых счетов'!L191","v":"8"},null,null,null,null,null,null,null,null,null,null,null,null,null,null,null,null,null,null,null,null,null,null,8]
["(фамилия, собственное имя, отчество (если таковое имеется) работника)"]
[null,null,null,null,null,null,null,null,null,null,null,null,null,null,null,null,{"$f":"$Q$6","v":0.35},"- размер страховых взносов в ФСЗН"]
["(дата и номер договора, дата выплаты вознаграждения)*"]
[]
["(группа и период инвалидности)**"]
[null,null,null,null,null,null,null,null,null,null,null,null,null,null,null,null,null,null,null,null,null,"(руб.)"]
["Месяц ","Выплаты в денежном и (или) натуральном выражении, начисленные в пользу работника",null,null,null,null,null,null,null,null,null,"Выплаты, на которые начисляются страховые взносы","Сумма начисленных страховых взносов ",null,"Начислено пособий "]
[null,"основная заработная плата","надбавка","премия","индексация","отпуск","комп. за неисп. отпуск","прочие","мат. помощь","больничный","итого \n(гр. 2 + гр. 3 + гр. 4 + гр. 5) ",null,null,null,"сумма ",null,null,null,null,null,"за какой месяц","количество рабочих дней ","количество пособий"]
[null,null,null,null,null,null,null,null,null,null,null,null,"всего","в том числе 1% ","пособия по временной нетрудо-способности","пособия по беремен-ности и родам","единовре-менные пособия","пособия по уходу за ребенком в возрасте до 3 лет","пособия на детей старше 3 лет из отдельных категорий семей и семьям на детей в возрасте от 3 до 18 лет в период воспитания ребенка в возрасте до 3 лет","оплата свободного от работы дня матери (мачехе) или отцу (отчиму), опекуну (попечителю), воспитывающей (ему) ребенка-инвалида в возрасте до 18 лет"]
[1,2,3,"3а","3б","3в","3г","3е",4,5,6,7,8,9,10,11,12,13,14,15,16,17,18,null,null,null,null,"Пособия по карточке"]
["Январь",{"$f":"'Карточки лицевых счетов'!B202","v":0},{"$f":"'Карточки лицевых счетов'!C202","v":0},{"$f":"'Карточки лицевых счетов'!D202","v":0},{"$f":"'Карточки лицевых счетов'!E202","v":0},{"$f":"'Карточки лицевых счетов'!F202+'Карточки лицевых счетов'!G202","v":0},{"$f":"'Карточки лицевых счетов'!H202","v":0},{"$f":"'Карточки лицевых счетов'!I202","v":0},{"$f":"'Карточки лицевых счетов'!J202","v":0},{"$f":"'Карточки лицевых счетов'!K202","v":0},{"$f":"SUM(B260:J260)","v":0},{"$f":"K260-J260","v":0},{"$f":"L260*Q251","v":0},{"$f":"L260*1%","v":0},null,null,null,null,null,null,null,null,null,null,null,null,null,{"$f":"SUM(O260:T260)","v":0}]
["Февраль",{"$f":"'Карточки лицевых счетов'!B203","v":0},{"$f":"'Карточки лицевых счетов'!C203","v":0},{"$f":"'Карточки лицевых счетов'!D203","v":0},{"$f":"'Карточки лицевых счетов'!E203","v":0},{"$f":"'Карточки лицевых счетов'!F203+'Карточки лицевых счетов'!G203","v":0},{"$f":"'Карточки лицевых счетов'!H203","v":0},{"$f":"'Карточки лицевых счетов'!I203","v":0},{"$f":"'Карточки лицевых счетов'!J203","v":0},{"$f":"'Карточки лицевых счетов'!K203","v":0},{"$f":"SUM(B261:J261)","v":0},{"$f":"K261-J261","v":0},{"$f":"L261*Q251","v":0},{"$f":"L261*1%","v":0},null,null,null,null,null,null,null,null,null,null,null,null,null,{"$f":"SUM(O261:T261)","v":0}]
["Март",{"$f":"'Карточки лицевых счетов'!B204","v":0},{"$f":"'Карточки лицевых счетов'!C204","v":0},{"$f":"'Карточки лицевых счетов'!D204","v":0},{"$f":"'Карточки лицевых счетов'!E204","v":0},{"$f":"'Карточки лицевых счетов'!F204+'Карточки лицевых счетов'!G204","v":0},{"$f":"'Карточки лицевых счетов'!H204","v":0},{"$f":"'Карточки лицевых счетов'!I204","v":0},{"$f":"'Карточки лицевых счетов'!J204","v":0},{"$f":"'Карточки лицевых счетов'!K204","v":0},{"$f":"SUM(B262:J262)","v":0},0,{"$f":"L262*Q251","v":0},{"$f":"L262*1%","v":0},null,null,null,null,null,null,null,null,null,null,null,null,null,{"$f":"SUM(O262:T262)","v":0}]
["Итого за I квартал / Итого c начала года",{"$f":"SUM(B260:B262)","v":0},0,0,0,0,0,0,0,0,0,0,0,0,0,0,0,0,0,0,"х",{"$f":"SUM(V260:V262)","v":0},{"$f":"SUM(W260:W262)","v":0},null,null,null,null,{"$f":"SUM(AB260:AB262)","v":0}]
["Апрель",{"$f":"'Карточки лицевых счетов'!B205","v":0},{"$f":"'Карточки лицевых счетов'!C205","v":0},{"$f":"'Карточки лицевых счетов'!D205","v":0},{"$f":"'Карточки лицевых счетов'!E205","v":0},{"$f":"'Карточки лицевых счетов'!F205+'Карточки лицевых счетов'!G205","v":0},{"$f":"'Карточки лицевых счетов'!H205","v":0},{"$f":"'Карточки лицевых счетов'!I205","v":0},{"$f":"'Карточки лицевых счетов'!J205","v":0},{"$f":"'Карточки лицевых счетов'!K205","v":0},{"$f":"SUM(B264:J264)","v":0},{"$f":"K264-J264","v":0},{"$f":"L264*Q251","v":0},{"$f":"L264*1%","v":0},null,null,null,null,null,null,null,null,null,null,null,null,null,{"$f":"SUM(O264:T264)","v":0}]
["Май",{"$f":"'Карточки лицевых счетов'!B206","v":0},{"$f":"'Карточки лицевых счетов'!C206","v":0},{"$f":"'Карточки лицевых счетов'!D206","v":0},{"$f":"'Карточки лицевых счетов'!E206","v":0},{"$f":"'Карточки лицевых счетов'!F206+'Карточки лицевых счетов'!G206","v":0},{"$f":"'Карточки лицевых счетов'!H206","v":0},{"$f":"'Карточки лицевых счетов'!I206","v":0},{"$f":"'Карточки лицевых счетов'!J206","v":0},{"$f":"'Карточки лицевых счетов'!K206","v":0},{"$f":"SUM(B265:J265)","v":0},{"$f":"K265-J265","v":0},{"$f":"L265*Q251","v":0},{"$f":"L265*1%","v":0},null,null,null,null,null,null,null,null,null,null,null,null,null,{"$f":"SUM(O265:T265)","v":0}]
["Июнь",{"$f":"'Карточки лицевых счетов'!B207","v":0},{"$f":"'Карточки лицевых счетов'!C207","v":0},{"$f":"'Карточки лицевых счетов'!D207","v":0},{"$f":"'Карточки лицевых счетов'!E207","v":0},{"$f":"'Карточки лицевых счетов'!F207+'Карточки лицевых счетов'!G207","v":0},{"$f":"'Карточки лицевых счетов'!H207","v":0},{"$f":"'Карточки лицевых счетов'!I207","v":0},{"$f":"'Карточки лицевых счетов'!J207","v":0},{"$f":"'Карточки лицевых счетов'!K207","v":0},{"$f":"SUM(B266:J266)","v":0},0,{"$f":"L266*Q251","v":0},{"$f":"L266*1%","v":0},null,null,null,null,null,null,null,null,null,null,null,null,null,{"$f":"SUM(O266:T266)","v":0}]
["Итого за II квартал",{"$f":"SUM(B264:B266)","v":0},0,0,0,0,0,0,0,0,0,0,0,0,0,0,0,0,0,0,"х",{"$f":"SUM(V264:V266)","v":0},{"$f":"SUM(W264:W266)","v":0},null,null,null,null,{"$f":"SUM(AB264:AB266)","v":0}]
["Итого c начала года",{"$f":" B263+ B267","v":0},{"$f":" C263+ C267","v":0},0,0,0,0,0,0,0,0,0,0,0,0,0,0,0,0,0,null,0,0]
["Июль",{"$f":"'Карточки лицевых счетов'!B208","v":0},{"$f":"'Карточки лицевых счетов'!C208","v":0},{"$f":"'Карточки лицевых счетов'!D208","v":0},{"$f":"'Карточки лицевых счетов'!E208","v":0},{"$f":"'Карточки лицевых счетов'!F208+'Карточки лицевых счетов'!G208","v":0},{"$f":"'Карточки лицевых счетов'!H208","v":0},{"$f":"'Карточки лицевых счетов'!I208","v":0},{"$f":"'Карточки лицевых счетов'!J208","v":0},{"$f":"'Карточки лицевых счетов'!K208","v":0},{"$f":"SUM(B269:J269)","v":0},{"$f":"K269-J269","v":0},{"$f":"L269*Q251","v":0},{"$f":"L269*1%","v":0},null,null,null,null,null,null,null,null,null,null,null,null,null,{"$f":"SUM(O269:T269)","v":0}]
["Август",{"$f":"'Карточки лицевых счетов'!B209","v":0},{"$f":"'Карточки лицевых счетов'!C209","v":0},{"$f":"'Карточки лицевых счетов'!D209","v":0},{"$f":"'Карточки лицевых счетов'!E209","v":0},{"$f":"'Карточки лицевых счетов'!F209+'Карточки лицевых счетов'!G209","v":0},{"$f":"'Карточки лицевых счетов'!H209","v":0},{"$f":"'Карточки лицевых счетов'!I209","v":0},{"$f":"'Карточки лицевых счетов'!J209","v":0},{"$f":"'Карточки лицевых счетов'!K209","v":0},{"$f":"SUM(B270:J270)","v":0},{"$f":"K270-J270","v":0},{"$f":"L270*Q251","v":0},{"$f":"L270*1%","v":0},null,null,null,null,null,null,null,null,null,null,null,null,null,{"$f":"SUM(O270:T270)","v":0}]
["Сентябрь",{"$f":"'Карточки лицевых счетов'!B210","v":0},{"$f":"'Карточки лицевых счетов'!C210","v":0},{"$f":"'Карточки лицевых счетов'!D210","v":0},{"$f":"'Карточки лицевых счетов'!E210","v":0},{"$f":"'Карточки лицевых счетов'!F210+'Карточки лицевых счетов'!G210","v":0},{"$f":"'Карточки лицевых счетов'!H210","v":0},{"$f":"'Карточки лицевых счетов'!I210","v":0},{"$f":"'Карточки лицевых счетов'!J210","v":0},{"$f":"'Карточки лицевых счетов'!K210","v":0},{"$f":"SUM(B271:J271)","v":0},0,{"$f":"L271*Q251","v":0},{"$f":"L271*1%","v":0},null,null,null,null,null,null,null,null,null,null,null,null,null,{"$f":"SUM(O271:T271)","v":0}]
["Итого за III квартал",{"$f":"SUM(B269:B271)","v":0},0,0,0,0,0,0,0,0,0,0,0,0,0,0,0,0,0,0,"х",{"$f":"SUM(V269:V271)","v":0},{"$f":"SUM(W269:W271)","v":0},null,null,null,null,{"$f":"SUM(AB269:AB271)","v":0}]
["Итого c начала года",{"$f":" B268+ B272","v":0},{"$f":" C268+ C272","v":0},0,0,0,0,0,0,0,0,0,0,0,0,0,0,0,0,0,null,{"$f":" V263+ V267+ V272","v":0},0]
["Октябрь",{"$f":"'Карточки лицевых счетов'!B211","v":0},{"$f":"'Карточки лицевых счетов'!C211","v":0},{"$f":"'Карточки лицевых счетов'!D211","v":0},{"$f":"'Карточки лицевых счетов'!E211","v":0},{"$f":"'Карточки лицевых счетов'!F211+'Карточки лицевых счетов'!G211","v":0},{"$f":"'Карточки лицевых счетов'!H211","v":0},{"$f":"'Карточки лицевых счетов'!I211","v":0},{"$f":"'Карточки лицевых счетов'!J211","v":0},{"$f":"'Карточки лицевых счетов'!K211","v":0},{"$f":"SUM(B274:J274)","v":0},{"$f":"K274-J274","v":0},{"$f":"L274*Q251","v":0},{"$f":"L274*1%","v":0},null,null,null,null,null,null,null,null,null,null,null,null,null,{"$f":"SUM(O274:T274)","v":0}]
["Ноябрь",{"$f":"'Карточки лицевых счетов'!B212","v":0},{"$f":"'Карточки лицевых счетов'!C212","v":0},{"$f":"'Карточки лицевых счетов'!D212","v":0},{"$f":"'Карточки лицевых счетов'!E212","v":0},{"$f":"'Карточки лицевых счетов'!F212+'Карточки лицевых счетов'!G212","v":0},{"$f":"'Карточки лицевых счетов'!H212","v":0},{"$f":"'Карточки лицевых счетов'!I212","v":0},{"$f":"'Карточки лицевых счетов'!J212","v":0},{"$f":"'Карточки лицевых счетов'!K212","v":0},{"$f":"SUM(B275:J275)","v":0},{"$f":"K275-J275","v":0},{"$f":"L275*Q251","v":0},{"$f":"L275*1%","v":0},null,null,null,null,null,null,null,null,null,null,null,null,null,{"$f":"SUM(O275:T275)","v":0}]
["Декабрь",{"$f":"'Карточки лицевых счетов'!B213","v":0},{"$f":"'Карточки лицевых счетов'!C213","v":0},{"$f":"'Карточки лицевых счетов'!D213","v":0},{"$f":"'Карточки лицевых счетов'!E213","v":0},{"$f":"'Карточки лицевых счетов'!F213+'Карточки лицевых счетов'!G213","v":0},{"$f":"'Карточки лицевых счетов'!H213","v":0},{"$f":"'Карточки лицевых счетов'!I213","v":0},{"$f":"'Карточки лицевых счетов'!J213","v":0},{"$f":"'Карточки лицевых счетов'!K213","v":0},{"$f":"SUM(B276:J276)","v":0},0,{"$f":"L276*Q251","v":0},{"$f":"L276*1%","v":0},null,null,null,null,null,null,null,null,null,null,null,null,null,{"$f":"SUM(O276:T276)","v":0}]
["Итого за IV квартал",{"$f":"SUM(B274:B276)","v":0},0,0,0,0,0,0,0,0,0,0,0,0,0,0,0,0,0,0,"х",{"$f":"SUM(V274:V276)","v":0},{"$f":"SUM(W274:W276)","v":0},null,null,null,null,{"$f":"SUM(AB274:AB276)","v":0}]
["Итого с начала года",{"$f":"B273+B277","v":0},{"$f":"C273+C277","v":0},{"$f":"D273+D277","v":0},{"$f":"E273+E277","v":0},{"$f":"F273+F277","v":0},{"$f":"G273+G277","v":0},{"$f":"H273+H277","v":0},{"$f":"I273+I277","v":0},{"$f":"J273+J277","v":0},{"$f":"K273+K277","v":0},{"$f":"L273+L277","v":0},{"$f":"M273+M277","v":0},{"$f":"N273+N277","v":0},{"$f":"O273+O277","v":0},{"$f":"P273+P277","v":0},{"$f":"Q273+Q277","v":0},{"$f":"R273+R277","v":0},{"$f":"S273+S277","v":0},{"$f":"T273+T277","v":0},"х",{"$f":"V263+V267+V272+V277","v":0},{"$f":"W263+W267+W272+W277","v":0},null,null,null,null,{"$f":"AB263+AB267+AB272+AB277","v":0}]
[]
["* Заполняется по работникам, с которыми заключены гражданско-правовые договоры."]
["** Заполняется по работникам-инвалидам."]
[]
["1. Карточка  учета  начисленных  обязательных  страховых взносов в бюджет фонда и пособий из средств бюджета фонда"]
[{"$f":"'Карточки лицевых счетов'!L218","v":"9"},null,null,null,null,null,null,null,null,null,null,null,null,null,null,null,null,null,null,null,null,null,null,9]
["(фамилия, собственное имя, отчество (если таковое имеется) работника)"]
[null,null,null,null,null,null,null,null,null,null,null,null,null,null,null,null,{"$f":"$Q$6","v":0.35},"- размер страховых взносов в ФСЗН"]
["(дата и номер договора, дата выплаты вознаграждения)*"]
[]
["(группа и период инвалидности)**"]
[null,null,null,null,null,null,null,null,null,null,null,null,null,null,null,null,null,null,null,null,null,"(руб.)"]
["Месяц ","Выплаты в денежном и (или) натуральном выражении, начисленные в пользу работника",null,null,null,null,null,null,null,null,null,"Выплаты, на которые начисляются страховые взносы","Сумма начисленных страховых взносов ",null,"Начислено пособий "]
[null,"основная заработная плата","надбавка","премия","индексация","отпуск","комп. за неисп. отпуск","прочие","мат. помощь","больничный","итого \n(гр. 2 + гр. 3 + гр. 4 + гр. 5) ",null,null,null,"сумма ",null,null,null,null,null,"за какой месяц","количество рабочих дней ","количество пособий"]
[null,null,null,null,null,null,null,null,null,null,null,null,"всего","в том числе 1% ","пособия по временной нетрудо-способности","пособия по беремен-ности и родам","единовре-менные пособия","пособия по уходу за ребенком в возрасте до 3 лет","пособия на детей старше 3 лет из отдельных категорий семей и семьям на детей в возрасте от 3 до 18 лет в период воспитания ребенка в возрасте до 3 лет","оплата свободного от работы дня матери (мачехе) или отцу (отчиму), опекуну (попечителю), воспитывающей (ему) ребенка-инвалида в возрасте до 18 лет"]
[1,2,3,"3а","3б","3в","3г","3е",4,5,6,7,8,9,10,11,12,13,14,15,16,17,18,null,null,null,null,"Пособия по карточке"]
["Январь",{"$f":"'Карточки лицевых счетов'!B229","v":0},{"$f":"'Карточки лицевых счетов'!C229","v":0},{"$f":"'Карточки лицевых счетов'!D229","v":0},{"$f":"'Карточки лицевых счетов'!E229","v":0},{"$f":"'Карточки лицевых счетов'!F229+'Карточки лицевых счетов'!G229","v":0},{"$f":"'Карточки лицевых счетов'!H229","v":0},{"$f":"'Карточки лицевых счетов'!I229","v":0},{"$f":"'Карточки лицевых счетов'!J229","v":0},{"$f":"'Карточки лицевых счетов'!K229","v":0},{"$f":"SUM(B295:J295)","v":0},{"$f":"K295-J295","v":0},{"$f":"L295*Q286","v":0},{"$f":"L295*1%","v":0},null,null,null,null,null,null,null,null,null,null,null,null,null,{"$f":"SUM(O295:T295)","v":0}]
["Февраль",{"$f":"'Карточки лицевых счетов'!B230","v":0},{"$f":"'Карточки лицевых счетов'!C230","v":0},{"$f":"'Карточки лицевых счетов'!D230","v":0},{"$f":"'Карточки лицевых счетов'!E230","v":0},{"$f":"'Карточки лицевых счетов'!F230+'Карточки лицевых счетов'!G230","v":0},{"$f":"'Карточки лицевых счетов'!H230","v":0},{"$f":"'Карточки лицевых счетов'!I230","v":0},{"$f":"'Карточки лицевых счетов'!J230","v":0},{"$f":"'Карточки лицевых счетов'!K230","v":0},{"$f":"SUM(B296:J296)","v":0},{"$f":"K296-J296","v":0},{"$f":"L296*Q286","v":0},{"$f":"L296*1%","v":0},null,null,null,null,null,null,null,null,null,null,null,null,null,{"$f":"SUM(O296:T296)","v":0}]
["Март",{"$f":"'Карточки лицевых счетов'!B231","v":0},{"$f":"'Карточки лицевых счетов'!C231","v":0},{"$f":"'Карточки лицевых счетов'!D231","v":0},{"$f":"'Карточки лицевых счетов'!E231","v":0},{"$f":"'Карточки лицевых счетов'!F231+'Карточки лицевых счетов'!G231","v":0},{"$f":"'Карточки лицевых счетов'!H231","v":0},{"$f":"'Карточки лицевых счетов'!I231","v":0},{"$f":"'Карточки лицевых счетов'!J231","v":0},{"$f":"'Карточки лицевых счетов'!K231","v":0},{"$f":"SUM(B297:J297)","v":0},0,{"$f":"L297*Q286","v":0},{"$f":"L297*1%","v":0},null,null,null,null,null,null,null,null,null,null,null,null,null,{"$f":"SUM(O297:T297)","v":0}]
["Итого за I квартал / Итого c начала года",{"$f":"SUM(B295:B297)","v":0},0,0,0,0,0,0,0,0,0,0,0,0,0,0,0,0,0,0,"х",{"$f":"SUM(V295:V297)","v":0},{"$f":"SUM(W295:W297)","v":0},null,null,null,null,{"$f":"SUM(AB295:AB297)","v":0}]
["Апрель",{"$f":"'Карточки лицевых счетов'!B232","v":0},{"$f":"'Карточки лицевых счетов'!C232","v":0},{"$f":"'Карточки лицевых счетов'!D232","v":0},{"$f":"'Карточки лицевых счетов'!E232","v":0},{"$f":"'Карточки лицевых счетов'!F232+'Карточки лицевых счетов'!G232","v":0},{"$f":"'Карточки лицевых счетов'!H232","v":0},{"$f":"'Карточки лицевых счетов'!I232","v":0},{"$f":"'Карточки лицевых счетов'!J232","v":0},{"$f":"'Карточки лицевых счетов'!K232","v":0},{"$f":"SUM(B299:J299)","v":0},{"$f":"K299-J299","v":0},{"$f":"L299*Q286","v":0},{"$f":"L299*1%","v":0},null,null,null,null,null,null,null,null,null,null,null,null,null,{"$f":"SUM(O299:T299)","v":0}]
["Май",{"$f":"'Карточки лицевых счетов'!B233","v":0},{"$f":"'Карточки лицевых счетов'!C233","v":0},{"$f":"'Карточки лицевых счетов'!D233","v":0},{"$f":"'Карточки лицевых счетов'!E233","v":0},{"$f":"'Карточки лицевых счетов'!F233+'Карточки лицевых счетов'!G233","v":0},{"$f":"'Карточки лицевых счетов'!H233","v":0},{"$f":"'Карточки лицевых счетов'!I233","v":0},{"$f":"'Карточки лицевых счетов'!J233","v":0},{"$f":"'Карточки лицевых счетов'!K233","v":0},{"$f":"SUM(B300:J300)","v":0},{"$f":"K300-J300","v":0},{"$f":"L300*Q286","v":0},{"$f":"L300*1%","v":0},null,null,null,null,null,null,null,null,null,null,null,null,null,{"$f":"SUM(O300:T300)","v":0}]
["Июнь",{"$f":"'Карточки лицевых счетов'!B234","v":0},{"$f":"'Карточки лицевых счетов'!C234","v":0},{"$f":"'Карточки лицевых счетов'!D234","v":0},{"$f":"'Карточки лицевых счетов'!E234","v":0},{"$f":"'Карточки лицевых счетов'!F234+'Карточки лицевых счетов'!G234","v":0},{"$f":"'Карточки лицевых счетов'!H234","v":0},{"$f":"'Карточки лицевых счетов'!I234","v":0},{"$f":"'Карточки лицевых счетов'!J234","v":0},{"$f":"'Карточки лицевых счетов'!K234","v":0},{"$f":"SUM(B301:J301)","v":0},0,{"$f":"L301*Q286","v":0},{"$f":"L301*1%","v":0},null,null,null,null,null,null,null,null,null,null,null,null,null,{"$f":"SUM(O301:T301)","v":0}]
["Итого за II квартал",{"$f":"SUM(B299:B301)","v":0},0,0,0,0,0,0,0,0,0,0,0,0,0,0,0,0,0,0,"х",{"$f":"SUM(V299:V301)","v":0},{"$f":"SUM(W299:W301)","v":0},null,null,null,null,{"$f":"SUM(AB299:AB301)","v":0}]
["Итого c начала года",{"$f":" B298+ B302","v":0},{"$f":" C298+ C302","v":0},0,0,0,0,0,0,0,0,0,0,0,0,0,0,0,0,0,null,0,0]
["Июль",{"$f":"'Карточки лицевых счетов'!B235","v":0},{"$f":"'Карточки лицевых счетов'!C235","v":0},{"$f":"'Карточки лицевых счетов'!D235","v":0},{"$f":"'Карточки лицевых счетов'!E235","v":0},{"$f":"'Карточки лицевых счетов'!F235+'Карточки лицевых счетов'!G235","v":0},{"$f":"'Карточки лицевых счетов'!H235","v":0},{"$f":"'Карточки лицевых счетов'!I235","v":0},{"$f":"'Карточки лицевых счетов'!J235","v":0},{"$f":"'Карточки лицевых счетов'!K235","v":0},{"$f":"SUM(B304:J304)","v":0},{"$f":"K304-J304","v":0},{"$f":"L304*Q286","v":0},{"$f":"L304*1%","v":0},null,null,null,null,null,null,null,null,null,null,null,null,null,{"$f":"SUM(O304:T304)","v":0}]
["Август",{"$f":"'Карточки лицевых счетов'!B236","v":0},{"$f":"'Карточки лицевых счетов'!C236","v":0},{"$f":"'Карточки лицевых счетов'!D236","v":0},{"$f":"'Карточки лицевых счетов'!E236","v":0},{"$f":"'Карточки лицевых счетов'!F236+'Карточки лицевых счетов'!G236","v":0},{"$f":"'Карточки лицевых счетов'!H236","v":0},{"$f":"'Карточки лицевых счетов'!I236","v":0},{"$f":"'Карточки лицевых счетов'!J236","v":0},{"$f":"'Карточки лицевых счетов'!K236","v":0},{"$f":"SUM(B305:J305)","v":0},{"$f":"K305-J305","v":0},{"$f":"L305*Q286","v":0},{"$f":"L305*1%","v":0},null,null,null,null,null,null,null,null,null,null,null,null,null,{"$f":"SUM(O305:T305)","v":0}]
["Сентябрь",{"$f":"'Карточки лицевых счетов'!B237","v":0},{"$f":"'Карточки лицевых счетов'!C237","v":0},{"$f":"'Карточки лицевых счетов'!D237","v":0},{"$f":"'Карточки лицевых счетов'!E237","v":0},{"$f":"'Карточки лицевых счетов'!F237+'Карточки лицевых счетов'!G237","v":0},{"$f":"'Карточки лицевых счетов'!H237","v":0},{"$f":"'Карточки лицевых счетов'!I237","v":0},{"$f":"'Карточки лицевых счетов'!J237","v":0},{"$f":"'Карточки лицевых счетов'!K237","v":0},{"$f":"SUM(B306:J306)","v":0},0,{"$f":"L306*Q286","v":0},{"$f":"L306*1%","v":0},null,null,null,null,null,null,null,null,null,null,null,null,null,{"$f":"SUM(O306:T306)","v":0}]
["Итого за III квартал",{"$f":"SUM(B304:B306)","v":0},0,0,0,0,0,0,0,0,0,0,0,0,0,0,0,0,0,0,"х",{"$f":"SUM(V304:V306)","v":0},{"$f":"SUM(W304:W306)","v":0},null,null,null,null,{"$f":"SUM(AB304:AB306)","v":0}]
["Итого c начала года",{"$f":" B303+ B307","v":0},{"$f":" C303+ C307","v":0},0,0,0,0,0,0,0,0,0,0,0,0,0,0,0,0,0,null,{"$f":" V298+ V302+ V307","v":0},0]
["Октябрь",{"$f":"'Карточки лицевых счетов'!B238","v":0},{"$f":"'Карточки лицевых счетов'!C238","v":0},{"$f":"'Карточки лицевых счетов'!D238","v":0},{"$f":"'Карточки лицевых счетов'!E238","v":0},{"$f":"'Карточки лицевых счетов'!F238+'Карточки лицевых счетов'!G238","v":0},{"$f":"'Карточки лицевых счетов'!H238","v":0},{"$f":"'Карточки лицевых счетов'!I238","v":0},{"$f":"'Карточки лицевых счетов'!J238","v":0},{"$f":"'Карточки лицевых счетов'!K238","v":0},{"$f":"SUM(B309:J309)","v":0},{"$f":"K309-J309","v":0},{"$f":"L309*Q286","v":0},{"$f":"L309*1%","v":0},null,null,null,null,null,null,null,null,null,null,null,null,null,{"$f":"SUM(O309:T309)","v":0}]
["Ноябрь",{"$f":"'Карточки лицевых счетов'!B239","v":0},{"$f":"'Карточки лицевых счетов'!C239","v":0},{"$f":"'Карточки лицевых счетов'!D239","v":0},{"$f":"'Карточки лицевых счетов'!E239","v":0},{"$f":"'Карточки лицевых счетов'!F239+'Карточки лицевых счетов'!G239","v":0},{"$f":"'Карточки лицевых счетов'!H239","v":0},{"$f":"'Карточки лицевых счетов'!I239","v":0},{"$f":"'Карточки лицевых счетов'!J239","v":0},{"$f":"'Карточки лицевых счетов'!K239","v":0},{"$f":"SUM(B310:J310)","v":0},{"$f":"K310-J310","v":0},{"$f":"L310*Q286","v":0},{"$f":"L310*1%","v":0},null,null,null,null,null,null,null,null,null,null,null,null,null,{"$f":"SUM(O310:T310)","v":0}]
["Декабрь",{"$f":"'Карточки лицевых счетов'!B240","v":0},{"$f":"'Карточки лицевых счетов'!C240","v":0},{"$f":"'Карточки лицевых счетов'!D240","v":0},{"$f":"'Карточки лицевых счетов'!E240","v":0},{"$f":"'Карточки лицевых счетов'!F240+'Карточки лицевых счетов'!G240","v":0},{"$f":"'Карточки лицевых счетов'!H240","v":0},{"$f":"'Карточки лицевых счетов'!I240","v":0},{"$f":"'Карточки лицевых счетов'!J240","v":0},{"$f":"'Карточки лицевых счетов'!K240","v":0},{"$f":"SUM(B311:J311)","v":0},0,{"$f":"L311*Q286","v":0},{"$f":"L311*1%","v":0},null,null,null,null,null,null,null,null,null,null,null,null,null,{"$f":"SUM(O311:T311)","v":0}]
["Итого за IV квартал",{"$f":"SUM(B309:B311)","v":0},0,0,0,0,0,0,0,0,0,0,0,0,0,0,0,0,0,0,"х",{"$f":"SUM(V309:V311)","v":0},{"$f":"SUM(W309:W311)","v":0},null,null,null,null,{"$f":"SUM(AB309:AB311)","v":0}]
["Итого с начала года",{"$f":"B308+B312","v":0},{"$f":"C308+C312","v":0},{"$f":"D308+D312","v":0},{"$f":"E308+E312","v":0},{"$f":"F308+F312","v":0},{"$f":"G308+G312","v":0},{"$f":"H308+H312","v":0},{"$f":"I308+I312","v":0},{"$f":"J308+J312","v":0},{"$f":"K308+K312","v":0},{"$f":"L308+L312","v":0},{"$f":"M308+M312","v":0},{"$f":"N308+N312","v":0},{"$f":"O308+O312","v":0},{"$f":"P308+P312","v":0},{"$f":"Q308+Q312","v":0},{"$f":"R308+R312","v":0},{"$f":"S308+S312","v":0},{"$f":"T308+T312","v":0},"х",{"$f":"V298+V302+V307+V312","v":0},{"$f":"W298+W302+W307+W312","v":0},null,null,null,null,{"$f":"AB298+AB302+AB307+AB312","v":0}]
[]
["* Заполняется по работникам, с которыми заключены гражданско-правовые договоры."]
["** Заполняется по работникам-инвалидам."]
[]
["1. Карточка  учета  начисленных  обязательных  страховых взносов в бюджет фонда и пособий из средств бюджета фонда"]
[{"$f":"'Карточки лицевых счетов'!L245","v":"10"},null,null,null,null,null,null,null,null,null,null,null,null,null,null,null,null,null,null,null,null,null,null,10]
["(фамилия, собственное имя, отчество (если таковое имеется) работника)"]
[null,null,null,null,null,null,null,null,null,null,null,null,null,null,null,null,{"$f":"$Q$6","v":0.35},"- размер страховых взносов в ФСЗН"]
["(дата и номер договора, дата выплаты вознаграждения)*"]
[]
["(группа и период инвалидности)**"]
[null,null,null,null,null,null,null,null,null,null,null,null,null,null,null,null,null,null,null,null,null,"(руб.)"]
["Месяц ","Выплаты в денежном и (или) натуральном выражении, начисленные в пользу работника",null,null,null,null,null,null,null,null,null,"Выплаты, на которые начисляются страховые взносы","Сумма начисленных страховых взносов ",null,"Начислено пособий "]
[null,"основная заработная плата","надбавка","премия","индексация","отпуск","комп. за неисп. отпуск","прочие","мат. помощь","больничный","итого \n(гр. 2 + гр. 3 + гр. 4 + гр. 5) ",null,null,null,"сумма ",null,null,null,null,null,"за какой месяц","количество рабочих дней ","количество пособий"]
[null,null,null,null,null,null,null,null,null,null,null,null,"всего","в том числе 1% ","пособия по временной нетрудо-способности","пособия по беремен-ности и родам","единовре-менные пособия","пособия по уходу за ребенком в возрасте до 3 лет","пособия на детей старше 3 лет из отдельных категорий семей и семьям на детей в возрасте от 3 до 18 лет в период воспитания ребенка в возрасте до 3 лет","оплата свободного от работы дня матери (мачехе) или отцу (отчиму), опекуну (попечителю), воспитывающей (ему) ребенка-инвалида в возрасте до 18 лет"]
[1,2,3,"3а","3б","3в","3г","3е",4,5,6,7,8,9,10,11,12,13,14,15,16,17,18,null,null,null,null,"Пособия по карточке"]
["Январь",{"$f":"'Карточки лицевых счетов'!B256","v":0},{"$f":"'Карточки лицевых счетов'!C256","v":0},{"$f":"'Карточки лицевых счетов'!D256","v":0},{"$f":"'Карточки лицевых счетов'!E256","v":0},{"$f":"'Карточки лицевых счетов'!F256+'Карточки лицевых счетов'!G256","v":0},{"$f":"'Карточки лицевых счетов'!H256","v":0},{"$f":"'Карточки лицевых счетов'!I256","v":0},{"$f":"'Карточки лицевых счетов'!J256","v":0},{"$f":"'Карточки лицевых счетов'!K256","v":0},{"$f":"SUM(B330:J330)","v":0},{"$f":"K330-J330","v":0},{"$f":"L330*Q321","v":0},{"$f":"L330*1%","v":0},null,null,null,null,null,null,null,null,null,null,null,null,null,{"$f":"SUM(O330:T330)","v":0}]
["Февраль",{"$f":"'Карточки лицевых счетов'!B257","v":0},{"$f":"'Карточки лицевых счетов'!C257","v":0},{"$f":"'Карточки лицевых счетов'!D257","v":0},{"$f":"'Карточки лицевых счетов'!E257","v":0},{"$f":"'Карточки лицевых счетов'!F257+'Карточки лицевых счетов'!G257","v":0},{"$f":"'Карточки лицевых счетов'!H257","v":0},{"$f":"'Карточки лицевых счетов'!I257","v":0},{"$f":"'Карточки лицевых счетов'!J257","v":0},{"$f":"'Карточки лицевых счетов'!K257","v":0},{"$f":"SUM(B331:J331)","v":0},{"$f":"K331-J331","v":0},{"$f":"L331*Q321","v":0},{"$f":"L331*1%","v":0},null,null,null,null,null,null,null,null,null,null,null,null,null,{"$f":"SUM(O331:T331)","v":0}]
["Март",{"$f":"'Карточки лицевых счетов'!B258","v":0},{"$f":"'Карточки лицевых счетов'!C258","v":0},{"$f":"'Карточки лицевых счетов'!D258","v":0},{"$f":"'Карточки лицевых счетов'!E258","v":0},{"$f":"'Карточки лицевых счетов'!F258+'Карточки лицевых счетов'!G258","v":0},{"$f":"'Карточки лицевых счетов'!H258","v":0},{"$f":"'Карточки лицевых счетов'!I258","v":0},{"$f":"'Карточки лицевых счетов'!J258","v":0},{"$f":"'Карточки лицевых счетов'!K258","v":0},{"$f":"SUM(B332:J332)","v":0},0,{"$f":"L332*Q321","v":0},{"$f":"L332*1%","v":0},null,null,null,null,null,null,null,null,null,null,null,null,null,{"$f":"SUM(O332:T332)","v":0}]
["Итого за I квартал / Итого c начала года",{"$f":"SUM(B330:B332)","v":0},0,0,0,0,0,0,0,0,0,0,0,0,0,0,0,0,0,0,"х",{"$f":"SUM(V330:V332)","v":0},{"$f":"SUM(W330:W332)","v":0},null,null,null,null,{"$f":"SUM(AB330:AB332)","v":0}]
["Апрель",{"$f":"'Карточки лицевых счетов'!B259","v":0},{"$f":"'Карточки лицевых счетов'!C259","v":0},{"$f":"'Карточки лицевых счетов'!D259","v":0},{"$f":"'Карточки лицевых счетов'!E259","v":0},{"$f":"'Карточки лицевых счетов'!F259+'Карточки лицевых счетов'!G259","v":0},{"$f":"'Карточки лицевых счетов'!H259","v":0},{"$f":"'Карточки лицевых счетов'!I259","v":0},{"$f":"'Карточки лицевых счетов'!J259","v":0},{"$f":"'Карточки лицевых счетов'!K259","v":0},{"$f":"SUM(B334:J334)","v":0},{"$f":"K334-J334","v":0},{"$f":"L334*Q321","v":0},{"$f":"L334*1%","v":0},null,null,null,null,null,null,null,null,null,null,null,null,null,{"$f":"SUM(O334:T334)","v":0}]
["Май",{"$f":"'Карточки лицевых счетов'!B260","v":0},{"$f":"'Карточки лицевых счетов'!C260","v":0},{"$f":"'Карточки лицевых счетов'!D260","v":0},{"$f":"'Карточки лицевых счетов'!E260","v":0},{"$f":"'Карточки лицевых счетов'!F260+'Карточки лицевых счетов'!G260","v":0},{"$f":"'Карточки лицевых счетов'!H260","v":0},{"$f":"'Карточки лицевых счетов'!I260","v":0},{"$f":"'Карточки лицевых счетов'!J260","v":0},{"$f":"'Карточки лицевых счетов'!K260","v":0},{"$f":"SUM(B335:J335)","v":0},{"$f":"K335-J335","v":0},{"$f":"L335*Q321","v":0},{"$f":"L335*1%","v":0},null,null,null,null,null,null,null,null,null,null,null,null,null,{"$f":"SUM(O335:T335)","v":0}]
["Июнь",{"$f":"'Карточки лицевых счетов'!B261","v":0},{"$f":"'Карточки лицевых счетов'!C261","v":0},{"$f":"'Карточки лицевых счетов'!D261","v":0},{"$f":"'Карточки лицевых счетов'!E261","v":0},{"$f":"'Карточки лицевых счетов'!F261+'Карточки лицевых счетов'!G261","v":0},{"$f":"'Карточки лицевых счетов'!H261","v":0},{"$f":"'Карточки лицевых счетов'!I261","v":0},{"$f":"'Карточки лицевых счетов'!J261","v":0},{"$f":"'Карточки лицевых счетов'!K261","v":0},{"$f":"SUM(B336:J336)","v":0},0,{"$f":"L336*Q321","v":0},{"$f":"L336*1%","v":0},null,null,null,null,null,null,null,null,null,null,null,null,null,{"$f":"SUM(O336:T336)","v":0}]
["Итого за II квартал",{"$f":"SUM(B334:B336)","v":0},0,0,0,0,0,0,0,0,0,0,0,0,0,0,0,0,0,0,"х",{"$f":"SUM(V334:V336)","v":0},{"$f":"SUM(W334:W336)","v":0},null,null,null,null,{"$f":"SUM(AB334:AB336)","v":0}]
["Итого c начала года",{"$f":" B333+ B337","v":0},{"$f":" C333+ C337","v":0},0,0,0,0,0,0,0,0,0,0,0,0,0,0,0,0,0,null,0,0]
["Июль",{"$f":"'Карточки лицевых счетов'!B262","v":0},{"$f":"'Карточки лицевых счетов'!C262","v":0},{"$f":"'Карточки лицевых счетов'!D262","v":0},{"$f":"'Карточки лицевых счетов'!E262","v":0},{"$f":"'Карточки лицевых счетов'!F262+'Карточки лицевых счетов'!G262","v":0},{"$f":"'Карточки лицевых счетов'!H262","v":0},{"$f":"'Карточки лицевых счетов'!I262","v":0},{"$f":"'Карточки лицевых счетов'!J262","v":0},{"$f":"'Карточки лицевых счетов'!K262","v":0},{"$f":"SUM(B339:J339)","v":0},{"$f":"K339-J339","v":0},{"$f":"L339*Q321","v":0},{"$f":"L339*1%","v":0},null,null,null,null,null,null,null,null,null,null,null,null,null,{"$f":"SUM(O339:T339)","v":0}]
["Август",{"$f":"'Карточки лицевых счетов'!B263","v":0},{"$f":"'Карточки лицевых счетов'!C263","v":0},{"$f":"'Карточки лицевых счетов'!D263","v":0},{"$f":"'Карточки лицевых счетов'!E263","v":0},{"$f":"'Карточки лицевых счетов'!F263+'Карточки лицевых счетов'!G263","v":0},{"$f":"'Карточки лицевых счетов'!H263","v":0},{"$f":"'Карточки лицевых счетов'!I263","v":0},{"$f":"'Карточки лицевых счетов'!J263","v":0},{"$f":"'Карточки лицевых счетов'!K263","v":0},{"$f":"SUM(B340:J340)","v":0},{"$f":"K340-J340","v":0},{"$f":"L340*Q321","v":0},{"$f":"L340*1%","v":0},null,null,null,null,null,null,null,null,null,null,null,null,null,{"$f":"SUM(O340:T340)","v":0}]
["Сентябрь",{"$f":"'Карточки лицевых счетов'!B264","v":0},{"$f":"'Карточки лицевых счетов'!C264","v":0},{"$f":"'Карточки лицевых счетов'!D264","v":0},{"$f":"'Карточки лицевых счетов'!E264","v":0},{"$f":"'Карточки лицевых счетов'!F264+'Карточки лицевых счетов'!G264","v":0},{"$f":"'Карточки лицевых счетов'!H264","v":0},{"$f":"'Карточки лицевых счетов'!I264","v":0},{"$f":"'Карточки лицевых счетов'!J264","v":0},{"$f":"'Карточки лицевых счетов'!K264","v":0},{"$f":"SUM(B341:J341)","v":0},0,{"$f":"L341*Q321","v":0},{"$f":"L341*1%","v":0},null,null,null,null,null,null,null,null,null,null,null,null,null,{"$f":"SUM(O341:T341)","v":0}]
["Итого за III квартал",{"$f":"SUM(B339:B341)","v":0},0,0,0,0,0,0,0,0,0,0,0,0,0,0,0,0,0,0,"х",{"$f":"SUM(V339:V341)","v":0},{"$f":"SUM(W339:W341)","v":0},null,null,null,null,{"$f":"SUM(AB339:AB341)","v":0}]
["Итого c начала года",{"$f":" B338+ B342","v":0},{"$f":" C338+ C342","v":0},0,0,0,0,0,0,0,0,0,0,0,0,0,0,0,0,0,null,{"$f":" V333+ V337+ V342","v":0},0]
["Октябрь",{"$f":"'Карточки лицевых счетов'!B265","v":0},{"$f":"'Карточки лицевых счетов'!C265","v":0},{"$f":"'Карточки лицевых счетов'!D265","v":0},{"$f":"'Карточки лицевых счетов'!E265","v":0},{"$f":"'Карточки лицевых счетов'!F265+'Карточки лицевых счетов'!G265","v":0},{"$f":"'Карточки лицевых счетов'!H265","v":0},{"$f":"'Карточки лицевых счетов'!I265","v":0},{"$f":"'Карточки лицевых счетов'!J265","v":0},{"$f":"'Карточки лицевых счетов'!K265","v":0},{"$f":"SUM(B344:J344)","v":0},{"$f":"K344-J344","v":0},{"$f":"L344*Q321","v":0},{"$f":"L344*1%","v":0},null,null,null,null,null,null,null,null,null,null,null,null,null,{"$f":"SUM(O344:T344)","v":0}]
["Ноябрь",{"$f":"'Карточки лицевых счетов'!B266","v":0},{"$f":"'Карточки лицевых счетов'!C266","v":0},{"$f":"'Карточки лицевых счетов'!D266","v":0},{"$f":"'Карточки лицевых счетов'!E266","v":0},{"$f":"'Карточки лицевых счетов'!F266+'Карточки лицевых счетов'!G266","v":0},{"$f":"'Карточки лицевых счетов'!H266","v":0},{"$f":"'Карточки лицевых счетов'!I266","v":0},{"$f":"'Карточки лицевых счетов'!J266","v":0},{"$f":"'Карточки лицевых счетов'!K266","v":0},{"$f":"SUM(B345:J345)","v":0},{"$f":"K345-J345","v":0},{"$f":"L345*Q321","v":0},{"$f":"L345*1%","v":0},null,null,null,null,null,null,null,null,null,null,null,null,null,{"$f":"SUM(O345:T345)","v":0}]
["Декабрь",{"$f":"'Карточки лицевых счетов'!B267","v":0},{"$f":"'Карточки лицевых счетов'!C267","v":0},{"$f":"'Карточки лицевых счетов'!D267","v":0},{"$f":"'Карточки лицевых счетов'!E267","v":0},{"$f":"'Карточки лицевых счетов'!F267+'Карточки лицевых счетов'!G267","v":0},{"$f":"'Карточки лицевых счетов'!H267","v":0},{"$f":"'Карточки лицевых счетов'!I267","v":0},{"$f":"'Карточки лицевых счетов'!J267","v":0},{"$f":"'Карточки лицевых счетов'!K267","v":0},{"$f":"SUM(B346:J346)","v":0},0,{"$f":"L346*Q321","v":0},{"$f":"L346*1%","v":0},null,null,null,null,null,null,null,null,null,null,null,null,null,{"$f":"SUM(O346:T346)","v":0}]
["Итого за IV квартал",{"$f":"SUM(B344:B346)","v":0},0,0,0,0,0,0,0,0,0,0,0,0,0,0,0,0,0,0,"х",{"$f":"SUM(V344:V346)","v":0},{"$f":"SUM(W344:W346)","v":0},null,null,null,null,{"$f":"SUM(AB344:AB346)","v":0}]
["Итого с начала года",{"$f":"B343+B347","v":0},{"$f":"C343+C347","v":0},{"$f":"D343+D347","v":0},{"$f":"E343+E347","v":0},{"$f":"F343+F347","v":0},{"$f":"G343+G347","v":0},{"$f":"H343+H347","v":0},{"$f":"I343+I347","v":0},{"$f":"J343+J347","v":0},{"$f":"K343+K347","v":0},{"$f":"L343+L347","v":0},{"$f":"M343+M347","v":0},{"$f":"N343+N347","v":0},{"$f":"O343+O347","v":0},{"$f":"P343+P347","v":0},{"$f":"Q343+Q347","v":0},{"$f":"R343+R347","v":0},{"$f":"S343+S347","v":0},{"$f":"T343+T347","v":0},"х",{"$f":"V333+V337+V342+V347","v":0},{"$f":"W333+W337+W342+W347","v":0},null,null,null,null,{"$f":"AB333+AB337+AB342+AB347","v":0}]
[]
["* Заполняется по работникам, с которыми заключены гражданско-правовые договоры."]
["** Заполняется по работникам-инвалидам."]
[]
["1. Карточка  учета  начисленных  обязательных  страховых взносов в бюджет фонда и пособий из средств бюджета фонда"]
[{"$f":"'Карточки лицевых счетов'!L272","v":"11"},null,null,null,null,null,null,null,null,null,null,null,null,null,null,null,null,null,null,null,null,null,null,11]
["(фамилия, собственное имя, отчество (если таковое имеется) работника)"]
[null,null,null,null,null,null,null,null,null,null,null,null,null,null,null,null,{"$f":"$Q$6","v":0.35},"- размер страховых взносов в ФСЗН"]
["(дата и номер договора, дата выплаты вознаграждения)*"]
[]
["(группа и период инвалидности)**"]
[null,null,null,null,null,null,null,null,null,null,null,null,null,null,null,null,null,null,null,null,null,"(руб.)"]
["Месяц ","Выплаты в денежном и (или) натуральном выражении, начисленные в пользу работника",null,null,null,null,null,null,null,null,null,"Выплаты, на которые начисляются страховые взносы","Сумма начисленных страховых взносов ",null,"Начислено пособий "]
[null,"основная заработная плата","надбавка","премия","индексация","отпуск","комп. за неисп. отпуск","прочие","мат. помощь","больничный","итого \n(гр. 2 + гр. 3 + гр. 4 + гр. 5) ",null,null,null,"сумма ",null,null,null,null,null,"за какой месяц","количество рабочих дней ","количество пособий"]
[null,null,null,null,null,null,null,null,null,null,null,null,"всего","в том числе 1% ","пособия по временной нетрудо-способности","пособия по беремен-ности и родам","единовре-менные пособия","пособия по уходу за ребенком в возрасте до 3 лет","пособия на детей старше 3 лет из отдельных категорий семей и семьям на детей в возрасте от 3 до 18 лет в период воспитания ребенка в возрасте до 3 лет","оплата свободного от работы дня матери (мачехе) или отцу (отчиму), опекуну (попечителю), воспитывающей (ему) ребенка-инвалида в возрасте до 18 лет"]
[1,2,3,"3а","3б","3в","3г","3е",4,5,6,7,8,9,10,11,12,13,14,15,16,17,18,null,null,null,null,"Пособия по карточке"]
["Январь",{"$f":"'Карточки лицевых счетов'!B283","v":0},{"$f":"'Карточки лицевых счетов'!C283","v":0},{"$f":"'Карточки лицевых счетов'!D283","v":0},{"$f":"'Карточки лицевых счетов'!E283","v":0},{"$f":"'Карточки лицевых счетов'!F283+'Карточки лицевых счетов'!G283","v":0},{"$f":"'Карточки лицевых счетов'!H283","v":0},{"$f":"'Карточки лицевых счетов'!I283","v":0},{"$f":"'Карточки лицевых счетов'!J283","v":0},{"$f":"'Карточки лицевых счетов'!K283","v":0},{"$f":"SUM(B365:J365)","v":0},{"$f":"K365-J365","v":0},{"$f":"L365*Q356","v":0},{"$f":"L365*1%","v":0},null,null,null,null,null,null,null,null,null,null,null,null,null,{"$f":"SUM(O365:T365)","v":0}]
["Февраль",{"$f":"'Карточки лицевых счетов'!B284","v":0},{"$f":"'Карточки лицевых счетов'!C284","v":0},{"$f":"'Карточки лицевых счетов'!D284","v":0},{"$f":"'Карточки лицевых счетов'!E284","v":0},{"$f":"'Карточки лицевых счетов'!F284+'Карточки лицевых счетов'!G284","v":0},{"$f":"'Карточки лицевых счетов'!H284","v":0},{"$f":"'Карточки лицевых счетов'!I284","v":0},{"$f":"'Карточки лицевых счетов'!J284","v":0},{"$f":"'Карточки лицевых счетов'!K284","v":0},{"$f":"SUM(B366:J366)","v":0},{"$f":"K366-J366","v":0},{"$f":"L366*Q356","v":0},{"$f":"L366*1%","v":0},null,null,null,null,null,null,null,null,null,null,null,null,null,{"$f":"SUM(O366:T366)","v":0}]
["Март",{"$f":"'Карточки лицевых счетов'!B285","v":0},{"$f":"'Карточки лицевых счетов'!C285","v":0},{"$f":"'Карточки лицевых счетов'!D285","v":0},{"$f":"'Карточки лицевых счетов'!E285","v":0},{"$f":"'Карточки лицевых счетов'!F285+'Карточки лицевых счетов'!G285","v":0},{"$f":"'Карточки лицевых счетов'!H285","v":0},{"$f":"'Карточки лицевых счетов'!I285","v":0},{"$f":"'Карточки лицевых счетов'!J285","v":0},{"$f":"'Карточки лицевых счетов'!K285","v":0},{"$f":"SUM(B367:J367)","v":0},0,{"$f":"L367*Q356","v":0},{"$f":"L367*1%","v":0},null,null,null,null,null,null,null,null,null,null,null,null,null,{"$f":"SUM(O367:T367)","v":0}]
["Итого за I квартал / Итого c начала года",{"$f":"SUM(B365:B367)","v":0},0,0,0,0,0,0,0,0,0,0,0,0,0,0,0,0,0,0,"х",{"$f":"SUM(V365:V367)","v":0},{"$f":"SUM(W365:W367)","v":0},null,null,null,null,{"$f":"SUM(AB365:AB367)","v":0}]
["Апрель",{"$f":"'Карточки лицевых счетов'!B286","v":0},{"$f":"'Карточки лицевых счетов'!C286","v":0},{"$f":"'Карточки лицевых счетов'!D286","v":0},{"$f":"'Карточки лицевых счетов'!E286","v":0},{"$f":"'Карточки лицевых счетов'!F286+'Карточки лицевых счетов'!G286","v":0},{"$f":"'Карточки лицевых счетов'!H286","v":0},{"$f":"'Карточки лицевых счетов'!I286","v":0},{"$f":"'Карточки лицевых счетов'!J286","v":0},{"$f":"'Карточки лицевых счетов'!K286","v":0},{"$f":"SUM(B369:J369)","v":0},{"$f":"K369-J369","v":0},{"$f":"L369*Q356","v":0},{"$f":"L369*1%","v":0},null,null,null,null,null,null,null,null,null,null,null,null,null,{"$f":"SUM(O369:T369)","v":0}]
["Май",{"$f":"'Карточки лицевых счетов'!B287","v":0},{"$f":"'Карточки лицевых счетов'!C287","v":0},{"$f":"'Карточки лицевых счетов'!D287","v":0},{"$f":"'Карточки лицевых счетов'!E287","v":0},{"$f":"'Карточки лицевых счетов'!F287+'Карточки лицевых счетов'!G287","v":0},{"$f":"'Карточки лицевых счетов'!H287","v":0},{"$f":"'Карточки лицевых счетов'!I287","v":0},{"$f":"'Карточки лицевых счетов'!J287","v":0},{"$f":"'Карточки лицевых счетов'!K287","v":0},{"$f":"SUM(B370:J370)","v":0},{"$f":"K370-J370","v":0},{"$f":"L370*Q356","v":0},{"$f":"L370*1%","v":0},null,null,null,null,null,null,null,null,null,null,null,null,null,{"$f":"SUM(O370:T370)","v":0}]
["Июнь",{"$f":"'Карточки лицевых счетов'!B288","v":0},{"$f":"'Карточки лицевых счетов'!C288","v":0},{"$f":"'Карточки лицевых счетов'!D288","v":0},{"$f":"'Карточки лицевых счетов'!E288","v":0},{"$f":"'Карточки лицевых счетов'!F288+'Карточки лицевых счетов'!G288","v":0},{"$f":"'Карточки лицевых счетов'!H288","v":0},{"$f":"'Карточки лицевых счетов'!I288","v":0},{"$f":"'Карточки лицевых счетов'!J288","v":0},{"$f":"'Карточки лицевых счетов'!K288","v":0},{"$f":"SUM(B371:J371)","v":0},0,{"$f":"L371*Q356","v":0},{"$f":"L371*1%","v":0},null,null,null,null,null,null,null,null,null,null,null,null,null,{"$f":"SUM(O371:T371)","v":0}]
["Итого за II квартал",{"$f":"SUM(B369:B371)","v":0},0,0,0,0,0,0,0,0,0,0,0,0,0,0,0,0,0,0,"х",{"$f":"SUM(V369:V371)","v":0},{"$f":"SUM(W369:W371)","v":0},null,null,null,null,{"$f":"SUM(AB369:AB371)","v":0}]
["Итого c начала года",{"$f":" B368+ B372","v":0},{"$f":" C368+ C372","v":0},0,0,0,0,0,0,0,0,0,0,0,0,0,0,0,0,0,null,0,0]
["Июль",{"$f":"'Карточки лицевых счетов'!B289","v":0},{"$f":"'Карточки лицевых счетов'!C289","v":0},{"$f":"'Карточки лицевых счетов'!D289","v":0},{"$f":"'Карточки лицевых счетов'!E289","v":0},{"$f":"'Карточки лицевых счетов'!F289+'Карточки лицевых счетов'!G289","v":0},{"$f":"'Карточки лицевых счетов'!H289","v":0},{"$f":"'Карточки лицевых счетов'!I289","v":0},{"$f":"'Карточки лицевых счетов'!J289","v":0},{"$f":"'Карточки лицевых счетов'!K289","v":0},{"$f":"SUM(B374:J374)","v":0},{"$f":"K374-J374","v":0},{"$f":"L374*Q356","v":0},{"$f":"L374*1%","v":0},null,null,null,null,null,null,null,null,null,null,null,null,null,{"$f":"SUM(O374:T374)","v":0}]
["Август",{"$f":"'Карточки лицевых счетов'!B290","v":0},{"$f":"'Карточки лицевых счетов'!C290","v":0},{"$f":"'Карточки лицевых счетов'!D290","v":0},{"$f":"'Карточки лицевых счетов'!E290","v":0},{"$f":"'Карточки лицевых счетов'!F290+'Карточки лицевых счетов'!G290","v":0},{"$f":"'Карточки лицевых счетов'!H290","v":0},{"$f":"'Карточки лицевых счетов'!I290","v":0},{"$f":"'Карточки лицевых счетов'!J290","v":0},{"$f":"'Карточки лицевых счетов'!K290","v":0},{"$f":"SUM(B375:J375)","v":0},{"$f":"K375-J375","v":0},{"$f":"L375*Q356","v":0},{"$f":"L375*1%","v":0},null,null,null,null,null,null,null,null,null,null,null,null,null,{"$f":"SUM(O375:T375)","v":0}]
["Сентябрь",{"$f":"'Карточки лицевых счетов'!B291","v":0},{"$f":"'Карточки лицевых счетов'!C291","v":0},{"$f":"'Карточки лицевых счетов'!D291","v":0},{"$f":"'Карточки лицевых счетов'!E291","v":0},{"$f":"'Карточки лицевых счетов'!F291+'Карточки лицевых счетов'!G291","v":0},{"$f":"'Карточки лицевых счетов'!H291","v":0},{"$f":"'Карточки лицевых счетов'!I291","v":0},{"$f":"'Карточки лицевых счетов'!J291","v":0},{"$f":"'Карточки лицевых счетов'!K291","v":0},{"$f":"SUM(B376:J376)","v":0},0,{"$f":"L376*Q356","v":0},{"$f":"L376*1%","v":0},null,null,null,null,null,null,null,null,null,null,null,null,null,{"$f":"SUM(O376:T376)","v":0}]
["Итого за III квартал",{"$f":"SUM(B374:B376)","v":0},0,0,0,0,0,0,0,0,0,0,0,0,0,0,0,0,0,0,"х",{"$f":"SUM(V374:V376)","v":0},{"$f":"SUM(W374:W376)","v":0},null,null,null,null,{"$f":"SUM(AB374:AB376)","v":0}]
["Итого c начала года",{"$f":" B373+ B377","v":0},{"$f":" C373+ C377","v":0},0,0,0,0,0,0,0,0,0,0,0,0,0,0,0,0,0,null,{"$f":" V368+ V372+ V377","v":0},0]
["Октябрь",{"$f":"'Карточки лицевых счетов'!B292","v":0},{"$f":"'Карточки лицевых счетов'!C292","v":0},{"$f":"'Карточки лицевых счетов'!D292","v":0},{"$f":"'Карточки лицевых счетов'!E292","v":0},{"$f":"'Карточки лицевых счетов'!F292+'Карточки лицевых счетов'!G292","v":0},{"$f":"'Карточки лицевых счетов'!H292","v":0},{"$f":"'Карточки лицевых счетов'!I292","v":0},{"$f":"'Карточки лицевых счетов'!J292","v":0},{"$f":"'Карточки лицевых счетов'!K292","v":0},{"$f":"SUM(B379:J379)","v":0},{"$f":"K379-J379","v":0},{"$f":"L379*Q356","v":0},{"$f":"L379*1%","v":0},null,null,null,null,null,null,null,null,null,null,null,null,null,{"$f":"SUM(O379:T379)","v":0}]
["Ноябрь",{"$f":"'Карточки лицевых счетов'!B293","v":0},{"$f":"'Карточки лицевых счетов'!C293","v":0},{"$f":"'Карточки лицевых счетов'!D293","v":0},{"$f":"'Карточки лицевых счетов'!E293","v":0},{"$f":"'Карточки лицевых счетов'!F293+'Карточки лицевых счетов'!G293","v":0},{"$f":"'Карточки лицевых счетов'!H293","v":0},{"$f":"'Карточки лицевых счетов'!I293","v":0},{"$f":"'Карточки лицевых счетов'!J293","v":0},{"$f":"'Карточки лицевых счетов'!K293","v":0},{"$f":"SUM(B380:J380)","v":0},{"$f":"K380-J380","v":0},{"$f":"L380*Q356","v":0},{"$f":"L380*1%","v":0},null,null,null,null,null,null,null,null,null,null,null,null,null,{"$f":"SUM(O380:T380)","v":0}]
["Декабрь",{"$f":"'Карточки лицевых счетов'!B294","v":0},{"$f":"'Карточки лицевых счетов'!C294","v":0},{"$f":"'Карточки лицевых счетов'!D294","v":0},{"$f":"'Карточки лицевых счетов'!E294","v":0},{"$f":"'Карточки лицевых счетов'!F294+'Карточки лицевых счетов'!G294","v":0},{"$f":"'Карточки лицевых счетов'!H294","v":0},{"$f":"'Карточки лицевых счетов'!I294","v":0},{"$f":"'Карточки лицевых счетов'!J294","v":0},{"$f":"'Карточки лицевых счетов'!K294","v":0},{"$f":"SUM(B381:J381)","v":0},0,{"$f":"L381*Q356","v":0},{"$f":"L381*1%","v":0},null,null,null,null,null,null,null,null,null,null,null,null,null,{"$f":"SUM(O381:T381)","v":0}]
["Итого за IV квартал",{"$f":"SUM(B379:B381)","v":0},0,0,0,0,0,0,0,0,0,0,0,0,0,0,0,0,0,0,"х",{"$f":"SUM(V379:V381)","v":0},{"$f":"SUM(W379:W381)","v":0},null,null,null,null,{"$f":"SUM(AB379:AB381)","v":0}]
["Итого с начала года",{"$f":"B378+B382","v":0},{"$f":"C378+C382","v":0},{"$f":"D378+D382","v":0},{"$f":"E378+E382","v":0},{"$f":"F378+F382","v":0},{"$f":"G378+G382","v":0},{"$f":"H378+H382","v":0},{"$f":"I378+I382","v":0},{"$f":"J378+J382","v":0},{"$f":"K378+K382","v":0},{"$f":"L378+L382","v":0},{"$f":"M378+M382","v":0},{"$f":"N378+N382","v":0},{"$f":"O378+O382","v":0},{"$f":"P378+P382","v":0},{"$f":"Q378+Q382","v":0},{"$f":"R378+R382","v":0},{"$f":"S378+S382","v":0},{"$f":"T378+T382","v":0},"х",{"$f":"V368+V372+V377+V382","v":0},{"$f":"W368+W372+W377+W382","v":0},null,null,null,null,{"$f":"AB368+AB372+AB377+AB382","v":0}]
[]
["* Заполняется по работникам, с которыми заключены гражданско-правовые договоры."]
["** Заполняется по работникам-инвалидам."]
[]
["1. Карточка  учета  начисленных  обязательных  страховых взносов в бюджет фонда и пособий из средств бюджета фонда"]
[{"$f":"'Карточки лицевых счетов'!L299","v":"12"},null,null,null,null,null,null,null,null,null,null,null,null,null,null,null,null,null,null,null,null,null,null,12]
["(фамилия, собственное имя, отчество (если таковое имеется) работника)"]
[null,null,null,null,null,null,null,null,null,null,null,null,null,null,null,null,{"$f":"$Q$6","v":0.35},"- размер страховых взносов в ФСЗН"]
["(дата и номер договора, дата выплаты вознаграждения)*"]
[]
["(группа и период инвалидности)**"]
[null,null,null,null,null,null,null,null,null,null,null,null,null,null,null,null,null,null,null,null,null,"(руб.)"]
["Месяц ","Выплаты в денежном и (или) натуральном выражении, начисленные в пользу работника",null,null,null,null,null,null,null,null,null,"Выплаты, на которые начисляются страховые взносы","Сумма начисленных страховых взносов ",null,"Начислено пособий "]
[null,"основная заработная плата","надбавка","премия","индексация","отпуск","комп. за неисп. отпуск","прочие","мат. помощь","больничный","итого \n(гр. 2 + гр. 3 + гр. 4 + гр. 5) ",null,null,null,"сумма ",null,null,null,null,null,"за какой месяц","количество рабочих дней ","количество пособий"]
[null,null,null,null,null,null,null,null,null,null,null,null,"всего","в том числе 1% ","пособия по временной нетрудо-способности","пособия по беремен-ности и родам","единовре-менные пособия","пособия по уходу за ребенком в возрасте до 3 лет","пособия на детей старше 3 лет из отдельных категорий семей и семьям на детей в возрасте от 3 до 18 лет в период воспитания ребенка в возрасте до 3 лет","оплата свободного от работы дня матери (мачехе) или отцу (отчиму), опекуну (попечителю), воспитывающей (ему) ребенка-инвалида в возрасте до 18 лет"]
[1,2,3,"3а","3б","3в","3г","3е",4,5,6,7,8,9,10,11,12,13,14,15,16,17,18,null,null,null,null,"Пособия по карточке"]
["Январь",{"$f":"'Карточки лицевых счетов'!B310","v":0},{"$f":"'Карточки лицевых счетов'!C310","v":0},{"$f":"'Карточки лицевых счетов'!D310","v":0},{"$f":"'Карточки лицевых счетов'!E310","v":0},{"$f":"'Карточки лицевых счетов'!F310+'Карточки лицевых счетов'!G310","v":0},{"$f":"'Карточки лицевых счетов'!H310","v":0},{"$f":"'Карточки лицевых счетов'!I310","v":0},{"$f":"'Карточки лицевых счетов'!J310","v":0},{"$f":"'Карточки лицевых счетов'!K310","v":0},{"$f":"SUM(B400:J400)","v":0},{"$f":"K400-J400","v":0},{"$f":"L400*Q391","v":0},{"$f":"L400*1%","v":0},null,null,null,null,null,null,null,null,null,null,null,null,null,{"$f":"SUM(O400:T400)","v":0}]
["Февраль",{"$f":"'Карточки лицевых счетов'!B311","v":0},{"$f":"'Карточки лицевых счетов'!C311","v":0},{"$f":"'Карточки лицевых счетов'!D311","v":0},{"$f":"'Карточки лицевых счетов'!E311","v":0},{"$f":"'Карточки лицевых счетов'!F311+'Карточки лицевых счетов'!G311","v":0},{"$f":"'Карточки лицевых счетов'!H311","v":0},{"$f":"'Карточки лицевых счетов'!I311","v":0},{"$f":"'Карточки лицевых счетов'!J311","v":0},{"$f":"'Карточки лицевых счетов'!K311","v":0},{"$f":"SUM(B401:J401)","v":0},{"$f":"K401-J401","v":0},{"$f":"L401*Q391","v":0},{"$f":"L401*1%","v":0},null,null,null,null,null,null,null,null,null,null,null,null,null,{"$f":"SUM(O401:T401)","v":0}]
["Март",{"$f":"'Карточки лицевых счетов'!B312","v":0},{"$f":"'Карточки лицевых счетов'!C312","v":0},{"$f":"'Карточки лицевых счетов'!D312","v":0},{"$f":"'Карточки лицевых счетов'!E312","v":0},{"$f":"'Карточки лицевых счетов'!F312+'Карточки лицевых счетов'!G312","v":0},{"$f":"'Карточки лицевых счетов'!H312","v":0},{"$f":"'Карточки лицевых счетов'!I312","v":0},{"$f":"'Карточки лицевых счетов'!J312","v":0},{"$f":"'Карточки лицевых счетов'!K312","v":0},{"$f":"SUM(B402:J402)","v":0},0,{"$f":"L402*Q391","v":0},{"$f":"L402*1%","v":0},null,null,null,null,null,null,null,null,null,null,null,null,null,{"$f":"SUM(O402:T402)","v":0}]
["Итого за I квартал / Итого c начала года",{"$f":"SUM(B400:B402)","v":0},0,0,0,0,0,0,0,0,0,0,0,0,0,0,0,0,0,0,"х",{"$f":"SUM(V400:V402)","v":0},{"$f":"SUM(W400:W402)","v":0},null,null,null,null,{"$f":"SUM(AB400:AB402)","v":0}]
["Апрель",{"$f":"'Карточки лицевых счетов'!B313","v":0},{"$f":"'Карточки лицевых счетов'!C313","v":0},{"$f":"'Карточки лицевых счетов'!D313","v":0},{"$f":"'Карточки лицевых счетов'!E313","v":0},{"$f":"'Карточки лицевых счетов'!F313+'Карточки лицевых счетов'!G313","v":0},{"$f":"'Карточки лицевых счетов'!H313","v":0},{"$f":"'Карточки лицевых счетов'!I313","v":0},{"$f":"'Карточки лицевых счетов'!J313","v":0},{"$f":"'Карточки лицевых счетов'!K313","v":0},{"$f":"SUM(B404:J404)","v":0},{"$f":"K404-J404","v":0},{"$f":"L404*Q391","v":0},{"$f":"L404*1%","v":0},null,null,null,null,null,null,null,null,null,null,null,null,null,{"$f":"SUM(O404:T404)","v":0}]
["Май",{"$f":"'Карточки лицевых счетов'!B314","v":0},{"$f":"'Карточки лицевых счетов'!C314","v":0},{"$f":"'Карточки лицевых счетов'!D314","v":0},{"$f":"'Карточки лицевых счетов'!E314","v":0},{"$f":"'Карточки лицевых счетов'!F314+'Карточки лицевых счетов'!G314","v":0},{"$f":"'Карточки лицевых счетов'!H314","v":0},{"$f":"'Карточки лицевых счетов'!I314","v":0},{"$f":"'Карточки лицевых счетов'!J314","v":0},{"$f":"'Карточки лицевых счетов'!K314","v":0},{"$f":"SUM(B405:J405)","v":0},{"$f":"K405-J405","v":0},{"$f":"L405*Q391","v":0},{"$f":"L405*1%","v":0},null,null,null,null,null,null,null,null,null,null,null,null,null,{"$f":"SUM(O405:T405)","v":0}]
["Июнь",{"$f":"'Карточки лицевых счетов'!B315","v":0},{"$f":"'Карточки лицевых счетов'!C315","v":0},{"$f":"'Карточки лицевых счетов'!D315","v":0},{"$f":"'Карточки лицевых счетов'!E315","v":0},{"$f":"'Карточки лицевых счетов'!F315+'Карточки лицевых счетов'!G315","v":0},{"$f":"'Карточки лицевых счетов'!H315","v":0},{"$f":"'Карточки лицевых счетов'!I315","v":0},{"$f":"'Карточки лицевых счетов'!J315","v":0},{"$f":"'Карточки лицевых счетов'!K315","v":0},{"$f":"SUM(B406:J406)","v":0},0,{"$f":"L406*Q391","v":0},{"$f":"L406*1%","v":0},null,null,null,null,null,null,null,null,null,null,null,null,null,{"$f":"SUM(O406:T406)","v":0}]
["Итого за II квартал",{"$f":"SUM(B404:B406)","v":0},0,0,0,0,0,0,0,0,0,0,0,0,0,0,0,0,0,0,"х",{"$f":"SUM(V404:V406)","v":0},{"$f":"SUM(W404:W406)","v":0},null,null,null,null,{"$f":"SUM(AB404:AB406)","v":0}]
["Итого c начала года",{"$f":" B403+ B407","v":0},{"$f":" C403+ C407","v":0},0,0,0,0,0,0,0,0,0,0,0,0,0,0,0,0,0,null,0,0]
["Июль",{"$f":"'Карточки лицевых счетов'!B316","v":0},{"$f":"'Карточки лицевых счетов'!C316","v":0},{"$f":"'Карточки лицевых счетов'!D316","v":0},{"$f":"'Карточки лицевых счетов'!E316","v":0},{"$f":"'Карточки лицевых счетов'!F316+'Карточки лицевых счетов'!G316","v":0},{"$f":"'Карточки лицевых счетов'!H316","v":0},{"$f":"'Карточки лицевых счетов'!I316","v":0},{"$f":"'Карточки лицевых счетов'!J316","v":0},{"$f":"'Карточки лицевых счетов'!K316","v":0},{"$f":"SUM(B409:J409)","v":0},{"$f":"K409-J409","v":0},{"$f":"L409*Q391","v":0},{"$f":"L409*1%","v":0},null,null,null,null,null,null,null,null,null,null,null,null,null,{"$f":"SUM(O409:T409)","v":0}]
["Август",{"$f":"'Карточки лицевых счетов'!B317","v":0},{"$f":"'Карточки лицевых счетов'!C317","v":0},{"$f":"'Карточки лицевых счетов'!D317","v":0},{"$f":"'Карточки лицевых счетов'!E317","v":0},{"$f":"'Карточки лицевых счетов'!F317+'Карточки лицевых счетов'!G317","v":0},{"$f":"'Карточки лицевых счетов'!H317","v":0},{"$f":"'Карточки лицевых счетов'!I317","v":0},{"$f":"'Карточки лицевых счетов'!J317","v":0},{"$f":"'Карточки лицевых счетов'!K317","v":0},{"$f":"SUM(B410:J410)","v":0},{"$f":"K410-J410","v":0},{"$f":"L410*Q391","v":0},{"$f":"L410*1%","v":0},null,null,null,null,null,null,null,null,null,null,null,null,null,{"$f":"SUM(O410:T410)","v":0}]
["Сентябрь",{"$f":"'Карточки лицевых счетов'!B318","v":0},{"$f":"'Карточки лицевых счетов'!C318","v":0},{"$f":"'Карточки лицевых счетов'!D318","v":0},{"$f":"'Карточки лицевых счетов'!E318","v":0},{"$f":"'Карточки лицевых счетов'!F318+'Карточки лицевых счетов'!G318","v":0},{"$f":"'Карточки лицевых счетов'!H318","v":0},{"$f":"'Карточки лицевых счетов'!I318","v":0},{"$f":"'Карточки лицевых счетов'!J318","v":0},{"$f":"'Карточки лицевых счетов'!K318","v":0},{"$f":"SUM(B411:J411)","v":0},0,{"$f":"L411*Q391","v":0},{"$f":"L411*1%","v":0},null,null,null,null,null,null,null,null,null,null,null,null,null,{"$f":"SUM(O411:T411)","v":0}]
["Итого за III квартал",{"$f":"SUM(B409:B411)","v":0},0,0,0,0,0,0,0,0,0,0,0,0,0,0,0,0,0,0,"х",{"$f":"SUM(V409:V411)","v":0},{"$f":"SUM(W409:W411)","v":0},null,null,null,null,{"$f":"SUM(AB409:AB411)","v":0}]
["Итого c начала года",{"$f":" B408+ B412","v":0},{"$f":" C408+ C412","v":0},0,0,0,0,0,0,0,0,0,0,0,0,0,0,0,0,0,null,{"$f":" V403+ V407+ V412","v":0},0]
["Октябрь",{"$f":"'Карточки лицевых счетов'!B319","v":0},{"$f":"'Карточки лицевых счетов'!C319","v":0},{"$f":"'Карточки лицевых счетов'!D319","v":0},{"$f":"'Карточки лицевых счетов'!E319","v":0},{"$f":"'Карточки лицевых счетов'!F319+'Карточки лицевых счетов'!G319","v":0},{"$f":"'Карточки лицевых счетов'!H319","v":0},{"$f":"'Карточки лицевых счетов'!I319","v":0},{"$f":"'Карточки лицевых счетов'!J319","v":0},{"$f":"'Карточки лицевых счетов'!K319","v":0},{"$f":"SUM(B414:J414)","v":0},{"$f":"K414-J414","v":0},{"$f":"L414*Q391","v":0},{"$f":"L414*1%","v":0},null,null,null,null,null,null,null,null,null,null,null,null,null,{"$f":"SUM(O414:T414)","v":0}]
["Ноябрь",{"$f":"'Карточки лицевых счетов'!B320","v":0},{"$f":"'Карточки лицевых счетов'!C320","v":0},{"$f":"'Карточки лицевых счетов'!D320","v":0},{"$f":"'Карточки лицевых счетов'!E320","v":0},{"$f":"'Карточки лицевых счетов'!F320+'Карточки лицевых счетов'!G320","v":0},{"$f":"'Карточки лицевых счетов'!H320","v":0},{"$f":"'Карточки лицевых счетов'!I320","v":0},{"$f":"'Карточки лицевых счетов'!J320","v":0},{"$f":"'Карточки лицевых счетов'!K320","v":0},{"$f":"SUM(B415:J415)","v":0},{"$f":"K415-J415","v":0},{"$f":"L415*Q391","v":0},{"$f":"L415*1%","v":0},null,null,null,null,null,null,null,null,null,null,null,null,null,{"$f":"SUM(O415:T415)","v":0}]
["Декабрь",{"$f":"'Карточки лицевых счетов'!B321","v":0},{"$f":"'Карточки лицевых счетов'!C321","v":0},{"$f":"'Карточки лицевых счетов'!D321","v":0},{"$f":"'Карточки лицевых счетов'!E321","v":0},{"$f":"'Карточки лицевых счетов'!F321+'Карточки лицевых счетов'!G321","v":0},{"$f":"'Карточки лицевых счетов'!H321","v":0},{"$f":"'Карточки лицевых счетов'!I321","v":0},{"$f":"'Карточки лицевых счетов'!J321","v":0},{"$f":"'Карточки лицевых счетов'!K321","v":0},{"$f":"SUM(B416:J416)","v":0},0,{"$f":"L416*Q391","v":0},{"$f":"L416*1%","v":0},null,null,null,null,null,null,null,null,null,null,null,null,null,{"$f":"SUM(O416:T416)","v":0}]
["Итого за IV квартал",{"$f":"SUM(B414:B416)","v":0},0,0,0,0,0,0,0,0,0,0,0,0,0,0,0,0,0,0,"х",{"$f":"SUM(V414:V416)","v":0},{"$f":"SUM(W414:W416)","v":0},null,null,null,null,{"$f":"SUM(AB414:AB416)","v":0}]
["Итого с начала года",{"$f":"B413+B417","v":0},{"$f":"C413+C417","v":0},{"$f":"D413+D417","v":0},{"$f":"E413+E417","v":0},{"$f":"F413+F417","v":0},{"$f":"G413+G417","v":0},{"$f":"H413+H417","v":0},{"$f":"I413+I417","v":0},{"$f":"J413+J417","v":0},{"$f":"K413+K417","v":0},{"$f":"L413+L417","v":0},{"$f":"M413+M417","v":0},{"$f":"N413+N417","v":0},{"$f":"O413+O417","v":0},{"$f":"P413+P417","v":0},{"$f":"Q413+Q417","v":0},{"$f":"R413+R417","v":0},{"$f":"S413+S417","v":0},{"$f":"T413+T417","v":0},"х",{"$f":"V403+V407+V412+V417","v":0},{"$f":"W403+W407+W412+W417","v":0},null,null,null,null,{"$f":"AB403+AB407+AB412+AB417","v":0}]
[]
["* Заполняется по работникам, с которыми заключены гражданско-правовые договоры."]
["** Заполняется по работникам-инвалидам."]
[]
["1. Карточка  учета  начисленных  обязательных  страховых взносов в бюджет фонда и пособий из средств бюджета фонда"]
[{"$f":"'Карточки лицевых счетов'!L326","v":"13"},null,null,null,null,null,null,null,null,null,null,null,null,null,null,null,null,null,null,null,null,null,null,13]
["(фамилия, собственное имя, отчество (если таковое имеется) работника)"]
[null,null,null,null,null,null,null,null,null,null,null,null,null,null,null,null,{"$f":"$Q$6","v":0.35},"- размер страховых взносов в ФСЗН"]
["(дата и номер договора, дата выплаты вознаграждения)*"]
[]
["(группа и период инвалидности)**"]
[null,null,null,null,null,null,null,null,null,null,null,null,null,null,null,null,null,null,null,null,null,"(руб.)"]
["Месяц ","Выплаты в денежном и (или) натуральном выражении, начисленные в пользу работника",null,null,null,null,null,null,null,null,null,"Выплаты, на которые начисляются страховые взносы","Сумма начисленных страховых взносов ",null,"Начислено пособий "]
[null,"основная заработная плата","надбавка","премия","индексация","отпуск","комп. за неисп. отпуск","прочие","мат. помощь","больничный","итого \n(гр. 2 + гр. 3 + гр. 4 + гр. 5) ",null,null,null,"сумма ",null,null,null,null,null,"за какой месяц","количество рабочих дней ","количество пособий"]
[null,null,null,null,null,null,null,null,null,null,null,null,"всего","в том числе 1% ","пособия по временной нетрудо-способности","пособия по беремен-ности и родам","единовре-менные пособия","пособия по уходу за ребенком в возрасте до 3 лет","пособия на детей старше 3 лет из отдельных категорий семей и семьям на детей в возрасте от 3 до 18 лет в период воспитания ребенка в возрасте до 3 лет","оплата свободного от работы дня матери (мачехе) или отцу (отчиму), опекуну (попечителю), воспитывающей (ему) ребенка-инвалида в возрасте до 18 лет"]
[1,2,3,"3а","3б","3в","3г","3е",4,5,6,7,8,9,10,11,12,13,14,15,16,17,18,null,null,null,null,"Пособия по карточке"]
["Январь",{"$f":"'Карточки лицевых счетов'!B337","v":0},{"$f":"'Карточки лицевых счетов'!C337","v":0},{"$f":"'Карточки лицевых счетов'!D337","v":0},{"$f":"'Карточки лицевых счетов'!E337","v":0},{"$f":"'Карточки лицевых счетов'!F337+'Карточки лицевых счетов'!G337","v":0},{"$f":"'Карточки лицевых счетов'!H337","v":0},{"$f":"'Карточки лицевых счетов'!I337","v":0},{"$f":"'Карточки лицевых счетов'!J337","v":0},{"$f":"'Карточки лицевых счетов'!K337","v":0},{"$f":"SUM(B435:J435)","v":0},{"$f":"K435-J435","v":0},{"$f":"L435*Q426","v":0},{"$f":"L435*1%","v":0},null,null,null,null,null,null,null,null,null,null,null,null,null,{"$f":"SUM(O435:T435)","v":0}]
["Февраль",{"$f":"'Карточки лицевых счетов'!B338","v":0},{"$f":"'Карточки лицевых счетов'!C338","v":0},{"$f":"'Карточки лицевых счетов'!D338","v":0},{"$f":"'Карточки лицевых счетов'!E338","v":0},{"$f":"'Карточки лицевых счетов'!F338+'Карточки лицевых счетов'!G338","v":0},{"$f":"'Карточки лицевых счетов'!H338","v":0},{"$f":"'Карточки лицевых счетов'!I338","v":0},{"$f":"'Карточки лицевых счетов'!J338","v":0},{"$f":"'Карточки лицевых счетов'!K338","v":0},{"$f":"SUM(B436:J436)","v":0},{"$f":"K436-J436","v":0},{"$f":"L436*Q426","v":0},{"$f":"L436*1%","v":0},null,null,null,null,null,null,null,null,null,null,null,null,null,{"$f":"SUM(O436:T436)","v":0}]
["Март",{"$f":"'Карточки лицевых счетов'!B339","v":0},{"$f":"'Карточки лицевых счетов'!C339","v":0},{"$f":"'Карточки лицевых счетов'!D339","v":0},{"$f":"'Карточки лицевых счетов'!E339","v":0},{"$f":"'Карточки лицевых счетов'!F339+'Карточки лицевых счетов'!G339","v":0},{"$f":"'Карточки лицевых счетов'!H339","v":0},{"$f":"'Карточки лицевых счетов'!I339","v":0},{"$f":"'Карточки лицевых счетов'!J339","v":0},{"$f":"'Карточки лицевых счетов'!K339","v":0},{"$f":"SUM(B437:J437)","v":0},0,{"$f":"L437*Q426","v":0},{"$f":"L437*1%","v":0},null,null,null,null,null,null,null,null,null,null,null,null,null,{"$f":"SUM(O437:T437)","v":0}]
["Итого за I квартал / Итого c начала года",{"$f":"SUM(B435:B437)","v":0},0,0,0,0,0,0,0,0,0,0,0,0,0,0,0,0,0,0,"х",{"$f":"SUM(V435:V437)","v":0},{"$f":"SUM(W435:W437)","v":0},null,null,null,null,{"$f":"SUM(AB435:AB437)","v":0}]
["Апрель",{"$f":"'Карточки лицевых счетов'!B340","v":0},{"$f":"'Карточки лицевых счетов'!C340","v":0},{"$f":"'Карточки лицевых счетов'!D340","v":0},{"$f":"'Карточки лицевых счетов'!E340","v":0},{"$f":"'Карточки лицевых счетов'!F340+'Карточки лицевых счетов'!G340","v":0},{"$f":"'Карточки лицевых счетов'!H340","v":0},{"$f":"'Карточки лицевых счетов'!I340","v":0},{"$f":"'Карточки лицевых счетов'!J340","v":0},{"$f":"'Карточки лицевых счетов'!K340","v":0},{"$f":"SUM(B439:J439)","v":0},{"$f":"K439-J439","v":0},{"$f":"L439*Q426","v":0},{"$f":"L439*1%","v":0},null,null,null,null,null,null,null,null,null,null,null,null,null,{"$f":"SUM(O439:T439)","v":0}]
["Май",{"$f":"'Карточки лицевых счетов'!B341","v":0},{"$f":"'Карточки лицевых счетов'!C341","v":0},{"$f":"'Карточки лицевых счетов'!D341","v":0},{"$f":"'Карточки лицевых счетов'!E341","v":0},{"$f":"'Карточки лицевых счетов'!F341+'Карточки лицевых счетов'!G341","v":0},{"$f":"'Карточки лицевых счетов'!H341","v":0},{"$f":"'Карточки лицевых счетов'!I341","v":0},{"$f":"'Карточки лицевых счетов'!J341","v":0},{"$f":"'Карточки лицевых счетов'!K341","v":0},{"$f":"SUM(B440:J440)","v":0},{"$f":"K440-J440","v":0},{"$f":"L440*Q426","v":0},{"$f":"L440*1%","v":0},null,null,null,null,null,null,null,null,null,null,null,null,null,{"$f":"SUM(O440:T440)","v":0}]
["Июнь",{"$f":"'Карточки лицевых счетов'!B342","v":0},{"$f":"'Карточки лицевых счетов'!C342","v":0},{"$f":"'Карточки лицевых счетов'!D342","v":0},{"$f":"'Карточки лицевых счетов'!E342","v":0},{"$f":"'Карточки лицевых счетов'!F342+'Карточки лицевых счетов'!G342","v":0},{"$f":"'Карточки лицевых счетов'!H342","v":0},{"$f":"'Карточки лицевых счетов'!I342","v":0},{"$f":"'Карточки лицевых счетов'!J342","v":0},{"$f":"'Карточки лицевых счетов'!K342","v":0},{"$f":"SUM(B441:J441)","v":0},0,{"$f":"L441*Q426","v":0},{"$f":"L441*1%","v":0},null,null,null,null,null,null,null,null,null,null,null,null,null,{"$f":"SUM(O441:T441)","v":0}]
["Итого за II квартал",{"$f":"SUM(B439:B441)","v":0},0,0,0,0,0,0,0,0,0,0,0,0,0,0,0,0,0,0,"х",{"$f":"SUM(V439:V441)","v":0},{"$f":"SUM(W439:W441)","v":0},null,null,null,null,{"$f":"SUM(AB439:AB441)","v":0}]
["Итого c начала года",{"$f":" B438+ B442","v":0},{"$f":" C438+ C442","v":0},0,0,0,0,0,0,0,0,0,0,0,0,0,0,0,0,0,null,0,0]
["Июль",{"$f":"'Карточки лицевых счетов'!B343","v":0},{"$f":"'Карточки лицевых счетов'!C343","v":0},{"$f":"'Карточки лицевых счетов'!D343","v":0},{"$f":"'Карточки лицевых счетов'!E343","v":0},{"$f":"'Карточки лицевых счетов'!F343+'Карточки лицевых счетов'!G343","v":0},{"$f":"'Карточки лицевых счетов'!H343","v":0},{"$f":"'Карточки лицевых счетов'!I343","v":0},{"$f":"'Карточки лицевых счетов'!J343","v":0},{"$f":"'Карточки лицевых счетов'!K343","v":0},{"$f":"SUM(B444:J444)","v":0},{"$f":"K444-J444","v":0},{"$f":"L444*Q426","v":0},{"$f":"L444*1%","v":0},null,null,null,null,null,null,null,null,null,null,null,null,null,{"$f":"SUM(O444:T444)","v":0}]
["Август",{"$f":"'Карточки лицевых счетов'!B344","v":0},{"$f":"'Карточки лицевых счетов'!C344","v":0},{"$f":"'Карточки лицевых счетов'!D344","v":0},{"$f":"'Карточки лицевых счетов'!E344","v":0},{"$f":"'Карточки лицевых счетов'!F344+'Карточки лицевых счетов'!G344","v":0},{"$f":"'Карточки лицевых счетов'!H344","v":0},{"$f":"'Карточки лицевых счетов'!I344","v":0},{"$f":"'Карточки лицевых счетов'!J344","v":0},{"$f":"'Карточки лицевых счетов'!K344","v":0},{"$f":"SUM(B445:J445)","v":0},{"$f":"K445-J445","v":0},{"$f":"L445*Q426","v":0},{"$f":"L445*1%","v":0},null,null,null,null,null,null,null,null,null,null,null,null,null,{"$f":"SUM(O445:T445)","v":0}]
["Сентябрь",{"$f":"'Карточки лицевых счетов'!B345","v":0},{"$f":"'Карточки лицевых счетов'!C345","v":0},{"$f":"'Карточки лицевых счетов'!D345","v":0},{"$f":"'Карточки лицевых счетов'!E345","v":0},{"$f":"'Карточки лицевых счетов'!F345+'Карточки лицевых счетов'!G345","v":0},{"$f":"'Карточки лицевых счетов'!H345","v":0},{"$f":"'Карточки лицевых счетов'!I345","v":0},{"$f":"'Карточки лицевых счетов'!J345","v":0},{"$f":"'Карточки лицевых счетов'!K345","v":0},{"$f":"SUM(B446:J446)","v":0},0,{"$f":"L446*Q426","v":0},{"$f":"L446*1%","v":0},null,null,null,null,null,null,null,null,null,null,null,null,null,{"$f":"SUM(O446:T446)","v":0}]
["Итого за III квартал",{"$f":"SUM(B444:B446)","v":0},0,0,0,0,0,0,0,0,0,0,0,0,0,0,0,0,0,0,"х",{"$f":"SUM(V444:V446)","v":0},{"$f":"SUM(W444:W446)","v":0},null,null,null,null,{"$f":"SUM(AB444:AB446)","v":0}]
["Итого c начала года",{"$f":" B443+ B447","v":0},{"$f":" C443+ C447","v":0},0,0,0,0,0,0,0,0,0,0,0,0,0,0,0,0,0,null,{"$f":" V438+ V442+ V447","v":0},0]
["Октябрь",{"$f":"'Карточки лицевых счетов'!B346","v":0},{"$f":"'Карточки лицевых счетов'!C346","v":0},{"$f":"'Карточки лицевых счетов'!D346","v":0},{"$f":"'Карточки лицевых счетов'!E346","v":0},{"$f":"'Карточки лицевых счетов'!F346+'Карточки лицевых счетов'!G346","v":0},{"$f":"'Карточки лицевых счетов'!H346","v":0},{"$f":"'Карточки лицевых счетов'!I346","v":0},{"$f":"'Карточки лицевых счетов'!J346","v":0},{"$f":"'Карточки лицевых счетов'!K346","v":0},{"$f":"SUM(B449:J449)","v":0},{"$f":"K449-J449","v":0},{"$f":"L449*Q426","v":0},{"$f":"L449*1%","v":0},null,null,null,null,null,null,null,null,null,null,null,null,null,{"$f":"SUM(O449:T449)","v":0}]
["Ноябрь",{"$f":"'Карточки лицевых счетов'!B347","v":0},{"$f":"'Карточки лицевых счетов'!C347","v":0},{"$f":"'Карточки лицевых счетов'!D347","v":0},{"$f":"'Карточки лицевых счетов'!E347","v":0},{"$f":"'Карточки лицевых счетов'!F347+'Карточки лицевых счетов'!G347","v":0},{"$f":"'Карточки лицевых счетов'!H347","v":0},{"$f":"'Карточки лицевых счетов'!I347","v":0},{"$f":"'Карточки лицевых счетов'!J347","v":0},{"$f":"'Карточки лицевых счетов'!K347","v":0},{"$f":"SUM(B450:J450)","v":0},{"$f":"K450-J450","v":0},{"$f":"L450*Q426","v":0},{"$f":"L450*1%","v":0},null,null,null,null,null,null,null,null,null,null,null,null,null,{"$f":"SUM(O450:T450)","v":0}]
["Декабрь",{"$f":"'Карточки лицевых счетов'!B348","v":0},{"$f":"'Карточки лицевых счетов'!C348","v":0},{"$f":"'Карточки лицевых счетов'!D348","v":0},{"$f":"'Карточки лицевых счетов'!E348","v":0},{"$f":"'Карточки лицевых счетов'!F348+'Карточки лицевых счетов'!G348","v":0},{"$f":"'Карточки лицевых счетов'!H348","v":0},{"$f":"'Карточки лицевых счетов'!I348","v":0},{"$f":"'Карточки лицевых счетов'!J348","v":0},{"$f":"'Карточки лицевых счетов'!K348","v":0},{"$f":"SUM(B451:J451)","v":0},0,{"$f":"L451*Q426","v":0},{"$f":"L451*1%","v":0},null,null,null,null,null,null,null,null,null,null,null,null,null,{"$f":"SUM(O451:T451)","v":0}]
["Итого за IV квартал",{"$f":"SUM(B449:B451)","v":0},0,0,0,0,0,0,0,0,0,0,0,0,0,0,0,0,0,0,"х",{"$f":"SUM(V449:V451)","v":0},{"$f":"SUM(W449:W451)","v":0},null,null,null,null,{"$f":"SUM(AB449:AB451)","v":0}]
["Итого с начала года",{"$f":"B448+B452","v":0},{"$f":"C448+C452","v":0},{"$f":"D448+D452","v":0},{"$f":"E448+E452","v":0},{"$f":"F448+F452","v":0},{"$f":"G448+G452","v":0},{"$f":"H448+H452","v":0},{"$f":"I448+I452","v":0},{"$f":"J448+J452","v":0},{"$f":"K448+K452","v":0},{"$f":"L448+L452","v":0},{"$f":"M448+M452","v":0},{"$f":"N448+N452","v":0},{"$f":"O448+O452","v":0},{"$f":"P448+P452","v":0},{"$f":"Q448+Q452","v":0},{"$f":"R448+R452","v":0},{"$f":"S448+S452","v":0},{"$f":"T448+T452","v":0},"х",{"$f":"V438+V442+V447+V452","v":0},{"$f":"W438+W442+W447+W452","v":0},null,null,null,null,{"$f":"AB438+AB442+AB447+AB452","v":0}]
[]
["* Заполняется по работникам, с которыми заключены гражданско-правовые договоры."]
["** Заполняется по работникам-инвалидам."]
[]
["1. Карточка  учета  начисленных  обязательных  страховых взносов в бюджет фонда и пособий из средств бюджета фонда"]
[{"$f":"'Карточки лицевых счетов'!L353","v":"14"},null,null,null,null,null,null,null,null,null,null,null,null,null,null,null,null,null,null,null,null,null,null,14]
["(фамилия, собственное имя, отчество (если таковое имеется) работника)"]
[null,null,null,null,null,null,null,null,null,null,null,null,null,null,null,null,{"$f":"$Q$6","v":0.35},"- размер страховых взносов в ФСЗН"]
["(дата и номер договора, дата выплаты вознаграждения)*"]
[]
["(группа и период инвалидности)**"]
[null,null,null,null,null,null,null,null,null,null,null,null,null,null,null,null,null,null,null,null,null,"(руб.)"]
["Месяц ","Выплаты в денежном и (или) натуральном выражении, начисленные в пользу работника",null,null,null,null,null,null,null,null,null,"Выплаты, на которые начисляются страховые взносы","Сумма начисленных страховых взносов ",null,"Начислено пособий "]
[null,"основная заработная плата","надбавка","премия","индексация","отпуск","комп. за неисп. отпуск","прочие","мат. помощь","больничный","итого \n(гр. 2 + гр. 3 + гр. 4 + гр. 5) ",null,null,null,"сумма ",null,null,null,null,null,"за какой месяц","количество рабочих дней ","количество пособий"]
[null,null,null,null,null,null,null,null,null,null,null,null,"всего","в том числе 1% ","пособия по временной нетрудо-способности","пособия по беремен-ности и родам","единовре-менные пособия","пособия по уходу за ребенком в возрасте до 3 лет","пособия на детей старше 3 лет из отдельных категорий семей и семьям на детей в возрасте от 3 до 18 лет в период воспитания ребенка в возрасте до 3 лет","оплата свободного от работы дня матери (мачехе) или отцу (отчиму), опекуну (попечителю), воспитывающей (ему) ребенка-инвалида в возрасте до 18 лет"]
[1,2,3,"3а","3б","3в","3г","3е",4,5,6,7,8,9,10,11,12,13,14,15,16,17,18,null,null,null,null,"Пособия по карточке"]
["Январь",{"$f":"'Карточки лицевых счетов'!B364","v":0},{"$f":"'Карточки лицевых счетов'!C364","v":0},{"$f":"'Карточки лицевых счетов'!D364","v":0},{"$f":"'Карточки лицевых счетов'!E364","v":0},{"$f":"'Карточки лицевых счетов'!F364+'Карточки лицевых счетов'!G364","v":0},{"$f":"'Карточки лицевых счетов'!H364","v":0},{"$f":"'Карточки лицевых счетов'!I364","v":0},{"$f":"'Карточки лицевых счетов'!J364","v":0},{"$f":"'Карточки лицевых счетов'!K364","v":0},{"$f":"SUM(B470:J470)","v":0},{"$f":"K470-J470","v":0},{"$f":"L470*Q461","v":0},{"$f":"L470*1%","v":0},null,null,null,null,null,null,null,null,null,null,null,null,null,{"$f":"SUM(O470:T470)","v":0}]
["Февраль",{"$f":"'Карточки лицевых счетов'!B365","v":0},{"$f":"'Карточки лицевых счетов'!C365","v":0},{"$f":"'Карточки лицевых счетов'!D365","v":0},{"$f":"'Карточки лицевых счетов'!E365","v":0},{"$f":"'Карточки лицевых счетов'!F365+'Карточки лицевых счетов'!G365","v":0},{"$f":"'Карточки лицевых счетов'!H365","v":0},{"$f":"'Карточки лицевых счетов'!I365","v":0},{"$f":"'Карточки лицевых счетов'!J365","v":0},{"$f":"'Карточки лицевых счетов'!K365","v":0},{"$f":"SUM(B471:J471)","v":0},{"$f":"K471-J471","v":0},{"$f":"L471*Q461","v":0},{"$f":"L471*1%","v":0},null,null,null,null,null,null,null,null,null,null,null,null,null,{"$f":"SUM(O471:T471)","v":0}]
["Март",{"$f":"'Карточки лицевых счетов'!B366","v":0},{"$f":"'Карточки лицевых счетов'!C366","v":0},{"$f":"'Карточки лицевых счетов'!D366","v":0},{"$f":"'Карточки лицевых счетов'!E366","v":0},{"$f":"'Карточки лицевых счетов'!F366+'Карточки лицевых счетов'!G366","v":0},{"$f":"'Карточки лицевых счетов'!H366","v":0},{"$f":"'Карточки лицевых счетов'!I366","v":0},{"$f":"'Карточки лицевых счетов'!J366","v":0},{"$f":"'Карточки лицевых счетов'!K366","v":0},{"$f":"SUM(B472:J472)","v":0},0,{"$f":"L472*Q461","v":0},{"$f":"L472*1%","v":0},null,null,null,null,null,null,null,null,null,null,null,null,null,{"$f":"SUM(O472:T472)","v":0}]
["Итого за I квартал / Итого c начала года",{"$f":"SUM(B470:B472)","v":0},0,0,0,0,0,0,0,0,0,0,0,0,0,0,0,0,0,0,"х",{"$f":"SUM(V470:V472)","v":0},{"$f":"SUM(W470:W472)","v":0},null,null,null,null,{"$f":"SUM(AB470:AB472)","v":0}]
["Апрель",{"$f":"'Карточки лицевых счетов'!B367","v":0},{"$f":"'Карточки лицевых счетов'!C367","v":0},{"$f":"'Карточки лицевых счетов'!D367","v":0},{"$f":"'Карточки лицевых счетов'!E367","v":0},{"$f":"'Карточки лицевых счетов'!F367+'Карточки лицевых счетов'!G367","v":0},{"$f":"'Карточки лицевых счетов'!H367","v":0},{"$f":"'Карточки лицевых счетов'!I367","v":0},{"$f":"'Карточки лицевых счетов'!J367","v":0},{"$f":"'Карточки лицевых счетов'!K367","v":0},{"$f":"SUM(B474:J474)","v":0},{"$f":"K474-J474","v":0},{"$f":"L474*Q461","v":0},{"$f":"L474*1%","v":0},null,null,null,null,null,null,null,null,null,null,null,null,null,{"$f":"SUM(O474:T474)","v":0}]
["Май",{"$f":"'Карточки лицевых счетов'!B368","v":0},{"$f":"'Карточки лицевых счетов'!C368","v":0},{"$f":"'Карточки лицевых счетов'!D368","v":0},{"$f":"'Карточки лицевых счетов'!E368","v":0},{"$f":"'Карточки лицевых счетов'!F368+'Карточки лицевых счетов'!G368","v":0},{"$f":"'Карточки лицевых счетов'!H368","v":0},{"$f":"'Карточки лицевых счетов'!I368","v":0},{"$f":"'Карточки лицевых счетов'!J368","v":0},{"$f":"'Карточки лицевых счетов'!K368","v":0},{"$f":"SUM(B475:J475)","v":0},{"$f":"K475-J475","v":0},{"$f":"L475*Q461","v":0},{"$f":"L475*1%","v":0},null,null,null,null,null,null,null,null,null,null,null,null,null,{"$f":"SUM(O475:T475)","v":0}]
["Июнь",{"$f":"'Карточки лицевых счетов'!B369","v":0},{"$f":"'Карточки лицевых счетов'!C369","v":0},{"$f":"'Карточки лицевых счетов'!D369","v":0},{"$f":"'Карточки лицевых счетов'!E369","v":0},{"$f":"'Карточки лицевых счетов'!F369+'Карточки лицевых счетов'!G369","v":0},{"$f":"'Карточки лицевых счетов'!H369","v":0},{"$f":"'Карточки лицевых счетов'!I369","v":0},{"$f":"'Карточки лицевых счетов'!J369","v":0},{"$f":"'Карточки лицевых счетов'!K369","v":0},{"$f":"SUM(B476:J476)","v":0},0,{"$f":"L476*Q461","v":0},{"$f":"L476*1%","v":0},null,null,null,null,null,null,null,null,null,null,null,null,null,{"$f":"SUM(O476:T476)","v":0}]
["Итого за II квартал",{"$f":"SUM(B474:B476)","v":0},0,0,0,0,0,0,0,0,0,0,0,0,0,0,0,0,0,0,"х",{"$f":"SUM(V474:V476)","v":0},{"$f":"SUM(W474:W476)","v":0},null,null,null,null,{"$f":"SUM(AB474:AB476)","v":0}]
["Итого c начала года",{"$f":" B473+ B477","v":0},{"$f":" C473+ C477","v":0},0,0,0,0,0,0,0,0,0,0,0,0,0,0,0,0,0,null,0,0]
["Июль",{"$f":"'Карточки лицевых счетов'!B370","v":0},{"$f":"'Карточки лицевых счетов'!C370","v":0},{"$f":"'Карточки лицевых счетов'!D370","v":0},{"$f":"'Карточки лицевых счетов'!E370","v":0},{"$f":"'Карточки лицевых счетов'!F370+'Карточки лицевых счетов'!G370","v":0},{"$f":"'Карточки лицевых счетов'!H370","v":0},{"$f":"'Карточки лицевых счетов'!I370","v":0},{"$f":"'Карточки лицевых счетов'!J370","v":0},{"$f":"'Карточки лицевых счетов'!K370","v":0},{"$f":"SUM(B479:J479)","v":0},{"$f":"K479-J479","v":0},{"$f":"L479*Q461","v":0},{"$f":"L479*1%","v":0},null,null,null,null,null,null,null,null,null,null,null,null,null,{"$f":"SUM(O479:T479)","v":0}]
["Август",{"$f":"'Карточки лицевых счетов'!B371","v":0},{"$f":"'Карточки лицевых счетов'!C371","v":0},{"$f":"'Карточки лицевых счетов'!D371","v":0},{"$f":"'Карточки лицевых счетов'!E371","v":0},{"$f":"'Карточки лицевых счетов'!F371+'Карточки лицевых счетов'!G371","v":0},{"$f":"'Карточки лицевых счетов'!H371","v":0},{"$f":"'Карточки лицевых счетов'!I371","v":0},{"$f":"'Карточки лицевых счетов'!J371","v":0},{"$f":"'Карточки лицевых счетов'!K371","v":0},{"$f":"SUM(B480:J480)","v":0},{"$f":"K480-J480","v":0},{"$f":"L480*Q461","v":0},{"$f":"L480*1%","v":0},null,null,null,null,null,null,null,null,null,null,null,null,null,{"$f":"SUM(O480:T480)","v":0}]
["Сентябрь",{"$f":"'Карточки лицевых счетов'!B372","v":0},{"$f":"'Карточки лицевых счетов'!C372","v":0},{"$f":"'Карточки лицевых счетов'!D372","v":0},{"$f":"'Карточки лицевых счетов'!E372","v":0},{"$f":"'Карточки лицевых счетов'!F372+'Карточки лицевых счетов'!G372","v":0},{"$f":"'Карточки лицевых счетов'!H372","v":0},{"$f":"'Карточки лицевых счетов'!I372","v":0},{"$f":"'Карточки лицевых счетов'!J372","v":0},{"$f":"'Карточки лицевых счетов'!K372","v":0},{"$f":"SUM(B481:J481)","v":0},{"$f":"K481-J481","v":0},{"$f":"L481*Q461","v":0},{"$f":"L481*1%","v":0},null,null,null,null,null,null,null,null,null,null,null,null,null,{"$f":"SUM(O481:T481)","v":0}]
["Итого за III квартал",{"$f":"SUM(B479:B481)","v":0},0,0,0,0,{"$f":"SUM(G479:G481)","v":0},0,0,{"$f":"SUM(J479:J481)","v":0},0,0,0,0,0,0,0,0,0,0,"х",{"$f":"SUM(V479:V481)","v":0},{"$f":"SUM(W479:W481)","v":0},null,null,null,null,{"$f":"SUM(AB479:AB481)","v":0}]
["Итого c начала года",{"$f":" B478+ B482","v":0},{"$f":" C478+ C482","v":0},0,0,0,0,0,0,0,0,0,0,0,0,0,0,0,0,0,null,{"$f":" V473+ V477+ V482","v":0},0]
["Октябрь",{"$f":"'Карточки лицевых счетов'!B373","v":0},{"$f":"'Карточки лицевых счетов'!C373","v":0},{"$f":"'Карточки лицевых счетов'!D373","v":0},{"$f":"'Карточки лицевых счетов'!E373","v":0},{"$f":"'Карточки лицевых счетов'!F373+'Карточки лицевых счетов'!G373","v":0},{"$f":"'Карточки лицевых счетов'!H373","v":0},{"$f":"'Карточки лицевых счетов'!I373","v":0},{"$f":"'Карточки лицевых счетов'!J373","v":0},{"$f":"'Карточки лицевых счетов'!K373","v":0},{"$f":"SUM(B484:J484)","v":0},{"$f":"K484-J484","v":0},{"$f":"L484*Q461","v":0},{"$f":"L484*1%","v":0},null,null,null,null,null,null,null,null,null,null,null,null,null,{"$f":"SUM(O484:T484)","v":0}]
["Ноябрь",{"$f":"'Карточки лицевых счетов'!B374","v":0},{"$f":"'Карточки лицевых счетов'!C374","v":0},{"$f":"'Карточки лицевых счетов'!D374","v":0},{"$f":"'Карточки лицевых счетов'!E374","v":0},{"$f":"'Карточки лицевых счетов'!F374+'Карточки лицевых счетов'!G374","v":0},{"$f":"'Карточки лицевых счетов'!H374","v":0},{"$f":"'Карточки лицевых счетов'!I374","v":0},{"$f":"'Карточки лицевых счетов'!J374","v":0},{"$f":"'Карточки лицевых счетов'!K374","v":0},{"$f":"SUM(B485:J485)","v":0},{"$f":"K485-J485","v":0},{"$f":"L485*Q461","v":0},{"$f":"L485*1%","v":0},null,null,null,null,null,null,null,null,null,null,null,null,null,{"$f":"SUM(O485:T485)","v":0}]
["Декабрь",{"$f":"'Карточки лицевых счетов'!B375","v":0},{"$f":"'Карточки лицевых счетов'!C375","v":0},{"$f":"'Карточки лицевых счетов'!D375","v":0},{"$f":"'Карточки лицевых счетов'!E375","v":0},{"$f":"'Карточки лицевых счетов'!F375+'Карточки лицевых счетов'!G375","v":0},{"$f":"'Карточки лицевых счетов'!H375","v":0},{"$f":"'Карточки лицевых счетов'!I375","v":0},{"$f":"'Карточки лицевых счетов'!J375","v":0},{"$f":"'Карточки лицевых счетов'!K375","v":0},{"$f":"SUM(B486:J486)","v":0},0,{"$f":"L486*Q461","v":0},{"$f":"L486*1%","v":0},null,null,null,null,null,null,null,null,null,null,null,null,null,{"$f":"SUM(O486:T486)","v":0}]
["Итого за IV квартал",{"$f":"SUM(B484:B486)","v":0},0,0,0,0,0,0,0,0,0,0,0,0,0,0,0,0,0,0,"х",{"$f":"SUM(V484:V486)","v":0},{"$f":"SUM(W484:W486)","v":0},null,null,null,null,{"$f":"SUM(AB484:AB486)","v":0}]
["Итого с начала года",{"$f":"B483+B487","v":0},{"$f":"C483+C487","v":0},{"$f":"D483+D487","v":0},{"$f":"E483+E487","v":0},{"$f":"F483+F487","v":0},{"$f":"G483+G487","v":0},{"$f":"H483+H487","v":0},{"$f":"I483+I487","v":0},{"$f":"J483+J487","v":0},{"$f":"K483+K487","v":0},{"$f":"L483+L487","v":0},{"$f":"M483+M487","v":0},{"$f":"N483+N487","v":0},{"$f":"O483+O487","v":0},{"$f":"P483+P487","v":0},{"$f":"Q483+Q487","v":0},{"$f":"R483+R487","v":0},{"$f":"S483+S487","v":0},{"$f":"T483+T487","v":0},"х",{"$f":"V473+V477+V482+V487","v":0},{"$f":"W473+W477+W482+W487","v":0},null,null,null,null,{"$f":"AB473+AB477+AB482+AB487","v":0}]
[]
["* Заполняется по работникам, с которыми заключены гражданско-правовые договоры."]
["** Заполняется по работникам-инвалидам."]
[]
["1. Карточка  учета  начисленных  обязательных  страховых взносов в бюджет фонда и пособий из средств бюджета фонда"]
[{"$f":"'Карточки лицевых счетов'!L380","v":"15"},null,null,null,null,null,null,null,null,null,null,null,null,null,null,null,null,null,null,null,null,null,null,15]
["(фамилия, собственное имя, отчество (если таковое имеется) работника)"]
[null,null,null,null,null,null,null,null,null,null,null,null,null,null,null,null,{"$f":"$Q$6","v":0.35},"- размер страховых взносов в ФСЗН"]
["(дата и номер договора, дата выплаты вознаграждения)*"]
[]
["(группа и период инвалидности)**"]
[null,null,null,null,null,null,null,null,null,null,null,null,null,null,null,null,null,null,null,null,null,"(руб.)"]
["Месяц ","Выплаты в денежном и (или) натуральном выражении, начисленные в пользу работника",null,null,null,null,null,null,null,null,null,"Выплаты, на которые начисляются страховые взносы","Сумма начисленных страховых взносов ",null,"Начислено пособий "]
[null,"основная заработная плата","надбавка","премия","индексация","отпуск","комп. за неисп. отпуск","прочие","мат. помощь","больничный","итого \n(гр. 2 + гр. 3 + гр. 4 + гр. 5) ",null,null,null,"сумма ",null,null,null,null,null,"за какой месяц","количество рабочих дней ","количество пособий"]
[null,null,null,null,null,null,null,null,null,null,null,null,"всего","в том числе 1% ","пособия по временной нетрудо-способности","пособия по беремен-ности и родам","единовре-менные пособия","пособия по уходу за ребенком в возрасте до 3 лет","пособия на детей старше 3 лет из отдельных категорий семей и семьям на детей в возрасте от 3 до 18 лет в период воспитания ребенка в возрасте до 3 лет","оплата свободного от работы дня матери (мачехе) или отцу (отчиму), опекуну (попечителю), воспитывающей (ему) ребенка-инвалида в возрасте до 18 лет"]
[1,2,3,"3а","3б","3в","3г","3е",4,5,6,7,8,9,10,11,12,13,14,15,16,17,18,null,null,null,null,"Пособия по карточке"]
["Январь",{"$f":"'Карточки лицевых счетов'!B391","v":0},{"$f":"'Карточки лицевых счетов'!C391","v":0},{"$f":"'Карточки лицевых счетов'!D391","v":0},{"$f":"'Карточки лицевых счетов'!E391","v":0},{"$f":"'Карточки лицевых счетов'!F391+'Карточки лицевых счетов'!G391","v":0},{"$f":"'Карточки лицевых счетов'!H391","v":0},{"$f":"'Карточки лицевых счетов'!I391","v":0},{"$f":"'Карточки лицевых счетов'!J391","v":0},{"$f":"'Карточки лицевых счетов'!K391","v":0},{"$f":"SUM(B505:J505)","v":0},{"$f":"K505-J505","v":0},{"$f":"L505*Q496","v":0},{"$f":"L505*1%","v":0},null,null,null,null,null,null,null,null,null,null,null,null,null,{"$f":"SUM(O505:T505)","v":0}]
["Февраль",{"$f":"'Карточки лицевых счетов'!B392","v":0},{"$f":"'Карточки лицевых счетов'!C392","v":0},{"$f":"'Карточки лицевых счетов'!D392","v":0},{"$f":"'Карточки лицевых счетов'!E392","v":0},{"$f":"'Карточки лицевых счетов'!F392+'Карточки лицевых счетов'!G392","v":0},{"$f":"'Карточки лицевых счетов'!H392","v":0},{"$f":"'Карточки лицевых счетов'!I392","v":0},{"$f":"'Карточки лицевых счетов'!J392","v":0},{"$f":"'Карточки лицевых счетов'!K392","v":0},{"$f":"SUM(B506:J506)","v":0},{"$f":"K506-J506","v":0},{"$f":"L506*Q496","v":0},{"$f":"L506*1%","v":0},null,null,null,null,null,null,null,null,null,null,null,null,null,{"$f":"SUM(O506:T506)","v":0}]
["Март",{"$f":"'Карточки лицевых счетов'!B393","v":0},{"$f":"'Карточки лицевых счетов'!C393","v":0},{"$f":"'Карточки лицевых счетов'!D393","v":0},{"$f":"'Карточки лицевых счетов'!E393","v":0},{"$f":"'Карточки лицевых счетов'!F393+'Карточки лицевых счетов'!G393","v":0},{"$f":"'Карточки лицевых счетов'!H393","v":0},{"$f":"'Карточки лицевых счетов'!I393","v":0},{"$f":"'Карточки лицевых счетов'!J393","v":0},{"$f":"'Карточки лицевых счетов'!K393","v":0},{"$f":"SUM(B507:J507)","v":0},0,{"$f":"L507*Q496","v":0},{"$f":"L507*1%","v":0},null,null,null,null,null,null,null,null,null,null,null,null,null,{"$f":"SUM(O507:T507)","v":0}]
["Итого за I квартал / Итого c начала года",{"$f":"SUM(B505:B507)","v":0},0,0,0,0,0,0,0,0,0,0,0,0,0,0,0,0,0,0,"х",{"$f":"SUM(V505:V507)","v":0},{"$f":"SUM(W505:W507)","v":0},null,null,null,null,{"$f":"SUM(AB505:AB507)","v":0}]
["Апрель",{"$f":"'Карточки лицевых счетов'!B394","v":0},{"$f":"'Карточки лицевых счетов'!C394","v":0},{"$f":"'Карточки лицевых счетов'!D394","v":0},{"$f":"'Карточки лицевых счетов'!E394","v":0},{"$f":"'Карточки лицевых счетов'!F394+'Карточки лицевых счетов'!G394","v":0},{"$f":"'Карточки лицевых счетов'!H394","v":0},{"$f":"'Карточки лицевых счетов'!I394","v":0},{"$f":"'Карточки лицевых счетов'!J394","v":0},{"$f":"'Карточки лицевых счетов'!K394","v":0},{"$f":"SUM(B509:J509)","v":0},{"$f":"K509-J509","v":0},{"$f":"L509*Q496","v":0},{"$f":"L509*1%","v":0},null,null,null,null,null,null,null,null,null,null,null,null,null,{"$f":"SUM(O509:T509)","v":0}]
["Май",{"$f":"'Карточки лицевых счетов'!B395","v":0},{"$f":"'Карточки лицевых счетов'!C395","v":0},{"$f":"'Карточки лицевых счетов'!D395","v":0},{"$f":"'Карточки лицевых счетов'!E395","v":0},{"$f":"'Карточки лицевых счетов'!F395+'Карточки лицевых счетов'!G395","v":0},{"$f":"'Карточки лицевых счетов'!H395","v":0},{"$f":"'Карточки лицевых счетов'!I395","v":0},{"$f":"'Карточки лицевых счетов'!J395","v":0},{"$f":"'Карточки лицевых счетов'!K395","v":0},{"$f":"SUM(B510:J510)","v":0},{"$f":"K510-J510","v":0},{"$f":"L510*Q496","v":0},{"$f":"L510*1%","v":0},null,null,null,null,null,null,null,null,null,null,null,null,null,{"$f":"SUM(O510:T510)","v":0}]
["Июнь",{"$f":"'Карточки лицевых счетов'!B396","v":0},{"$f":"'Карточки лицевых счетов'!C396","v":0},{"$f":"'Карточки лицевых счетов'!D396","v":0},{"$f":"'Карточки лицевых счетов'!E396","v":0},{"$f":"'Карточки лицевых счетов'!F396+'Карточки лицевых счетов'!G396","v":0},{"$f":"'Карточки лицевых счетов'!H396","v":0},{"$f":"'Карточки лицевых счетов'!I396","v":0},{"$f":"'Карточки лицевых счетов'!J396","v":0},{"$f":"'Карточки лицевых счетов'!K396","v":0},{"$f":"SUM(B511:J511)","v":0},0,{"$f":"L511*Q496","v":0},{"$f":"L511*1%","v":0},null,null,null,null,null,null,null,null,null,null,null,null,null,{"$f":"SUM(O511:T511)","v":0}]
["Итого за II квартал",{"$f":"SUM(B509:B511)","v":0},0,0,0,0,0,0,0,0,0,0,0,0,0,0,0,0,0,0,"х",{"$f":"SUM(V509:V511)","v":0},{"$f":"SUM(W509:W511)","v":0},null,null,null,null,{"$f":"SUM(AB509:AB511)","v":0}]
["Итого c начала года",{"$f":" B508+ B512","v":0},{"$f":" C508+ C512","v":0},0,0,0,0,0,0,0,0,0,0,0,0,0,0,0,0,0,null,0,0]
["Июль",{"$f":"'Карточки лицевых счетов'!B397","v":0},{"$f":"'Карточки лицевых счетов'!C397","v":0},{"$f":"'Карточки лицевых счетов'!D397","v":0},{"$f":"'Карточки лицевых счетов'!E397","v":0},{"$f":"'Карточки лицевых счетов'!F397+'Карточки лицевых счетов'!G397","v":0},{"$f":"'Карточки лицевых счетов'!H397","v":0},{"$f":"'Карточки лицевых счетов'!I397","v":0},{"$f":"'Карточки лицевых счетов'!J397","v":0},{"$f":"'Карточки лицевых счетов'!K397","v":0},{"$f":"SUM(B514:J514)","v":0},{"$f":"K514-J514","v":0},{"$f":"L514*Q496","v":0},{"$f":"L514*1%","v":0},null,null,null,null,null,null,null,null,null,null,null,null,null,{"$f":"SUM(O514:T514)","v":0}]
["Август",{"$f":"'Карточки лицевых счетов'!B398","v":0},{"$f":"'Карточки лицевых счетов'!C398","v":0},{"$f":"'Карточки лицевых счетов'!D398","v":0},{"$f":"'Карточки лицевых счетов'!E398","v":0},{"$f":"'Карточки лицевых счетов'!F398+'Карточки лицевых счетов'!G398","v":0},{"$f":"'Карточки лицевых счетов'!H398","v":0},{"$f":"'Карточки лицевых счетов'!I398","v":0},{"$f":"'Карточки лицевых счетов'!J398","v":0},{"$f":"'Карточки лицевых счетов'!K398","v":0},{"$f":"SUM(B515:J515)","v":0},{"$f":"K515-J515","v":0},{"$f":"L515*Q496","v":0},{"$f":"L515*1%","v":0},null,null,null,null,null,null,null,null,null,null,null,null,null,{"$f":"SUM(O515:T515)","v":0}]
["Сентябрь",{"$f":"'Карточки лицевых счетов'!B399","v":0},{"$f":"'Карточки лицевых счетов'!C399","v":0},{"$f":"'Карточки лицевых счетов'!D399","v":0},{"$f":"'Карточки лицевых счетов'!E399","v":0},{"$f":"'Карточки лицевых счетов'!F399+'Карточки лицевых счетов'!G399","v":0},{"$f":"'Карточки лицевых счетов'!H399","v":0},{"$f":"'Карточки лицевых счетов'!I399","v":0},{"$f":"'Карточки лицевых счетов'!J399","v":0},{"$f":"'Карточки лицевых счетов'!K399","v":0},{"$f":"SUM(B516:J516)","v":0},0,{"$f":"L516*Q496","v":0},{"$f":"L516*1%","v":0},null,null,null,null,null,null,null,null,null,null,null,null,null,{"$f":"SUM(O516:T516)","v":0}]
["Итого за III квартал",{"$f":"SUM(B514:B516)","v":0},0,0,0,0,0,0,0,0,0,0,0,0,0,0,0,0,0,0,"х",{"$f":"SUM(V514:V516)","v":0},{"$f":"SUM(W514:W516)","v":0},null,null,null,null,{"$f":"SUM(AB514:AB516)","v":0}]
["Итого c начала года",{"$f":" B513+ B517","v":0},{"$f":" C513+ C517","v":0},0,0,0,0,0,0,0,0,0,0,0,0,0,0,0,0,0,null,{"$f":" V508+ V512+ V517","v":0},0]
["Октябрь",{"$f":"'Карточки лицевых счетов'!B400","v":0},{"$f":"'Карточки лицевых счетов'!C400","v":0},{"$f":"'Карточки лицевых счетов'!D400","v":0},{"$f":"'Карточки лицевых счетов'!E400","v":0},{"$f":"'Карточки лицевых счетов'!F400+'Карточки лицевых счетов'!G400","v":0},{"$f":"'Карточки лицевых счетов'!H400","v":0},{"$f":"'Карточки лицевых счетов'!I400","v":0},{"$f":"'Карточки лицевых счетов'!J400","v":0},{"$f":"'Карточки лицевых счетов'!K400","v":0},{"$f":"SUM(B519:J519)","v":0},{"$f":"K519-J519","v":0},{"$f":"L519*Q496","v":0},{"$f":"L519*1%","v":0},null,null,null,null,null,null,null,null,null,null,null,null,null,{"$f":"SUM(O519:T519)","v":0}]
["Ноябрь",{"$f":"'Карточки лицевых счетов'!B401","v":0},{"$f":"'Карточки лицевых счетов'!C401","v":0},{"$f":"'Карточки лицевых счетов'!D401","v":0},{"$f":"'Карточки лицевых счетов'!E401","v":0},{"$f":"'Карточки лицевых счетов'!F401+'Карточки лицевых счетов'!G401","v":0},{"$f":"'Карточки лицевых счетов'!H401","v":0},{"$f":"'Карточки лицевых счетов'!I401","v":0},{"$f":"'Карточки лицевых счетов'!J401","v":0},{"$f":"'Карточки лицевых счетов'!K401","v":0},{"$f":"SUM(B520:J520)","v":0},{"$f":"K520-J520","v":0},{"$f":"L520*Q496","v":0},{"$f":"L520*1%","v":0},null,null,null,null,null,null,null,null,null,null,null,null,null,{"$f":"SUM(O520:T520)","v":0}]
["Декабрь",{"$f":"'Карточки лицевых счетов'!B402","v":0},{"$f":"'Карточки лицевых счетов'!C402","v":0},{"$f":"'Карточки лицевых счетов'!D402","v":0},{"$f":"'Карточки лицевых счетов'!E402","v":0},{"$f":"'Карточки лицевых счетов'!F402+'Карточки лицевых счетов'!G402","v":0},{"$f":"'Карточки лицевых счетов'!H402","v":0},{"$f":"'Карточки лицевых счетов'!I402","v":0},{"$f":"'Карточки лицевых счетов'!J402","v":0},{"$f":"'Карточки лицевых счетов'!K402","v":0},{"$f":"SUM(B521:J521)","v":0},0,{"$f":"L521*Q496","v":0},{"$f":"L521*1%","v":0},null,null,null,null,null,null,null,null,null,null,null,null,null,{"$f":"SUM(O521:T521)","v":0}]
["Итого за IV квартал",{"$f":"SUM(B519:B521)","v":0},0,0,0,0,0,0,0,0,0,0,0,0,0,0,0,0,0,0,"х",{"$f":"SUM(V519:V521)","v":0},{"$f":"SUM(W519:W521)","v":0},null,null,null,null,{"$f":"SUM(AB519:AB521)","v":0}]
["Итого с начала года",{"$f":"B518+B522","v":0},{"$f":"C518+C522","v":0},{"$f":"D518+D522","v":0},{"$f":"E518+E522","v":0},{"$f":"F518+F522","v":0},{"$f":"G518+G522","v":0},{"$f":"H518+H522","v":0},{"$f":"I518+I522","v":0},{"$f":"J518+J522","v":0},{"$f":"K518+K522","v":0},{"$f":"L518+L522","v":0},{"$f":"M518+M522","v":0},{"$f":"N518+N522","v":0},{"$f":"O518+O522","v":0},{"$f":"P518+P522","v":0},{"$f":"Q518+Q522","v":0},{"$f":"R518+R522","v":0},{"$f":"S518+S522","v":0},{"$f":"T518+T522","v":0},"х",{"$f":"V508+V512+V517+V522","v":0},{"$f":"W508+W512+W517+W522","v":0},null,null,null,null,{"$f":"AB508+AB512+AB517+AB522","v":0}]
[]
["* Заполняется по работникам, с которыми заключены гражданско-правовые договоры."]
["** Заполняется по работникам-инвалидам."]
[]
["1. Карточка  учета  начисленных  обязательных  страховых взносов в бюджет фонда и пособий из средств бюджета фонда"]
[{"$f":"'Карточки лицевых счетов'!L407","v":"16"},null,null,null,null,null,null,null,null,null,null,null,null,null,null,null,null,null,null,null,null,null,null,16]
["(фамилия, собственное имя, отчество (если таковое имеется) работника)"]
[null,null,null,null,null,null,null,null,null,null,null,null,null,null,null,null,{"$f":"$Q$6","v":0.35},"- размер страховых взносов в ФСЗН"]
["(дата и номер договора, дата выплаты вознаграждения)*"]
[]
["(группа и период инвалидности)**"]
[null,null,null,null,null,null,null,null,null,null,null,null,null,null,null,null,null,null,null,null,null,"(руб.)"]
["Месяц ","Выплаты в денежном и (или) натуральном выражении, начисленные в пользу работника",null,null,null,null,null,null,null,null,null,"Выплаты, на которые начисляются страховые взносы","Сумма начисленных страховых взносов ",null,"Начислено пособий "]
[null,"основная заработная плата","надбавка","премия","индексация","отпуск","комп. за неисп. отпуск","прочие","мат. помощь","больничный","итого \n(гр. 2 + гр. 3 + гр. 4 + гр. 5) ",null,null,null,"сумма ",null,null,null,null,null,"за какой месяц","количество рабочих дней ","количество пособий"]
[null,null,null,null,null,null,null,null,null,null,null,null,"всего","в том числе 1% ","пособия по временной нетрудо-способности","пособия по беремен-ности и родам","единовре-менные пособия","пособия по уходу за ребенком в возрасте до 3 лет","пособия на детей старше 3 лет из отдельных категорий семей и семьям на детей в возрасте от 3 до 18 лет в период воспитания ребенка в возрасте до 3 лет","оплата свободного от работы дня матери (мачехе) или отцу (отчиму), опекуну (попечителю), воспитывающей (ему) ребенка-инвалида в возрасте до 18 лет"]
[1,2,3,"3а","3б","3в","3г","3е",4,5,6,7,8,9,10,11,12,13,14,15,16,17,18,null,null,null,null,"Пособия по карточке"]
["Январь",{"$f":"'Карточки лицевых счетов'!B418","v":0},{"$f":"'Карточки лицевых счетов'!C418","v":0},{"$f":"'Карточки лицевых счетов'!D418","v":0},{"$f":"'Карточки лицевых счетов'!E418","v":0},{"$f":"'Карточки лицевых счетов'!F418+'Карточки лицевых счетов'!G418","v":0},{"$f":"'Карточки лицевых счетов'!H418","v":0},{"$f":"'Карточки лицевых счетов'!I418","v":0},{"$f":"'Карточки лицевых счетов'!J418","v":0},{"$f":"'Карточки лицевых счетов'!K418","v":0},{"$f":"SUM(B540:J540)","v":0},{"$f":"K540-J540","v":0},{"$f":"L540*Q531","v":0},{"$f":"L540*1%","v":0},null,null,null,null,null,null,null,null,null,null,null,null,null,{"$f":"SUM(O540:T540)","v":0}]
["Февраль",{"$f":"'Карточки лицевых счетов'!B419","v":0},{"$f":"'Карточки лицевых счетов'!C419","v":0},{"$f":"'Карточки лицевых счетов'!D419","v":0},{"$f":"'Карточки лицевых счетов'!E419","v":0},{"$f":"'Карточки лицевых счетов'!F419+'Карточки лицевых счетов'!G419","v":0},{"$f":"'Карточки лицевых счетов'!H419","v":0},{"$f":"'Карточки лицевых счетов'!I419","v":0},{"$f":"'Карточки лицевых счетов'!J419","v":0},{"$f":"'Карточки лицевых счетов'!K419","v":0},{"$f":"SUM(B541:J541)","v":0},{"$f":"K541-J541","v":0},{"$f":"L541*Q531","v":0},{"$f":"L541*1%","v":0},null,null,null,null,null,null,null,null,null,null,null,null,null,{"$f":"SUM(O541:T541)","v":0}]
["Март",{"$f":"'Карточки лицевых счетов'!B420","v":0},{"$f":"'Карточки лицевых счетов'!C420","v":0},{"$f":"'Карточки лицевых счетов'!D420","v":0},{"$f":"'Карточки лицевых счетов'!E420","v":0},{"$f":"'Карточки лицевых счетов'!F420+'Карточки лицевых счетов'!G420","v":0},{"$f":"'Карточки лицевых счетов'!H420","v":0},{"$f":"'Карточки лицевых счетов'!I420","v":0},{"$f":"'Карточки лицевых счетов'!J420","v":0},{"$f":"'Карточки лицевых счетов'!K420","v":0},{"$f":"SUM(B542:J542)","v":0},0,{"$f":"L542*Q531","v":0},{"$f":"L542*1%","v":0},null,null,null,null,null,null,null,null,null,null,null,null,null,{"$f":"SUM(O542:T542)","v":0}]
["Итого за I квартал / Итого c начала года",{"$f":"SUM(B540:B542)","v":0},0,0,0,0,0,0,0,0,0,0,0,0,0,0,0,0,0,0,"х",{"$f":"SUM(V540:V542)","v":0},{"$f":"SUM(W540:W542)","v":0},null,null,null,null,{"$f":"SUM(AB540:AB542)","v":0}]
["Апрель",{"$f":"'Карточки лицевых счетов'!B421","v":0},{"$f":"'Карточки лицевых счетов'!C421","v":0},{"$f":"'Карточки лицевых счетов'!D421","v":0},{"$f":"'Карточки лицевых счетов'!E421","v":0},{"$f":"'Карточки лицевых счетов'!F421+'Карточки лицевых счетов'!G421","v":0},{"$f":"'Карточки лицевых счетов'!H421","v":0},{"$f":"'Карточки лицевых счетов'!I421","v":0},{"$f":"'Карточки лицевых счетов'!J421","v":0},{"$f":"'Карточки лицевых счетов'!K421","v":0},{"$f":"SUM(B544:J544)","v":0},{"$f":"K544-J544","v":0},{"$f":"L544*Q531","v":0},{"$f":"L544*1%","v":0},null,null,null,null,null,null,null,null,null,null,null,null,null,{"$f":"SUM(O544:T544)","v":0}]
["Май",{"$f":"'Карточки лицевых счетов'!B422","v":0},{"$f":"'Карточки лицевых счетов'!C422","v":0},{"$f":"'Карточки лицевых счетов'!D422","v":0},{"$f":"'Карточки лицевых счетов'!E422","v":0},{"$f":"'Карточки лицевых счетов'!F422+'Карточки лицевых счетов'!G422","v":0},{"$f":"'Карточки лицевых счетов'!H422","v":0},{"$f":"'Карточки лицевых счетов'!I422","v":0},{"$f":"'Карточки лицевых счетов'!J422","v":0},{"$f":"'Карточки лицевых счетов'!K422","v":0},{"$f":"SUM(B545:J545)","v":0},{"$f":"K545-J545","v":0},{"$f":"L545*Q531","v":0},{"$f":"L545*1%","v":0},null,null,null,null,null,null,null,null,null,null,null,null,null,{"$f":"SUM(O545:T545)","v":0}]
["Июнь",{"$f":"'Карточки лицевых счетов'!B423","v":0},{"$f":"'Карточки лицевых счетов'!C423","v":0},{"$f":"'Карточки лицевых счетов'!D423","v":0},{"$f":"'Карточки лицевых счетов'!E423","v":0},{"$f":"'Карточки лицевых счетов'!F423+'Карточки лицевых счетов'!G423","v":0},{"$f":"'Карточки лицевых счетов'!H423","v":0},{"$f":"'Карточки лицевых счетов'!I423","v":0},{"$f":"'Карточки лицевых счетов'!J423","v":0},{"$f":"'Карточки лицевых счетов'!K423","v":0},{"$f":"SUM(B546:J546)","v":0},0,{"$f":"L546*Q531","v":0},{"$f":"L546*1%","v":0},null,null,null,null,null,null,null,null,null,null,null,null,null,{"$f":"SUM(O546:T546)","v":0}]
["Итого за II квартал",{"$f":"SUM(B544:B546)","v":0},0,0,0,0,0,0,0,0,0,0,0,0,0,0,0,0,0,0,"х",{"$f":"SUM(V544:V546)","v":0},{"$f":"SUM(W544:W546)","v":0},null,null,null,null,{"$f":"SUM(AB544:AB546)","v":0}]
["Итого c начала года",{"$f":" B543+ B547","v":0},{"$f":" C543+ C547","v":0},0,0,0,0,0,0,0,0,0,0,0,0,0,0,0,0,0,null,0,0]
["Июль",{"$f":"'Карточки лицевых счетов'!B424","v":0},{"$f":"'Карточки лицевых счетов'!C424","v":0},{"$f":"'Карточки лицевых счетов'!D424","v":0},{"$f":"'Карточки лицевых счетов'!E424","v":0},{"$f":"'Карточки лицевых счетов'!F424+'Карточки лицевых счетов'!G424","v":0},{"$f":"'Карточки лицевых счетов'!H424","v":0},{"$f":"'Карточки лицевых счетов'!I424","v":0},{"$f":"'Карточки лицевых счетов'!J424","v":0},{"$f":"'Карточки лицевых счетов'!K424","v":0},{"$f":"SUM(B549:J549)","v":0},{"$f":"K549-J549","v":0},{"$f":"L549*Q531","v":0},{"$f":"L549*1%","v":0},null,null,null,null,null,null,null,null,null,null,null,null,null,{"$f":"SUM(O549:T549)","v":0}]
["Август",{"$f":"'Карточки лицевых счетов'!B425","v":0},{"$f":"'Карточки лицевых счетов'!C425","v":0},{"$f":"'Карточки лицевых счетов'!D425","v":0},{"$f":"'Карточки лицевых счетов'!E425","v":0},{"$f":"'Карточки лицевых счетов'!F425+'Карточки лицевых счетов'!G425","v":0},{"$f":"'Карточки лицевых счетов'!H425","v":0},{"$f":"'Карточки лицевых счетов'!I425","v":0},{"$f":"'Карточки лицевых счетов'!J425","v":0},{"$f":"'Карточки лицевых счетов'!K425","v":0},{"$f":"SUM(B550:J550)","v":0},{"$f":"K550-J550","v":0},{"$f":"L550*Q531","v":0},{"$f":"L550*1%","v":0},null,null,null,null,null,null,null,null,null,null,null,null,null,{"$f":"SUM(O550:T550)","v":0}]
["Сентябрь",{"$f":"'Карточки лицевых счетов'!B426","v":0},{"$f":"'Карточки лицевых счетов'!C426","v":0},{"$f":"'Карточки лицевых счетов'!D426","v":0},{"$f":"'Карточки лицевых счетов'!E426","v":0},{"$f":"'Карточки лицевых счетов'!F426+'Карточки лицевых счетов'!G426","v":0},{"$f":"'Карточки лицевых счетов'!H426","v":0},{"$f":"'Карточки лицевых счетов'!I426","v":0},{"$f":"'Карточки лицевых счетов'!J426","v":0},{"$f":"'Карточки лицевых счетов'!K426","v":0},{"$f":"SUM(B551:J551)","v":0},0,{"$f":"L551*Q531","v":0},{"$f":"L551*1%","v":0},null,null,null,null,null,null,null,null,null,null,null,null,null,{"$f":"SUM(O551:T551)","v":0}]
["Итого за III квартал",{"$f":"SUM(B549:B551)","v":0},0,0,0,0,0,0,0,0,0,0,0,0,0,0,0,0,0,0,"х",{"$f":"SUM(V549:V551)","v":0},{"$f":"SUM(W549:W551)","v":0},null,null,null,null,{"$f":"SUM(AB549:AB551)","v":0}]
["Итого c начала года",{"$f":" B548+ B552","v":0},{"$f":" C548+ C552","v":0},0,0,0,0,0,0,0,0,0,0,0,0,0,0,0,0,0,null,{"$f":" V543+ V547+ V552","v":0},0]
["Октябрь",{"$f":"'Карточки лицевых счетов'!B427","v":0},{"$f":"'Карточки лицевых счетов'!C427","v":0},{"$f":"'Карточки лицевых счетов'!D427","v":0},{"$f":"'Карточки лицевых счетов'!E427","v":0},{"$f":"'Карточки лицевых счетов'!F427+'Карточки лицевых счетов'!G427","v":0},{"$f":"'Карточки лицевых счетов'!H427","v":0},{"$f":"'Карточки лицевых счетов'!I427","v":0},{"$f":"'Карточки лицевых счетов'!J427","v":0},{"$f":"'Карточки лицевых счетов'!K427","v":0},{"$f":"SUM(B554:J554)","v":0},{"$f":"K554-J554","v":0},{"$f":"L554*Q531","v":0},{"$f":"L554*1%","v":0},null,null,null,null,null,null,null,null,null,null,null,null,null,{"$f":"SUM(O554:T554)","v":0}]
["Ноябрь",{"$f":"'Карточки лицевых счетов'!B428","v":0},{"$f":"'Карточки лицевых счетов'!C428","v":0},{"$f":"'Карточки лицевых счетов'!D428","v":0},{"$f":"'Карточки лицевых счетов'!E428","v":0},{"$f":"'Карточки лицевых счетов'!F428+'Карточки лицевых счетов'!G428","v":0},{"$f":"'Карточки лицевых счетов'!H428","v":0},{"$f":"'Карточки лицевых счетов'!I428","v":0},{"$f":"'Карточки лицевых счетов'!J428","v":0},{"$f":"'Карточки лицевых счетов'!K428","v":0},{"$f":"SUM(B555:J555)","v":0},{"$f":"K555-J555","v":0},{"$f":"L555*Q531","v":0},{"$f":"L555*1%","v":0},null,null,null,null,null,null,null,null,null,null,null,null,null,{"$f":"SUM(O555:T555)","v":0}]
["Декабрь",{"$f":"'Карточки лицевых счетов'!B429","v":0},{"$f":"'Карточки лицевых счетов'!C429","v":0},{"$f":"'Карточки лицевых счетов'!D429","v":0},{"$f":"'Карточки лицевых счетов'!E429","v":0},{"$f":"'Карточки лицевых счетов'!F429+'Карточки лицевых счетов'!G429","v":0},{"$f":"'Карточки лицевых счетов'!H429","v":0},{"$f":"'Карточки лицевых счетов'!I429","v":0},{"$f":"'Карточки лицевых счетов'!J429","v":0},{"$f":"'Карточки лицевых счетов'!K429","v":0},{"$f":"SUM(B556:J556)","v":0},0,{"$f":"L556*Q531","v":0},{"$f":"L556*1%","v":0},null,null,null,null,null,null,null,null,null,null,null,null,null,{"$f":"SUM(O556:T556)","v":0}]
["Итого за IV квартал",{"$f":"SUM(B554:B556)","v":0},0,0,0,0,0,0,0,0,0,0,0,0,0,0,0,0,0,0,"х",{"$f":"SUM(V554:V556)","v":0},{"$f":"SUM(W554:W556)","v":0},null,null,null,null,{"$f":"SUM(AB554:AB556)","v":0}]
["Итого с начала года",{"$f":"B553+B557","v":0},{"$f":"C553+C557","v":0},{"$f":"D553+D557","v":0},{"$f":"E553+E557","v":0},{"$f":"F553+F557","v":0},{"$f":"G553+G557","v":0},{"$f":"H553+H557","v":0},{"$f":"I553+I557","v":0},{"$f":"J553+J557","v":0},{"$f":"K553+K557","v":0},{"$f":"L553+L557","v":0},{"$f":"M553+M557","v":0},{"$f":"N553+N557","v":0},{"$f":"O553+O557","v":0},{"$f":"P553+P557","v":0},{"$f":"Q553+Q557","v":0},{"$f":"R553+R557","v":0},{"$f":"S553+S557","v":0},{"$f":"T553+T557","v":0},"х",{"$f":"V543+V547+V552+V557","v":0},{"$f":"W543+W547+W552+W557","v":0},null,null,null,null,{"$f":"AB543+AB547+AB552+AB557","v":0}]
[]
["* Заполняется по работникам, с которыми заключены гражданско-правовые договоры."]
["** Заполняется по работникам-инвалидам."]
[]
["1. Карточка  учета  начисленных  обязательных  страховых взносов в бюджет фонда и пособий из средств бюджета фонда"]
[{"$f":"'Карточки лицевых счетов'!L434","v":"17"},null,null,null,null,null,null,null,null,null,null,null,null,null,null,null,null,null,null,null,null,null,null,17]
["(фамилия, собственное имя, отчество (если таковое имеется) работника)"]
[null,null,null,null,null,null,null,null,null,null,null,null,null,null,null,null,{"$f":"$Q$6","v":0.35},"- размер страховых взносов в ФСЗН"]
["(дата и номер договора, дата выплаты вознаграждения)*"]
[]
["(группа и период инвалидности)**"]
[null,null,null,null,null,null,null,null,null,null,null,null,null,null,null,null,null,null,null,null,null,"(руб.)"]
["Месяц ","Выплаты в денежном и (или) натуральном выражении, начисленные в пользу работника",null,null,null,null,null,null,null,null,null,"Выплаты, на которые начисляются страховые взносы","Сумма начисленных страховых взносов ",null,"Начислено пособий "]
[null,"основная заработная плата","надбавка","премия","индексация","отпуск","комп. за неисп. отпуск","прочие","мат. помощь","больничный","итого \n(гр. 2 + гр. 3 + гр. 4 + гр. 5) ",null,null,null,"сумма ",null,null,null,null,null,"за какой месяц","количество рабочих дней ","количество пособий"]
[null,null,null,null,null,null,null,null,null,null,null,null,"всего","в том числе 1% ","пособия по временной нетрудо-способности","пособия по беремен-ности и родам","единовре-менные пособия","пособия по уходу за ребенком в возрасте до 3 лет","пособия на детей старше 3 лет из отдельных категорий семей и семьям на детей в возрасте от 3 до 18 лет в период воспитания ребенка в возрасте до 3 лет","оплата свободного от работы дня матери (мачехе) или отцу (отчиму), опекуну (попечителю), воспитывающей (ему) ребенка-инвалида в возрасте до 18 лет"]
[1,2,3,"3а","3б","3в","3г","3е",4,5,6,7,8,9,10,11,12,13,14,15,16,17,18,null,null,null,null,"Пособия по карточке"]
["Январь",{"$f":"'Карточки лицевых счетов'!B445","v":0},{"$f":"'Карточки лицевых счетов'!C445","v":0},{"$f":"'Карточки лицевых счетов'!D445","v":0},{"$f":"'Карточки лицевых счетов'!E445","v":0},{"$f":"'Карточки лицевых счетов'!F445+'Карточки лицевых счетов'!G445","v":0},{"$f":"'Карточки лицевых счетов'!H445","v":0},{"$f":"'Карточки лицевых счетов'!I445","v":0},{"$f":"'Карточки лицевых счетов'!J445","v":0},{"$f":"'Карточки лицевых счетов'!K445","v":0},{"$f":"SUM(B575:J575)","v":0},{"$f":"K575-J575","v":0},{"$f":"L575*Q566","v":0},{"$f":"L575*1%","v":0},null,null,null,null,null,null,null,null,null,null,null,null,null,{"$f":"SUM(O575:T575)","v":0}]
["Февраль",{"$f":"'Карточки лицевых счетов'!B446","v":0},{"$f":"'Карточки лицевых счетов'!C446","v":0},{"$f":"'Карточки лицевых счетов'!D446","v":0},{"$f":"'Карточки лицевых счетов'!E446","v":0},{"$f":"'Карточки лицевых счетов'!F446+'Карточки лицевых счетов'!G446","v":0},{"$f":"'Карточки лицевых счетов'!H446","v":0},{"$f":"'Карточки лицевых счетов'!I446","v":0},{"$f":"'Карточки лицевых счетов'!J446","v":0},{"$f":"'Карточки лицевых счетов'!K446","v":0},{"$f":"SUM(B576:J576)","v":0},{"$f":"K576-J576","v":0},{"$f":"L576*Q566","v":0},{"$f":"L576*1%","v":0},null,null,null,null,null,null,null,null,null,null,null,null,null,{"$f":"SUM(O576:T576)","v":0}]
["Март",{"$f":"'Карточки лицевых счетов'!B447","v":0},{"$f":"'Карточки лицевых счетов'!C447","v":0},{"$f":"'Карточки лицевых счетов'!D447","v":0},{"$f":"'Карточки лицевых счетов'!E447","v":0},{"$f":"'Карточки лицевых счетов'!F447+'Карточки лицевых счетов'!G447","v":0},{"$f":"'Карточки лицевых счетов'!H447","v":0},{"$f":"'Карточки лицевых счетов'!I447","v":0},{"$f":"'Карточки лицевых счетов'!J447","v":0},{"$f":"'Карточки лицевых счетов'!K447","v":0},{"$f":"SUM(B577:J577)","v":0},0,{"$f":"L577*Q566","v":0},{"$f":"L577*1%","v":0},null,null,null,null,null,null,null,null,null,null,null,null,null,{"$f":"SUM(O577:T577)","v":0}]
["Итого за I квартал / Итого c начала года",{"$f":"SUM(B575:B577)","v":0},0,0,0,0,0,0,0,0,0,0,0,0,0,0,0,0,0,0,"х",{"$f":"SUM(V575:V577)","v":0},{"$f":"SUM(W575:W577)","v":0},null,null,null,null,{"$f":"SUM(AB575:AB577)","v":0}]
["Апрель",{"$f":"'Карточки лицевых счетов'!B448","v":0},{"$f":"'Карточки лицевых счетов'!C448","v":0},{"$f":"'Карточки лицевых счетов'!D448","v":0},{"$f":"'Карточки лицевых счетов'!E448","v":0},{"$f":"'Карточки лицевых счетов'!F448+'Карточки лицевых счетов'!G448","v":0},{"$f":"'Карточки лицевых счетов'!H448","v":0},{"$f":"'Карточки лицевых счетов'!I448","v":0},{"$f":"'Карточки лицевых счетов'!J448","v":0},{"$f":"'Карточки лицевых счетов'!K448","v":0},{"$f":"SUM(B579:J579)","v":0},{"$f":"K579-J579","v":0},{"$f":"L579*Q566","v":0},{"$f":"L579*1%","v":0},null,null,null,null,null,null,null,null,null,null,null,null,null,{"$f":"SUM(O579:T579)","v":0}]
["Май",{"$f":"'Карточки лицевых счетов'!B449","v":0},{"$f":"'Карточки лицевых счетов'!C449","v":0},{"$f":"'Карточки лицевых счетов'!D449","v":0},{"$f":"'Карточки лицевых счетов'!E449","v":0},{"$f":"'Карточки лицевых счетов'!F449+'Карточки лицевых счетов'!G449","v":0},{"$f":"'Карточки лицевых счетов'!H449","v":0},{"$f":"'Карточки лицевых счетов'!I449","v":0},{"$f":"'Карточки лицевых счетов'!J449","v":0},{"$f":"'Карточки лицевых счетов'!K449","v":0},{"$f":"SUM(B580:J580)","v":0},{"$f":"K580-J580","v":0},{"$f":"L580*Q566","v":0},{"$f":"L580*1%","v":0},null,null,null,null,null,null,null,null,null,null,null,null,null,{"$f":"SUM(O580:T580)","v":0}]
["Июнь",{"$f":"'Карточки лицевых счетов'!B450","v":0},{"$f":"'Карточки лицевых счетов'!C450","v":0},{"$f":"'Карточки лицевых счетов'!D450","v":0},{"$f":"'Карточки лицевых счетов'!E450","v":0},{"$f":"'Карточки лицевых счетов'!F450+'Карточки лицевых счетов'!G450","v":0},{"$f":"'Карточки лицевых счетов'!H450","v":0},{"$f":"'Карточки лицевых счетов'!I450","v":0},{"$f":"'Карточки лицевых счетов'!J450","v":0},{"$f":"'Карточки лицевых счетов'!K450","v":0},{"$f":"SUM(B581:J581)","v":0},0,{"$f":"L581*Q566","v":0},{"$f":"L581*1%","v":0},null,null,null,null,null,null,null,null,null,null,null,null,null,{"$f":"SUM(O581:T581)","v":0}]
["Итого за II квартал",{"$f":"SUM(B579:B581)","v":0},0,0,0,0,0,0,0,0,0,0,0,0,0,0,0,0,0,0,"х",{"$f":"SUM(V579:V581)","v":0},{"$f":"SUM(W579:W581)","v":0},null,null,null,null,{"$f":"SUM(AB579:AB581)","v":0}]
["Итого c начала года",{"$f":" B578+ B582","v":0},{"$f":" C578+ C582","v":0},0,0,0,0,0,0,0,0,0,0,0,0,0,0,0,0,0,null,0,0]
["Июль",{"$f":"'Карточки лицевых счетов'!B451","v":0},{"$f":"'Карточки лицевых счетов'!C451","v":0},{"$f":"'Карточки лицевых счетов'!D451","v":0},{"$f":"'Карточки лицевых счетов'!E451","v":0},{"$f":"'Карточки лицевых счетов'!F451+'Карточки лицевых счетов'!G451","v":0},{"$f":"'Карточки лицевых счетов'!H451","v":0},{"$f":"'Карточки лицевых счетов'!I451","v":0},{"$f":"'Карточки лицевых счетов'!J451","v":0},{"$f":"'Карточки лицевых счетов'!K451","v":0},{"$f":"SUM(B584:J584)","v":0},{"$f":"K584-J584","v":0},{"$f":"L584*Q566","v":0},{"$f":"L584*1%","v":0},null,null,null,null,null,null,null,null,null,null,null,null,null,{"$f":"SUM(O584:T584)","v":0}]
["Август",{"$f":"'Карточки лицевых счетов'!B452","v":0},{"$f":"'Карточки лицевых счетов'!C452","v":0},{"$f":"'Карточки лицевых счетов'!D452","v":0},{"$f":"'Карточки лицевых счетов'!E452","v":0},{"$f":"'Карточки лицевых счетов'!F452+'Карточки лицевых счетов'!G452","v":0},{"$f":"'Карточки лицевых счетов'!H452","v":0},{"$f":"'Карточки лицевых счетов'!I452","v":0},{"$f":"'Карточки лицевых счетов'!J452","v":0},{"$f":"'Карточки лицевых счетов'!K452","v":0},{"$f":"SUM(B585:J585)","v":0},{"$f":"K585-J585","v":0},{"$f":"L585*Q566","v":0},{"$f":"L585*1%","v":0},null,null,null,null,null,null,null,null,null,null,null,null,null,{"$f":"SUM(O585:T585)","v":0}]
["Сентябрь",{"$f":"'Карточки лицевых счетов'!B453","v":0},{"$f":"'Карточки лицевых счетов'!C453","v":0},{"$f":"'Карточки лицевых счетов'!D453","v":0},{"$f":"'Карточки лицевых счетов'!E453","v":0},{"$f":"'Карточки лицевых счетов'!F453+'Карточки лицевых счетов'!G453","v":0},{"$f":"'Карточки лицевых счетов'!H453","v":0},{"$f":"'Карточки лицевых счетов'!I453","v":0},{"$f":"'Карточки лицевых счетов'!J453","v":0},{"$f":"'Карточки лицевых счетов'!K453","v":0},{"$f":"SUM(B586:J586)","v":0},0,{"$f":"L586*Q566","v":0},{"$f":"L586*1%","v":0},null,null,null,null,null,null,null,null,null,null,null,null,null,{"$f":"SUM(O586:T586)","v":0}]
["Итого за III квартал",{"$f":"SUM(B584:B586)","v":0},0,0,0,0,0,0,0,0,0,0,0,0,0,0,0,0,0,0,"х",{"$f":"SUM(V584:V586)","v":0},{"$f":"SUM(W584:W586)","v":0},null,null,null,null,{"$f":"SUM(AB584:AB586)","v":0}]
["Итого c начала года",{"$f":" B583+ B587","v":0},{"$f":" C583+ C587","v":0},0,0,0,0,0,0,0,0,0,0,0,0,0,0,0,0,0,null,{"$f":" V578+ V582+ V587","v":0},0]
["Октябрь",{"$f":"'Карточки лицевых счетов'!B454","v":0},{"$f":"'Карточки лицевых счетов'!C454","v":0},{"$f":"'Карточки лицевых счетов'!D454","v":0},{"$f":"'Карточки лицевых счетов'!E454","v":0},{"$f":"'Карточки лицевых счетов'!F454+'Карточки лицевых счетов'!G454","v":0},{"$f":"'Карточки лицевых счетов'!H454","v":0},{"$f":"'Карточки лицевых счетов'!I454","v":0},{"$f":"'Карточки лицевых счетов'!J454","v":0},{"$f":"'Карточки лицевых счетов'!K454","v":0},{"$f":"SUM(B589:J589)","v":0},{"$f":"K589-J589","v":0},{"$f":"L589*Q566","v":0},{"$f":"L589*1%","v":0},null,null,null,null,null,null,null,null,null,null,null,null,null,{"$f":"SUM(O589:T589)","v":0}]
["Ноябрь",{"$f":"'Карточки лицевых счетов'!B455","v":0},{"$f":"'Карточки лицевых счетов'!C455","v":0},{"$f":"'Карточки лицевых счетов'!D455","v":0},{"$f":"'Карточки лицевых счетов'!E455","v":0},{"$f":"'Карточки лицевых счетов'!F455+'Карточки лицевых счетов'!G455","v":0},{"$f":"'Карточки лицевых счетов'!H455","v":0},{"$f":"'Карточки лицевых счетов'!I455","v":0},{"$f":"'Карточки лицевых счетов'!J455","v":0},{"$f":"'Карточки лицевых счетов'!K455","v":0},{"$f":"SUM(B590:J590)","v":0},{"$f":"K590-J590","v":0},{"$f":"L590*Q566","v":0},{"$f":"L590*1%","v":0},null,null,null,null,null,null,null,null,null,null,null,null,null,{"$f":"SUM(O590:T590)","v":0}]
["Декабрь",{"$f":"'Карточки лицевых счетов'!B456","v":0},{"$f":"'Карточки лицевых счетов'!C456","v":0},{"$f":"'Карточки лицевых счетов'!D456","v":0},{"$f":"'Карточки лицевых счетов'!E456","v":0},{"$f":"'Карточки лицевых счетов'!F456+'Карточки лицевых счетов'!G456","v":0},{"$f":"'Карточки лицевых счетов'!H456","v":0},{"$f":"'Карточки лицевых счетов'!I456","v":0},{"$f":"'Карточки лицевых счетов'!J456","v":0},{"$f":"'Карточки лицевых счетов'!K456","v":0},{"$f":"SUM(B591:J591)","v":0},0,{"$f":"L591*Q566","v":0},{"$f":"L591*1%","v":0},null,null,null,null,null,null,null,null,null,null,null,null,null,{"$f":"SUM(O591:T591)","v":0}]
["Итого за IV квартал",{"$f":"SUM(B589:B591)","v":0},0,0,0,0,0,0,0,0,0,0,0,0,0,0,0,0,0,0,"х",{"$f":"SUM(V589:V591)","v":0},{"$f":"SUM(W589:W591)","v":0},null,null,null,null,{"$f":"SUM(AB589:AB591)","v":0}]
["Итого с начала года",{"$f":"B588+B592","v":0},{"$f":"C588+C592","v":0},{"$f":"D588+D592","v":0},{"$f":"E588+E592","v":0},{"$f":"F588+F592","v":0},{"$f":"G588+G592","v":0},{"$f":"H588+H592","v":0},{"$f":"I588+I592","v":0},{"$f":"J588+J592","v":0},{"$f":"K588+K592","v":0},{"$f":"L588+L592","v":0},{"$f":"M588+M592","v":0},{"$f":"N588+N592","v":0},{"$f":"O588+O592","v":0},{"$f":"P588+P592","v":0},{"$f":"Q588+Q592","v":0},{"$f":"R588+R592","v":0},{"$f":"S588+S592","v":0},{"$f":"T588+T592","v":0},"х",{"$f":"V578+V582+V587+V592","v":0},{"$f":"W578+W582+W587+W592","v":0},null,null,null,null,{"$f":"AB578+AB582+AB587+AB592","v":0}]
[]
["* Заполняется по работникам, с которыми заключены гражданско-правовые договоры."]
["** Заполняется по работникам-инвалидам."]
[]
["1. Карточка  учета  начисленных  обязательных  страховых взносов в бюджет фонда и пособий из средств бюджета фонда"]
[{"$f":"'Карточки лицевых счетов'!L461","v":"18"},null,null,null,null,null,null,null,null,null,null,null,null,null,null,null,null,null,null,null,null,null,null,18]
["(фамилия, собственное имя, отчество (если таковое имеется) работника)"]
[null,null,null,null,null,null,null,null,null,null,null,null,null,null,null,null,{"$f":"$Q$6","v":0.35},"- размер страховых взносов в ФСЗН"]
["(дата и номер договора, дата выплаты вознаграждения)*"]
[]
["(группа и период инвалидности)**"]
[null,null,null,null,null,null,null,null,null,null,null,null,null,null,null,null,null,null,null,null,null,"(руб.)"]
["Месяц ","Выплаты в денежном и (или) натуральном выражении, начисленные в пользу работника",null,null,null,null,null,null,null,null,null,"Выплаты, на которые начисляются страховые взносы","Сумма начисленных страховых взносов ",null,"Начислено пособий "]
[null,"основная заработная плата","надбавка","премия","индексация","отпуск","комп. за неисп. отпуск","прочие","мат. помощь","больничный","итого \n(гр. 2 + гр. 3 + гр. 4 + гр. 5) ",null,null,null,"сумма ",null,null,null,null,null,"за какой месяц","количество рабочих дней ","количество пособий"]
[null,null,null,null,null,null,null,null,null,null,null,null,"всего","в том числе 1% ","пособия по временной нетрудо-способности","пособия по беремен-ности и родам","единовре-менные пособия","пособия по уходу за ребенком в возрасте до 3 лет","пособия на детей старше 3 лет из отдельных категорий семей и семьям на детей в возрасте от 3 до 18 лет в период воспитания ребенка в возрасте до 3 лет","оплата свободного от работы дня матери (мачехе) или отцу (отчиму), опекуну (попечителю), воспитывающей (ему) ребенка-инвалида в возрасте до 18 лет"]
[1,2,3,"3а","3б","3в","3г","3е",4,5,6,7,8,9,10,11,12,13,14,15,16,17,18,null,null,null,null,"Пособия по карточке"]
["Январь",{"$f":"'Карточки лицевых счетов'!B472","v":0},{"$f":"'Карточки лицевых счетов'!C472","v":0},{"$f":"'Карточки лицевых счетов'!D472","v":0},{"$f":"'Карточки лицевых счетов'!E472","v":0},{"$f":"'Карточки лицевых счетов'!F472+'Карточки лицевых счетов'!G472","v":0},{"$f":"'Карточки лицевых счетов'!H472","v":0},{"$f":"'Карточки лицевых счетов'!I472","v":0},{"$f":"'Карточки лицевых счетов'!J472","v":0},{"$f":"'Карточки лицевых счетов'!K472","v":0},{"$f":"SUM(B610:J610)","v":0},{"$f":"K610-J610","v":0},{"$f":"L610*Q601","v":0},{"$f":"L610*1%","v":0},null,null,null,null,null,null,null,null,null,null,null,null,null,{"$f":"SUM(O610:T610)","v":0}]
["Февраль",{"$f":"'Карточки лицевых счетов'!B473","v":0},{"$f":"'Карточки лицевых счетов'!C473","v":0},{"$f":"'Карточки лицевых счетов'!D473","v":0},{"$f":"'Карточки лицевых счетов'!E473","v":0},{"$f":"'Карточки лицевых счетов'!F473+'Карточки лицевых счетов'!G473","v":0},{"$f":"'Карточки лицевых счетов'!H473","v":0},{"$f":"'Карточки лицевых счетов'!I473","v":0},{"$f":"'Карточки лицевых счетов'!J473","v":0},{"$f":"'Карточки лицевых счетов'!K473","v":0},{"$f":"SUM(B611:J611)","v":0},{"$f":"K611-J611","v":0},{"$f":"L611*Q601","v":0},{"$f":"L611*1%","v":0},null,null,null,null,null,null,null,null,null,null,null,null,null,{"$f":"SUM(O611:T611)","v":0}]
["Март",{"$f":"'Карточки лицевых счетов'!B474","v":0},{"$f":"'Карточки лицевых счетов'!C474","v":0},{"$f":"'Карточки лицевых счетов'!D474","v":0},{"$f":"'Карточки лицевых счетов'!E474","v":0},{"$f":"'Карточки лицевых счетов'!F474+'Карточки лицевых счетов'!G474","v":0},{"$f":"'Карточки лицевых счетов'!H474","v":0},{"$f":"'Карточки лицевых счетов'!I474","v":0},{"$f":"'Карточки лицевых счетов'!J474","v":0},{"$f":"'Карточки лицевых счетов'!K474","v":0},{"$f":"SUM(B612:J612)","v":0},0,{"$f":"L612*Q601","v":0},{"$f":"L612*1%","v":0},null,null,null,null,null,null,null,null,null,null,null,null,null,{"$f":"SUM(O612:T612)","v":0}]
["Итого за I квартал / Итого c начала года",{"$f":"SUM(B610:B612)","v":0},0,0,0,0,0,0,0,0,0,0,0,0,0,0,0,0,0,0,"х",{"$f":"SUM(V610:V612)","v":0},{"$f":"SUM(W610:W612)","v":0},null,null,null,null,{"$f":"SUM(AB610:AB612)","v":0}]
["Апрель",{"$f":"'Карточки лицевых счетов'!B475","v":0},{"$f":"'Карточки лицевых счетов'!C475","v":0},{"$f":"'Карточки лицевых счетов'!D475","v":0},{"$f":"'Карточки лицевых счетов'!E475","v":0},{"$f":"'Карточки лицевых счетов'!F475+'Карточки лицевых счетов'!G475","v":0},{"$f":"'Карточки лицевых счетов'!H475","v":0},{"$f":"'Карточки лицевых счетов'!I475","v":0},{"$f":"'Карточки лицевых счетов'!J475","v":0},{"$f":"'Карточки лицевых счетов'!K475","v":0},{"$f":"SUM(B614:J614)","v":0},{"$f":"K614-J614","v":0},{"$f":"L614*Q601","v":0},{"$f":"L614*1%","v":0},null,null,null,null,null,null,null,null,null,null,null,null,null,{"$f":"SUM(O614:T614)","v":0}]
["Май",{"$f":"'Карточки лицевых счетов'!B476","v":0},{"$f":"'Карточки лицевых счетов'!C476","v":0},{"$f":"'Карточки лицевых счетов'!D476","v":0},{"$f":"'Карточки лицевых счетов'!E476","v":0},{"$f":"'Карточки лицевых счетов'!F476+'Карточки лицевых счетов'!G476","v":0},{"$f":"'Карточки лицевых счетов'!H476","v":0},{"$f":"'Карточки лицевых счетов'!I476","v":0},{"$f":"'Карточки лицевых счетов'!J476","v":0},{"$f":"'Карточки лицевых счетов'!K476","v":0},{"$f":"SUM(B615:J615)","v":0},{"$f":"K615-J615","v":0},{"$f":"L615*Q601","v":0},{"$f":"L615*1%","v":0},null,null,null,null,null,null,null,null,null,null,null,null,null,{"$f":"SUM(O615:T615)","v":0}]
["Июнь",{"$f":"'Карточки лицевых счетов'!B477","v":0},{"$f":"'Карточки лицевых счетов'!C477","v":0},{"$f":"'Карточки лицевых счетов'!D477","v":0},{"$f":"'Карточки лицевых счетов'!E477","v":0},{"$f":"'Карточки лицевых счетов'!F477+'Карточки лицевых счетов'!G477","v":0},{"$f":"'Карточки лицевых счетов'!H477","v":0},{"$f":"'Карточки лицевых счетов'!I477","v":0},{"$f":"'Карточки лицевых счетов'!J477","v":0},{"$f":"'Карточки лицевых счетов'!K477","v":0},{"$f":"SUM(B616:J616)","v":0},0,{"$f":"L616*Q601","v":0},{"$f":"L616*1%","v":0},null,null,null,null,null,null,null,null,null,null,null,null,null,{"$f":"SUM(O616:T616)","v":0}]
["Итого за II квартал",{"$f":"SUM(B614:B616)","v":0},0,0,0,0,0,0,0,0,0,0,0,0,0,0,0,0,0,0,"х",{"$f":"SUM(V614:V616)","v":0},{"$f":"SUM(W614:W616)","v":0},null,null,null,null,{"$f":"SUM(AB614:AB616)","v":0}]
["Итого c начала года",{"$f":" B613+ B617","v":0},{"$f":" C613+ C617","v":0},0,0,0,0,0,0,0,0,0,0,0,0,0,0,0,0,0,null,0,0]
["Июль",{"$f":"'Карточки лицевых счетов'!B478","v":0},{"$f":"'Карточки лицевых счетов'!C478","v":0},{"$f":"'Карточки лицевых счетов'!D478","v":0},{"$f":"'Карточки лицевых счетов'!E478","v":0},{"$f":"'Карточки лицевых счетов'!F478+'Карточки лицевых счетов'!G478","v":0},{"$f":"'Карточки лицевых счетов'!H478","v":0},{"$f":"'Карточки лицевых счетов'!I478","v":0},{"$f":"'Карточки лицевых счетов'!J478","v":0},{"$f":"'Карточки лицевых счетов'!K478","v":0},{"$f":"SUM(B619:J619)","v":0},{"$f":"K619-J619","v":0},{"$f":"L619*Q601","v":0},{"$f":"L619*1%","v":0},null,null,null,null,null,null,null,null,null,null,null,null,null,{"$f":"SUM(O619:T619)","v":0}]
["Август",{"$f":"'Карточки лицевых счетов'!B479","v":0},{"$f":"'Карточки лицевых счетов'!C479","v":0},{"$f":"'Карточки лицевых счетов'!D479","v":0},{"$f":"'Карточки лицевых счетов'!E479","v":0},{"$f":"'Карточки лицевых счетов'!F479+'Карточки лицевых счетов'!G479","v":0},{"$f":"'Карточки лицевых счетов'!H479","v":0},{"$f":"'Карточки лицевых счетов'!I479","v":0},{"$f":"'Карточки лицевых счетов'!J479","v":0},{"$f":"'Карточки лицевых счетов'!K479","v":0},{"$f":"SUM(B620:J620)","v":0},{"$f":"K620-J620","v":0},{"$f":"L620*Q601","v":0},{"$f":"L620*1%","v":0},null,null,null,null,null,null,null,null,null,null,null,null,null,{"$f":"SUM(O620:T620)","v":0}]
["Сентябрь",{"$f":"'Карточки лицевых счетов'!B480","v":0},{"$f":"'Карточки лицевых счетов'!C480","v":0},{"$f":"'Карточки лицевых счетов'!D480","v":0},{"$f":"'Карточки лицевых счетов'!E480","v":0},{"$f":"'Карточки лицевых счетов'!F480+'Карточки лицевых счетов'!G480","v":0},{"$f":"'Карточки лицевых счетов'!H480","v":0},{"$f":"'Карточки лицевых счетов'!I480","v":0},{"$f":"'Карточки лицевых счетов'!J480","v":0},{"$f":"'Карточки лицевых счетов'!K480","v":0},{"$f":"SUM(B621:J621)","v":0},0,{"$f":"L621*Q601","v":0},{"$f":"L621*1%","v":0},null,null,null,null,null,null,null,null,null,null,null,null,null,{"$f":"SUM(O621:T621)","v":0}]
["Итого за III квартал",{"$f":"SUM(B619:B621)","v":0},0,0,0,0,0,0,0,0,0,0,0,0,0,0,0,0,0,0,"х",{"$f":"SUM(V619:V621)","v":0},{"$f":"SUM(W619:W621)","v":0},null,null,null,null,{"$f":"SUM(AB619:AB621)","v":0}]
["Итого c начала года",{"$f":" B618+ B622","v":0},{"$f":" C618+ C622","v":0},0,0,0,0,0,0,0,0,0,0,0,0,0,0,0,0,0,null,{"$f":" V613+ V617+ V622","v":0},0]
["Октябрь",{"$f":"'Карточки лицевых счетов'!B481","v":0},{"$f":"'Карточки лицевых счетов'!C481","v":0},{"$f":"'Карточки лицевых счетов'!D481","v":0},{"$f":"'Карточки лицевых счетов'!E481","v":0},{"$f":"'Карточки лицевых счетов'!F481+'Карточки лицевых счетов'!G481","v":0},{"$f":"'Карточки лицевых счетов'!H481","v":0},{"$f":"'Карточки лицевых счетов'!I481","v":0},{"$f":"'Карточки лицевых счетов'!J481","v":0},{"$f":"'Карточки лицевых счетов'!K481","v":0},{"$f":"SUM(B624:J624)","v":0},{"$f":"K624-J624","v":0},{"$f":"L624*Q601","v":0},{"$f":"L624*1%","v":0},null,null,null,null,null,null,null,null,null,null,null,null,null,{"$f":"SUM(O624:T624)","v":0}]
["Ноябрь",{"$f":"'Карточки лицевых счетов'!B482","v":0},{"$f":"'Карточки лицевых счетов'!C482","v":0},{"$f":"'Карточки лицевых счетов'!D482","v":0},{"$f":"'Карточки лицевых счетов'!E482","v":0},{"$f":"'Карточки лицевых счетов'!F482+'Карточки лицевых счетов'!G482","v":0},{"$f":"'Карточки лицевых счетов'!H482","v":0},{"$f":"'Карточки лицевых счетов'!I482","v":0},{"$f":"'Карточки лицевых счетов'!J482","v":0},{"$f":"'Карточки лицевых счетов'!K482","v":0},{"$f":"SUM(B625:J625)","v":0},{"$f":"K625-J625","v":0},{"$f":"L625*Q601","v":0},{"$f":"L625*1%","v":0},null,null,null,null,null,null,null,null,null,null,null,null,null,{"$f":"SUM(O625:T625)","v":0}]
["Декабрь",{"$f":"'Карточки лицевых счетов'!B483","v":0},{"$f":"'Карточки лицевых счетов'!C483","v":0},{"$f":"'Карточки лицевых счетов'!D483","v":0},{"$f":"'Карточки лицевых счетов'!E483","v":0},{"$f":"'Карточки лицевых счетов'!F483+'Карточки лицевых счетов'!G483","v":0},{"$f":"'Карточки лицевых счетов'!H483","v":0},{"$f":"'Карточки лицевых счетов'!I483","v":0},{"$f":"'Карточки лицевых счетов'!J483","v":0},{"$f":"'Карточки лицевых счетов'!K483","v":0},{"$f":"SUM(B626:J626)","v":0},0,{"$f":"L626*Q601","v":0},{"$f":"L626*1%","v":0},null,null,null,null,null,null,null,null,null,null,null,null,null,{"$f":"SUM(O626:T626)","v":0}]
["Итого за IV квартал",{"$f":"SUM(B624:B626)","v":0},0,0,0,0,0,0,0,0,0,0,0,0,0,0,0,0,0,0,"х",{"$f":"SUM(V624:V626)","v":0},{"$f":"SUM(W624:W626)","v":0},null,null,null,null,{"$f":"SUM(AB624:AB626)","v":0}]
["Итого с начала года",{"$f":"B623+B627","v":0},{"$f":"C623+C627","v":0},{"$f":"D623+D627","v":0},{"$f":"E623+E627","v":0},{"$f":"F623+F627","v":0},{"$f":"G623+G627","v":0},{"$f":"H623+H627","v":0},{"$f":"I623+I627","v":0},{"$f":"J623+J627","v":0},{"$f":"K623+K627","v":0},{"$f":"L623+L627","v":0},{"$f":"M623+M627","v":0},{"$f":"N623+N627","v":0},{"$f":"O623+O627","v":0},{"$f":"P623+P627","v":0},{"$f":"Q623+Q627","v":0},{"$f":"R623+R627","v":0},{"$f":"S623+S627","v":0},{"$f":"T623+T627","v":0},"х",{"$f":"V613+V617+V622+V627","v":0},{"$f":"W613+W617+W622+W627","v":0},null,null,null,null,{"$f":"AB613+AB617+AB622+AB627","v":0}]
[]
["* Заполняется по работникам, с которыми заключены гражданско-правовые договоры."]
["** Заполняется по работникам-инвалидам."]
[]
["1. Карточка  учета  начисленных  обязательных  страховых взносов в бюджет фонда и пособий из средств бюджета фонда"]
[{"$f":"'Карточки лицевых счетов'!L488","v":"19"},null,null,null,null,null,null,null,null,null,null,null,null,null,null,null,null,null,null,null,null,null,null,19]
["(фамилия, собственное имя, отчество (если таковое имеется) работника)"]
[null,null,null,null,null,null,null,null,null,null,null,null,null,null,null,null,{"$f":"$Q$6","v":0.35},"- размер страховых взносов в ФСЗН"]
["(дата и номер договора, дата выплаты вознаграждения)*"]
[]
["(группа и период инвалидности)**"]
[null,null,null,null,null,null,null,null,null,null,null,null,null,null,null,null,null,null,null,null,null,"(руб.)"]
["Месяц ","Выплаты в денежном и (или) натуральном выражении, начисленные в пользу работника",null,null,null,null,null,null,null,null,null,"Выплаты, на которые начисляются страховые взносы","Сумма начисленных страховых взносов ",null,"Начислено пособий "]
[null,"основная заработная плата","надбавка","премия","индексация","отпуск","комп. за неисп. отпуск","прочие","мат. помощь","больничный","итого \n(гр. 2 + гр. 3 + гр. 4 + гр. 5) ",null,null,null,"сумма ",null,null,null,null,null,"за какой месяц","количество рабочих дней ","количество пособий"]
[null,null,null,null,null,null,null,null,null,null,null,null,"всего","в том числе 1% ","пособия по временной нетрудо-способности","пособия по беремен-ности и родам","единовре-менные пособия","пособия по уходу за ребенком в возрасте до 3 лет","пособия на детей старше 3 лет из отдельных категорий семей и семьям на детей в возрасте от 3 до 18 лет в период воспитания ребенка в возрасте до 3 лет","оплата свободного от работы дня матери (мачехе) или отцу (отчиму), опекуну (попечителю), воспитывающей (ему) ребенка-инвалида в возрасте до 18 лет"]
[1,2,3,"3а","3б","3в","3г","3е",4,5,6,7,8,9,10,11,12,13,14,15,16,17,18,null,null,null,null,"Пособия по карточке"]
["Январь",{"$f":"'Карточки лицевых счетов'!B499","v":0},{"$f":"'Карточки лицевых счетов'!C499","v":0},{"$f":"'Карточки лицевых счетов'!D499","v":0},{"$f":"'Карточки лицевых счетов'!E499","v":0},{"$f":"'Карточки лицевых счетов'!F499+'Карточки лицевых счетов'!G499","v":0},{"$f":"'Карточки лицевых счетов'!H499","v":0},{"$f":"'Карточки лицевых счетов'!I499","v":0},{"$f":"'Карточки лицевых счетов'!J499","v":0},{"$f":"'Карточки лицевых счетов'!K499","v":0},{"$f":"SUM(B645:J645)","v":0},{"$f":"K645-J645","v":0},{"$f":"L645*Q636","v":0},{"$f":"L645*1%","v":0},null,null,null,null,null,null,null,null,null,null,null,null,null,{"$f":"SUM(O645:T645)","v":0}]
["Февраль",{"$f":"'Карточки лицевых счетов'!B500","v":0},{"$f":"'Карточки лицевых счетов'!C500","v":0},{"$f":"'Карточки лицевых счетов'!D500","v":0},{"$f":"'Карточки лицевых счетов'!E500","v":0},{"$f":"'Карточки лицевых счетов'!F500+'Карточки лицевых счетов'!G500","v":0},{"$f":"'Карточки лицевых счетов'!H500","v":0},{"$f":"'Карточки лицевых счетов'!I500","v":0},{"$f":"'Карточки лицевых счетов'!J500","v":0},{"$f":"'Карточки лицевых счетов'!K500","v":0},{"$f":"SUM(B646:J646)","v":0},{"$f":"K646-J646","v":0},{"$f":"L646*Q636","v":0},{"$f":"L646*1%","v":0},null,null,null,null,null,null,null,null,null,null,null,null,null,{"$f":"SUM(O646:T646)","v":0}]
["Март",{"$f":"'Карточки лицевых счетов'!B501","v":0},{"$f":"'Карточки лицевых счетов'!C501","v":0},{"$f":"'Карточки лицевых счетов'!D501","v":0},{"$f":"'Карточки лицевых счетов'!E501","v":0},{"$f":"'Карточки лицевых счетов'!F501+'Карточки лицевых счетов'!G501","v":0},{"$f":"'Карточки лицевых счетов'!H501","v":0},{"$f":"'Карточки лицевых счетов'!I501","v":0},{"$f":"'Карточки лицевых счетов'!J501","v":0},{"$f":"'Карточки лицевых счетов'!K501","v":0},{"$f":"SUM(B647:J647)","v":0},0,{"$f":"L647*Q636","v":0},{"$f":"L647*1%","v":0},null,null,null,null,null,null,null,null,null,null,null,null,null,{"$f":"SUM(O647:T647)","v":0}]
["Итого за I квартал / Итого c начала года",{"$f":"SUM(B645:B647)","v":0},0,0,0,0,0,0,0,0,0,{"$f":"SUM(L645:L647)","v":0},0,0,0,0,0,0,0,0,"х",{"$f":"SUM(V645:V647)","v":0},{"$f":"SUM(W645:W647)","v":0},null,null,null,null,{"$f":"SUM(AB645:AB647)","v":0}]
["Апрель",{"$f":"'Карточки лицевых счетов'!B502","v":0},{"$f":"'Карточки лицевых счетов'!C502","v":0},{"$f":"'Карточки лицевых счетов'!D502","v":0},{"$f":"'Карточки лицевых счетов'!E502","v":0},{"$f":"'Карточки лицевых счетов'!F502+'Карточки лицевых счетов'!G502","v":0},{"$f":"'Карточки лицевых счетов'!H502","v":0},{"$f":"'Карточки лицевых счетов'!I502","v":0},{"$f":"'Карточки лицевых счетов'!J502","v":0},{"$f":"'Карточки лицевых счетов'!K502","v":0},{"$f":"SUM(B649:J649)","v":0},{"$f":"K649-J649","v":0},{"$f":"L649*Q636","v":0},{"$f":"L649*1%","v":0},null,null,null,null,null,null,null,null,null,null,null,null,null,{"$f":"SUM(O649:T649)","v":0}]
["Май",{"$f":"'Карточки лицевых счетов'!B503","v":0},{"$f":"'Карточки лицевых счетов'!C503","v":0},{"$f":"'Карточки лицевых счетов'!D503","v":0},{"$f":"'Карточки лицевых счетов'!E503","v":0},{"$f":"'Карточки лицевых счетов'!F503+'Карточки лицевых счетов'!G503","v":0},{"$f":"'Карточки лицевых счетов'!H503","v":0},{"$f":"'Карточки лицевых счетов'!I503","v":0},{"$f":"'Карточки лицевых счетов'!J503","v":0},{"$f":"'Карточки лицевых счетов'!K503","v":0},{"$f":"SUM(B650:J650)","v":0},{"$f":"K650-J650","v":0},{"$f":"L650*Q636","v":0},{"$f":"L650*1%","v":0},null,null,null,null,null,null,null,null,null,null,null,null,null,{"$f":"SUM(O650:T650)","v":0}]
["Июнь",{"$f":"'Карточки лицевых счетов'!B504","v":0},{"$f":"'Карточки лицевых счетов'!C504","v":0},{"$f":"'Карточки лицевых счетов'!D504","v":0},{"$f":"'Карточки лицевых счетов'!E504","v":0},{"$f":"'Карточки лицевых счетов'!F504+'Карточки лицевых счетов'!G504","v":0},{"$f":"'Карточки лицевых счетов'!H504","v":0},{"$f":"'Карточки лицевых счетов'!I504","v":0},{"$f":"'Карточки лицевых счетов'!J504","v":0},{"$f":"'Карточки лицевых счетов'!K504","v":0},{"$f":"SUM(B651:J651)","v":0},0,{"$f":"L651*Q636","v":0},{"$f":"L651*1%","v":0},null,null,null,null,null,null,null,null,null,null,null,null,null,{"$f":"SUM(O651:T651)","v":0}]
["Итого за II квартал",{"$f":"SUM(B649:B651)","v":0},0,0,0,0,0,0,0,0,0,0,0,0,0,0,0,0,0,0,"х",{"$f":"SUM(V649:V651)","v":0},{"$f":"SUM(W649:W651)","v":0},null,null,null,null,{"$f":"SUM(AB649:AB651)","v":0}]
["Итого c начала года",{"$f":" B648+ B652","v":0},{"$f":" C648+ C652","v":0},0,0,0,0,0,0,0,0,0,0,0,0,0,0,0,0,0,null,0,0]
["Июль",{"$f":"'Карточки лицевых счетов'!B505","v":0},{"$f":"'Карточки лицевых счетов'!C505","v":0},{"$f":"'Карточки лицевых счетов'!D505","v":0},{"$f":"'Карточки лицевых счетов'!E505","v":0},{"$f":"'Карточки лицевых счетов'!F505+'Карточки лицевых счетов'!G505","v":0},{"$f":"'Карточки лицевых счетов'!H505","v":0},{"$f":"'Карточки лицевых счетов'!I505","v":0},{"$f":"'Карточки лицевых счетов'!J505","v":0},{"$f":"'Карточки лицевых счетов'!K505","v":0},{"$f":"SUM(B654:J654)","v":0},{"$f":"K654-J654","v":0},{"$f":"L654*Q636","v":0},{"$f":"L654*1%","v":0},null,null,null,null,null,null,null,null,null,null,null,null,null,{"$f":"SUM(O654:T654)","v":0}]
["Август",{"$f":"'Карточки лицевых счетов'!B506","v":0},{"$f":"'Карточки лицевых счетов'!C506","v":0},{"$f":"'Карточки лицевых счетов'!D506","v":0},{"$f":"'Карточки лицевых счетов'!E506","v":0},{"$f":"'Карточки лицевых счетов'!F506+'Карточки лицевых счетов'!G506","v":0},{"$f":"'Карточки лицевых счетов'!H506","v":0},{"$f":"'Карточки лицевых счетов'!I506","v":0},{"$f":"'Карточки лицевых счетов'!J506","v":0},{"$f":"'Карточки лицевых счетов'!K506","v":0},{"$f":"SUM(B655:J655)","v":0},{"$f":"K655-J655","v":0},{"$f":"L655*Q636","v":0},{"$f":"L655*1%","v":0},null,null,null,null,null,null,null,null,null,null,null,null,null,{"$f":"SUM(O655:T655)","v":0}]
["Сентябрь",{"$f":"'Карточки лицевых счетов'!B507","v":0},{"$f":"'Карточки лицевых счетов'!C507","v":0},{"$f":"'Карточки лицевых счетов'!D507","v":0},{"$f":"'Карточки лицевых счетов'!E507","v":0},{"$f":"'Карточки лицевых счетов'!F507+'Карточки лицевых счетов'!G507","v":0},{"$f":"'Карточки лицевых счетов'!H507","v":0},{"$f":"'Карточки лицевых счетов'!I507","v":0},{"$f":"'Карточки лицевых счетов'!J507","v":0},{"$f":"'Карточки лицевых счетов'!K507","v":0},{"$f":"SUM(B656:J656)","v":0},0,{"$f":"L656*Q636","v":0},{"$f":"L656*1%","v":0},null,null,null,null,null,null,null,null,null,null,null,null,null,{"$f":"SUM(O656:T656)","v":0}]
["Итого за III квартал",{"$f":"SUM(B654:B656)","v":0},0,0,0,0,0,0,0,0,0,0,0,0,0,0,0,0,0,0,"х",{"$f":"SUM(V654:V656)","v":0},{"$f":"SUM(W654:W656)","v":0},null,null,null,null,{"$f":"SUM(AB654:AB656)","v":0}]
["Итого c начала года",{"$f":" B653+ B657","v":0},{"$f":" C653+ C657","v":0},0,0,0,0,0,0,0,0,0,0,0,0,0,0,0,0,0,null,{"$f":" V648+ V652+ V657","v":0},0]
["Октябрь",{"$f":"'Карточки лицевых счетов'!B508","v":0},{"$f":"'Карточки лицевых счетов'!C508","v":0},{"$f":"'Карточки лицевых счетов'!D508","v":0},{"$f":"'Карточки лицевых счетов'!E508","v":0},{"$f":"'Карточки лицевых счетов'!F508+'Карточки лицевых счетов'!G508","v":0},{"$f":"'Карточки лицевых счетов'!H508","v":0},{"$f":"'Карточки лицевых счетов'!I508","v":0},{"$f":"'Карточки лицевых счетов'!J508","v":0},{"$f":"'Карточки лицевых счетов'!K508","v":0},{"$f":"SUM(B659:J659)","v":0},{"$f":"K659-J659","v":0},{"$f":"L659*Q636","v":0},{"$f":"L659*1%","v":0},null,null,null,null,null,null,null,null,null,null,null,null,null,{"$f":"SUM(O659:T659)","v":0}]
["Ноябрь",{"$f":"'Карточки лицевых счетов'!B509","v":0},{"$f":"'Карточки лицевых счетов'!C509","v":0},{"$f":"'Карточки лицевых счетов'!D509","v":0},{"$f":"'Карточки лицевых счетов'!E509","v":0},{"$f":"'Карточки лицевых счетов'!F509+'Карточки лицевых счетов'!G509","v":0},{"$f":"'Карточки лицевых счетов'!H509","v":0},{"$f":"'Карточки лицевых счетов'!I509","v":0},{"$f":"'Карточки лицевых счетов'!J509","v":0},{"$f":"'Карточки лицевых счетов'!K509","v":0},{"$f":"SUM(B660:J660)","v":0},{"$f":"K660-J660","v":0},{"$f":"L660*Q636","v":0},{"$f":"L660*1%","v":0},null,null,null,null,null,null,null,null,null,null,null,null,null,{"$f":"SUM(O660:T660)","v":0}]
["Декабрь",{"$f":"'Карточки лицевых счетов'!B510","v":0},{"$f":"'Карточки лицевых счетов'!C510","v":0},{"$f":"'Карточки лицевых счетов'!D510","v":0},{"$f":"'Карточки лицевых счетов'!E510","v":0},{"$f":"'Карточки лицевых счетов'!F510+'Карточки лицевых счетов'!G510","v":0},{"$f":"'Карточки лицевых счетов'!H510","v":0},{"$f":"'Карточки лицевых счетов'!I510","v":0},{"$f":"'Карточки лицевых счетов'!J510","v":0},{"$f":"'Карточки лицевых счетов'!K510","v":0},{"$f":"SUM(B661:J661)","v":0},0,{"$f":"L661*Q636","v":0},{"$f":"L661*1%","v":0},null,null,null,null,null,null,null,null,null,null,null,null,null,{"$f":"SUM(O661:T661)","v":0}]
["Итого за IV квартал",{"$f":"SUM(B659:B661)","v":0},0,0,0,0,0,0,0,0,0,0,0,0,0,0,0,0,0,0,"х",{"$f":"SUM(V659:V661)","v":0},{"$f":"SUM(W659:W661)","v":0},null,null,null,null,{"$f":"SUM(AB659:AB661)","v":0}]
["Итого с начала года",{"$f":"B658+B662","v":0},{"$f":"C658+C662","v":0},{"$f":"D658+D662","v":0},{"$f":"E658+E662","v":0},{"$f":"F658+F662","v":0},{"$f":"G658+G662","v":0},{"$f":"H658+H662","v":0},{"$f":"I658+I662","v":0},{"$f":"J658+J662","v":0},{"$f":"K658+K662","v":0},{"$f":"L658+L662","v":0},{"$f":"M658+M662","v":0},{"$f":"N658+N662","v":0},{"$f":"O658+O662","v":0},{"$f":"P658+P662","v":0},{"$f":"Q658+Q662","v":0},{"$f":"R658+R662","v":0},{"$f":"S658+S662","v":0},{"$f":"T658+T662","v":0},"х",{"$f":"V648+V652+V657+V662","v":0},{"$f":"W648+W652+W657+W662","v":0},null,null,null,null,{"$f":"AB648+AB652+AB657+AB662","v":0}]
[]
["* Заполняется по работникам, с которыми заключены гражданско-правовые договоры."]
["** Заполняется по работникам-инвалидам."]
[]
["1. Карточка  учета  начисленных  обязательных  страховых взносов в бюджет фонда и пособий из средств бюджета фонда"]
[{"$f":"'Карточки лицевых счетов'!L515","v":"20"},null,null,null,null,null,null,null,null,null,null,null,null,null,null,null,null,null,null,null,null,null,null,20]
["(фамилия, собственное имя, отчество (если таковое имеется) работника)"]
[null,null,null,null,null,null,null,null,null,null,null,null,null,null,null,null,{"$f":"$Q$6","v":0.35},"- размер страховых взносов в ФСЗН"]
["(дата и номер договора, дата выплаты вознаграждения)*"]
[]
["(группа и период инвалидности)**"]
[null,null,null,null,null,null,null,null,null,null,null,null,null,null,null,null,null,null,null,null,null,"(руб.)"]
["Месяц ","Выплаты в денежном и (или) натуральном выражении, начисленные в пользу работника",null,null,null,null,null,null,null,null,null,"Выплаты, на которые начисляются страховые взносы","Сумма начисленных страховых взносов ",null,"Начислено пособий "]
[null,"основная заработная плата","надбавка","премия","индексация","отпуск","комп. за неисп. отпуск","прочие","мат. помощь","больничный","итого \n(гр. 2 + гр. 3 + гр. 4 + гр. 5) ",null,null,null,"сумма ",null,null,null,null,null,"за какой месяц","количество рабочих дней ","количество пособий"]
[null,null,null,null,null,null,null,null,null,null,null,null,"всего","в том числе 1% ","пособия по временной нетрудо-способности","пособия по беремен-ности и родам","единовре-менные пособия","пособия по уходу за ребенком в возрасте до 3 лет","пособия на детей старше 3 лет из отдельных категорий семей и семьям на детей в возрасте от 3 до 18 лет в период воспитания ребенка в возрасте до 3 лет","оплата свободного от работы дня матери (мачехе) или отцу (отчиму), опекуну (попечителю), воспитывающей (ему) ребенка-инвалида в возрасте до 18 лет"]
[1,2,3,"3а","3б","3в","3г","3е",4,5,6,7,8,9,10,11,12,13,14,15,16,17,18,null,null,null,null,"Пособия по карточке"]
["Январь",{"$f":"'Карточки лицевых счетов'!B526","v":0},{"$f":"'Карточки лицевых счетов'!C526","v":0},{"$f":"'Карточки лицевых счетов'!D526","v":0},{"$f":"'Карточки лицевых счетов'!E526","v":0},{"$f":"'Карточки лицевых счетов'!F526+'Карточки лицевых счетов'!G526","v":0},{"$f":"'Карточки лицевых счетов'!H526","v":0},{"$f":"'Карточки лицевых счетов'!I526","v":0},{"$f":"'Карточки лицевых счетов'!J526","v":0},{"$f":"'Карточки лицевых счетов'!K526","v":0},{"$f":"SUM(B680:J680)","v":0},{"$f":"K680-J680","v":0},{"$f":"L680*Q671","v":0},{"$f":"L680*1%","v":0},null,null,null,null,null,null,null,null,null,null,null,null,null,{"$f":"SUM(O680:T680)","v":0}]
["Февраль",{"$f":"'Карточки лицевых счетов'!B527","v":0},{"$f":"'Карточки лицевых счетов'!C527","v":0},{"$f":"'Карточки лицевых счетов'!D527","v":0},{"$f":"'Карточки лицевых счетов'!E527","v":0},{"$f":"'Карточки лицевых счетов'!F527+'Карточки лицевых счетов'!G527","v":0},{"$f":"'Карточки лицевых счетов'!H527","v":0},{"$f":"'Карточки лицевых счетов'!I527","v":0},{"$f":"'Карточки лицевых счетов'!J527","v":0},{"$f":"'Карточки лицевых счетов'!K527","v":0},{"$f":"SUM(B681:J681)","v":0},{"$f":"K681-J681","v":0},{"$f":"L681*Q671","v":0},{"$f":"L681*1%","v":0},null,null,null,null,null,null,null,null,null,null,null,null,null,{"$f":"SUM(O681:T681)","v":0}]
["Март",{"$f":"'Карточки лицевых счетов'!B528","v":0},{"$f":"'Карточки лицевых счетов'!C528","v":0},{"$f":"'Карточки лицевых счетов'!D528","v":0},{"$f":"'Карточки лицевых счетов'!E528","v":0},{"$f":"'Карточки лицевых счетов'!F528+'Карточки лицевых счетов'!G528","v":0},{"$f":"'Карточки лицевых счетов'!H528","v":0},{"$f":"'Карточки лицевых счетов'!I528","v":0},{"$f":"'Карточки лицевых счетов'!J528","v":0},{"$f":"'Карточки лицевых счетов'!K528","v":0},{"$f":"SUM(B682:J682)","v":0},0,{"$f":"L682*Q671","v":0},{"$f":"L682*1%","v":0},null,null,null,null,null,null,null,null,null,null,null,null,null,{"$f":"SUM(O682:T682)","v":0}]
["Итого за I квартал / Итого c начала года",{"$f":"SUM(B680:B682)","v":0},0,0,0,0,0,0,0,0,0,0,0,0,0,0,0,0,0,0,"х",{"$f":"SUM(V680:V682)","v":0},{"$f":"SUM(W680:W682)","v":0},null,null,null,null,{"$f":"SUM(AB680:AB682)","v":0}]
["Апрель",{"$f":"'Карточки лицевых счетов'!B529","v":0},{"$f":"'Карточки лицевых счетов'!C529","v":0},{"$f":"'Карточки лицевых счетов'!D529","v":0},{"$f":"'Карточки лицевых счетов'!E529","v":0},{"$f":"'Карточки лицевых счетов'!F529+'Карточки лицевых счетов'!G529","v":0},{"$f":"'Карточки лицевых счетов'!H529","v":0},{"$f":"'Карточки лицевых счетов'!I529","v":0},{"$f":"'Карточки лицевых счетов'!J529","v":0},{"$f":"'Карточки лицевых счетов'!K529","v":0},{"$f":"SUM(B684:J684)","v":0},{"$f":"K684-J684","v":0},{"$f":"L684*Q671","v":0},{"$f":"L684*1%","v":0},null,null,null,null,null,null,null,null,null,null,null,null,null,{"$f":"SUM(O684:T684)","v":0}]
["Май",{"$f":"'Карточки лицевых счетов'!B530","v":0},{"$f":"'Карточки лицевых счетов'!C530","v":0},{"$f":"'Карточки лицевых счетов'!D530","v":0},{"$f":"'Карточки лицевых счетов'!E530","v":0},{"$f":"'Карточки лицевых счетов'!F530+'Карточки лицевых счетов'!G530","v":0},{"$f":"'Карточки лицевых счетов'!H530","v":0},{"$f":"'Карточки лицевых счетов'!I530","v":0},{"$f":"'Карточки лицевых счетов'!J530","v":0},{"$f":"'Карточки лицевых счетов'!K530","v":0},{"$f":"SUM(B685:J685)","v":0},{"$f":"K685-J685","v":0},{"$f":"L685*Q671","v":0},{"$f":"L685*1%","v":0},null,null,null,null,null,null,null,null,null,null,null,null,null,{"$f":"SUM(O685:T685)","v":0}]
["Июнь",{"$f":"'Карточки лицевых счетов'!B531","v":0},{"$f":"'Карточки лицевых счетов'!C531","v":0},{"$f":"'Карточки лицевых счетов'!D531","v":0},{"$f":"'Карточки лицевых счетов'!E531","v":0},{"$f":"'Карточки лицевых счетов'!F531+'Карточки лицевых счетов'!G531","v":0},{"$f":"'Карточки лицевых счетов'!H531","v":0},{"$f":"'Карточки лицевых счетов'!I531","v":0},{"$f":"'Карточки лицевых счетов'!J531","v":0},{"$f":"'Карточки лицевых счетов'!K531","v":0},{"$f":"SUM(B686:J686)","v":0},0,{"$f":"L686*Q671","v":0},{"$f":"L686*1%","v":0},null,null,null,null,null,null,null,null,null,null,null,null,null,{"$f":"SUM(O686:T686)","v":0}]
["Итого за II квартал",{"$f":"SUM(B684:B686)","v":0},0,0,0,0,0,0,0,0,0,0,0,0,0,0,0,0,0,0,"х",{"$f":"SUM(V684:V686)","v":0},{"$f":"SUM(W684:W686)","v":0},null,null,null,null,{"$f":"SUM(AB684:AB686)","v":0}]
["Итого c начала года",{"$f":" B683+ B687","v":0},{"$f":" C683+ C687","v":0},0,0,0,0,0,0,0,0,0,0,0,0,0,0,0,0,0,null,0,0]
["Июль",{"$f":"'Карточки лицевых счетов'!B532","v":0},{"$f":"'Карточки лицевых счетов'!C532","v":0},{"$f":"'Карточки лицевых счетов'!D532","v":0},{"$f":"'Карточки лицевых счетов'!E532","v":0},{"$f":"'Карточки лицевых счетов'!F532+'Карточки лицевых счетов'!G532","v":0},{"$f":"'Карточки лицевых счетов'!H532","v":0},{"$f":"'Карточки лицевых счетов'!I532","v":0},{"$f":"'Карточки лицевых счетов'!J532","v":0},{"$f":"'Карточки лицевых счетов'!K532","v":0},{"$f":"SUM(B689:J689)","v":0},{"$f":"K689-J689","v":0},{"$f":"L689*Q671","v":0},{"$f":"L689*1%","v":0},null,null,null,null,null,null,null,null,null,null,null,null,null,{"$f":"SUM(O689:T689)","v":0}]
["Август",{"$f":"'Карточки лицевых счетов'!B533","v":0},{"$f":"'Карточки лицевых счетов'!C533","v":0},{"$f":"'Карточки лицевых счетов'!D533","v":0},{"$f":"'Карточки лицевых счетов'!E533","v":0},{"$f":"'Карточки лицевых счетов'!F533+'Карточки лицевых счетов'!G533","v":0},{"$f":"'Карточки лицевых счетов'!H533","v":0},{"$f":"'Карточки лицевых счетов'!I533","v":0},{"$f":"'Карточки лицевых счетов'!J533","v":0},{"$f":"'Карточки лицевых счетов'!K533","v":0},{"$f":"SUM(B690:J690)","v":0},{"$f":"K690-J690","v":0},{"$f":"L690*Q671","v":0},{"$f":"L690*1%","v":0},null,null,null,null,null,null,null,null,null,null,null,null,null,{"$f":"SUM(O690:T690)","v":0}]
["Сентябрь",{"$f":"'Карточки лицевых счетов'!B534","v":0},{"$f":"'Карточки лицевых счетов'!C534","v":0},{"$f":"'Карточки лицевых счетов'!D534","v":0},{"$f":"'Карточки лицевых счетов'!E534","v":0},{"$f":"'Карточки лицевых счетов'!F534+'Карточки лицевых счетов'!G534","v":0},{"$f":"'Карточки лицевых счетов'!H534","v":0},{"$f":"'Карточки лицевых счетов'!I534","v":0},{"$f":"'Карточки лицевых счетов'!J534","v":0},{"$f":"'Карточки лицевых счетов'!K534","v":0},{"$f":"SUM(B691:J691)","v":0},0,{"$f":"L691*Q671","v":0},{"$f":"L691*1%","v":0},null,null,null,null,null,null,null,null,null,null,null,null,null,{"$f":"SUM(O691:T691)","v":0}]
["Итого за III квартал",{"$f":"SUM(B689:B691)","v":0},0,0,0,0,0,0,0,0,0,0,0,0,0,0,0,0,0,0,"х",{"$f":"SUM(V689:V691)","v":0},{"$f":"SUM(W689:W691)","v":0},null,null,null,null,{"$f":"SUM(AB689:AB691)","v":0}]
["Итого c начала года",{"$f":" B688+ B692","v":0},{"$f":" C688+ C692","v":0},0,0,0,0,0,0,0,0,0,0,0,0,0,0,0,0,0,null,{"$f":" V683+ V687+ V692","v":0},0]
["Октябрь",{"$f":"'Карточки лицевых счетов'!B535","v":0},{"$f":"'Карточки лицевых счетов'!C535","v":0},{"$f":"'Карточки лицевых счетов'!D535","v":0},{"$f":"'Карточки лицевых счетов'!E535","v":0},{"$f":"'Карточки лицевых счетов'!F535+'Карточки лицевых счетов'!G535","v":0},{"$f":"'Карточки лицевых счетов'!H535","v":0},{"$f":"'Карточки лицевых счетов'!I535","v":0},{"$f":"'Карточки лицевых счетов'!J535","v":0},{"$f":"'Карточки лицевых счетов'!K535","v":0},{"$f":"SUM(B694:J694)","v":0},{"$f":"K694-J694","v":0},{"$f":"L694*Q671","v":0},{"$f":"L694*1%","v":0},null,null,null,null,null,null,null,null,null,null,null,null,null,{"$f":"SUM(O694:T694)","v":0}]
["Ноябрь",{"$f":"'Карточки лицевых счетов'!B536","v":0},{"$f":"'Карточки лицевых счетов'!C536","v":0},{"$f":"'Карточки лицевых счетов'!D536","v":0},{"$f":"'Карточки лицевых счетов'!E536","v":0},{"$f":"'Карточки лицевых счетов'!F536+'Карточки лицевых счетов'!G536","v":0},{"$f":"'Карточки лицевых счетов'!H536","v":0},{"$f":"'Карточки лицевых счетов'!I536","v":0},{"$f":"'Карточки лицевых счетов'!J536","v":0},{"$f":"'Карточки лицевых счетов'!K536","v":0},{"$f":"SUM(B695:J695)","v":0},{"$f":"K695-J695","v":0},{"$f":"L695*Q671","v":0},{"$f":"L695*1%","v":0},null,null,null,null,null,null,null,null,null,null,null,null,null,{"$f":"SUM(O695:T695)","v":0}]
["Декабрь",{"$f":"'Карточки лицевых счетов'!B537","v":0},{"$f":"'Карточки лицевых счетов'!C537","v":0},{"$f":"'Карточки лицевых счетов'!D537","v":0},{"$f":"'Карточки лицевых счетов'!E537","v":0},{"$f":"'Карточки лицевых счетов'!F537+'Карточки лицевых счетов'!G537","v":0},{"$f":"'Карточки лицевых счетов'!H537","v":0},{"$f":"'Карточки лицевых счетов'!I537","v":0},{"$f":"'Карточки лицевых счетов'!J537","v":0},{"$f":"'Карточки лицевых счетов'!K537","v":0},{"$f":"SUM(B696:J696)","v":0},0,{"$f":"L696*Q671","v":0},{"$f":"L696*1%","v":0},null,null,null,null,null,null,null,null,null,null,null,null,null,{"$f":"SUM(O696:T696)","v":0}]
["Итого за IV квартал",{"$f":"SUM(B694:B696)","v":0},0,0,0,0,0,0,0,0,0,0,0,0,0,0,0,0,0,0,"х",{"$f":"SUM(V694:V696)","v":0},{"$f":"SUM(W694:W696)","v":0},null,null,null,null,{"$f":"SUM(AB694:AB696)","v":0}]
["Итого с начала года",{"$f":"B693+B697","v":0},{"$f":"C693+C697","v":0},{"$f":"D693+D697","v":0},{"$f":"E693+E697","v":0},{"$f":"F693+F697","v":0},{"$f":"G693+G697","v":0},{"$f":"H693+H697","v":0},{"$f":"I693+I697","v":0},{"$f":"J693+J697","v":0},{"$f":"K693+K697","v":0},{"$f":"L693+L697","v":0},{"$f":"M693+M697","v":0},{"$f":"N693+N697","v":0},{"$f":"O693+O697","v":0},{"$f":"P693+P697","v":0},{"$f":"Q693+Q697","v":0},{"$f":"R693+R697","v":0},{"$f":"S693+S697","v":0},{"$f":"T693+T697","v":0},"х",{"$f":"V683+V687+V692+V697","v":0},{"$f":"W683+W687+W692+W697","v":0},null,null,null,null,{"$f":"AB683+AB687+AB692+AB697","v":0}]
[]
["* Заполняется по работникам, с которыми заключены гражданско-правовые договоры."]
["** Заполняется по работникам-инвалидам."]

{"sheet":"Платежи по ФСЗН","index":13,"n_rows":25,"n_cols":15,"rows_kept":25,"cut":false,"hidden":false,"merged":[[3,7,4,7],[3,1,4,1],[3,2,4,2],[3,3,4,3],[3,4,3,5],[3,6,4,6],[3,8,4,8],[3,9,4,9],[3,10,4,10],[3,11,3,13],[3,14,4,14],[24,12,24,13],[23,12,23,13],[4,12,4,13],[13,12,13,13],[18,12,18,13],[5,12,5,13],[9,12,9,13],[14,12,14,13],[19,12,19,13]]}
[]
[null,"2. Учет исчисленных и перечисленных в бюджет фонда страховых взносов:",null,null,null,null,null,null,null,null,0.35,"- размер страховых взносов в ФСЗН"]
[null,null,null,null,null,null,null,null,null,null,null,null,null,null,"(руб.)"]
[null,"Месяц","Сумма выплат в денежном и (или) натуральном выражении, начисленных в пользу работников","Сумма выплат, на которую начисляются страховые взносы","Сумма начисленных страховых взносов ",null,"Иные платежи","Перечислено бюджетом фонда плательщику ","Сумма начислен-ных пособий","Остаток задолженности за предыдущий период","Подлежит уплате\n(гр. 4 + гр. 6 + гр. 7 – гр. 8 + гр. 9) ","Перечислено в бюджет фонда ",null,null,"Остаток задолжен-ности (сумма гр. 10 - гр. 11)"]
[null,null,null,null,"всего","в том числе 1% ",null,null,null,null,null,"сумма","дата, номер платежной инструкции"]
[null,1,2,3,4,5,6,7,8,9,10,11,12,null,13]
[null,"Январь",{"$f":"'Карточки учёта по ФСЗН'!Y15","v":0},{"$f":"'Карточки учёта по ФСЗН'!Z15","v":0},{"$f":"'Карточки учёта по ФСЗН'!AA15","v":0},{"$f":"D7*1%","v":0},null,null,{"$f":"'Расходы ФСЗН'!K8","v":0},null,{"$f":"E7+G7+H7-I7+J7","v":0},null,null,null,{"$f":"K7-L7","v":0}]
[null,"Февраль",{"$f":"'Карточки учёта по ФСЗН'!Y16","v":0},{"$f":"'Карточки учёта по ФСЗН'!Z16","v":0},{"$f":"'Карточки учёта по ФСЗН'!AA16","v":0},{"$f":"D8*1%","v":0},null,null,{"$f":"'Расходы ФСЗН'!K9","v":0},{"$f":"O7","v":0},{"$f":"E8+G8+H8-I8+J8","v":0},null,null,null,{"$f":"K8-L8","v":0}]
[null,"Март",{"$f":"'Карточки учёта по ФСЗН'!Y17","v":0},{"$f":"'Карточки учёта по ФСЗН'!Z17","v":0},{"$f":"'Карточки учёта по ФСЗН'!AA17","v":0},{"$f":"D9*1%","v":0},null,null,{"$f":"'Расходы ФСЗН'!K10","v":0},{"$f":"O8","v":0},{"$f":"E9+G9+H9-I9+J9","v":0},null,null,null,{"$f":"K9-L9","v":0}]
[null,"Итого за I квартал",{"$f":"SUM(C7:C9)","v":0},{"$f":"SUM(D7:D9)","v":0},{"$f":"SUM(E7:E9)","v":0},0,0,0,0,null,{"$f":"E10+G10+H10-I10+J10","v":0},0,"х"]
[null,"Апрель",{"$f":"'Карточки учёта по ФСЗН'!Y19","v":0},{"$f":"'Карточки учёта по ФСЗН'!Z19","v":0},{"$f":"'Карточки учёта по ФСЗН'!AA19","v":0},0,null,null,{"$f":"'Расходы ФСЗН'!K12","v":0},{"$f":"O9","v":0},0,null,null,null,0]
[null,"Май",{"$f":"'Карточки учёта по ФСЗН'!Y20","v":0},{"$f":"'Карточки учёта по ФСЗН'!Z20","v":0},{"$f":"'Карточки учёта по ФСЗН'!AA20","v":0},0,null,null,{"$f":"'Расходы ФСЗН'!K13","v":0},0,0,null,null,null,0]
[null,"Июнь",{"$f":"'Карточки учёта по ФСЗН'!Y21","v":0},{"$f":"'Карточки учёта по ФСЗН'!Z21","v":0},{"$f":"'Карточки учёта по ФСЗН'!AA21","v":0},0,null,null,{"$f":"'Расходы ФСЗН'!K14","v":0},0,0,null,null,null,0]
[null,"Итого за II квартал",{"$f":"SUM(C11:C13)","v":0},{"$f":"SUM(D11:D13)","v":0},0,0,0,0,0,null,{"$f":"E14+G14+H14-I14+J14","v":0},{"$f":"SUM(L11:L13)","v":0},"х"]
[null,"Итого с начала года ",{"$f":"C10+C14","v":0},{"$f":"D10+D14","v":0},{"$f":"E10+E14","v":0},0,0,0,0,null,0,0,"х",null,0]
[null,"Июль",{"$f":"'Карточки учёта по ФСЗН'!Y24","v":0},{"$f":"'Карточки учёта по ФСЗН'!Z24","v":0},{"$f":"'Карточки учёта по ФСЗН'!AA24","v":0},0,null,null,{"$f":"'Расходы ФСЗН'!K17","v":0},{"$f":"O13","v":0},0,null,null,null,0]
[null,"Август",{"$f":"'Карточки учёта по ФСЗН'!Y25","v":0},{"$f":"'Карточки учёта по ФСЗН'!Z25","v":0},{"$f":"'Карточки учёта по ФСЗН'!AA25","v":0},0,null,null,{"$f":"'Расходы ФСЗН'!K18","v":0},0,0,null,null,null,0]
[null,"Сентябрь",{"$f":"'Карточки учёта по ФСЗН'!Y26","v":0},{"$f":"'Карточки учёта по ФСЗН'!Z26","v":0},{"$f":"'Карточки учёта по ФСЗН'!AA26","v":0},0,null,null,{"$f":"'Расходы ФСЗН'!K19","v":0},0,0,null,null,null,0]
[null,"Итого за III квартал",{"$f":"SUM(C16:C18)","v":0},{"$f":"SUM(D16:D18)","v":0},0,0,0,0,0,null,{"$f":"E19+G19+H19-I19+J19","v":0},{"$f":"SUM(L16:L18)","v":0},"х"]
[null,"Итого с начала года ",{"$f":"C15+C19","v":0},{"$f":"D15+D19","v":0},0,0,0,0,0,null,0,0,"х",null,{"$f":"O15+O19","v":0}]
[null,"Октябрь",{"$f":"'Карточки учёта по ФСЗН'!Y29","v":0},{"$f":"'Карточки учёта по ФСЗН'!Z29","v":0},{"$f":"'Карточки учёта по ФСЗН'!AA29","v":0},0,null,null,{"$f":"'Расходы ФСЗН'!K22","v":0},{"$f":"O18","v":0},0,null,null,null,0]
[null,"Ноябрь",{"$f":"'Карточки учёта по ФСЗН'!Y30","v":0},{"$f":"'Карточки учёта по ФСЗН'!Z30","v":0},{"$f":"'Карточки учёта по ФСЗН'!AA30","v":0},0,null,null,{"$f":"'Расходы ФСЗН'!K23","v":0},0,0,null,null,null,0]
[null,"Декабрь",{"$f":"'Карточки учёта по ФСЗН'!Y31","v":0},{"$f":"'Карточки учёта по ФСЗН'!Z31","v":0},{"$f":"'Карточки учёта по ФСЗН'!AA31","v":0},0,null,null,{"$f":"'Расходы ФСЗН'!K24","v":0},0,0,null,null,null,0]
[null,"Итого за IV квартал",{"$f":"SUM(C21:C23)","v":0},{"$f":"SUM(D21:D23)","v":0},0,0,0,0,0,null,{"$f":"E24+G24+H24-I24+J24","v":0},{"$f":"SUM(L21:L23)","v":0},"х"]
[null,"Итого с начала года ",{"$f":"C20+C24","v":0},0,0,0,0,0,0,null,0,0,"х",null,{"$f":"O20+O24","v":0}]

{"sheet":"Карточка ФСЗН ППС","index":14,"n_rows":55,"n_cols":9,"rows_kept":55,"cut":false,"hidden":false,"merged":[[0,0,0,7],[1,0,1,7],[2,0,2,7],[4,0,4,1],[7,0,11,0],[7,1,8,5],[7,6,11,6],[7,7,11,7],[9,1,11,1],[9,2,11,2],[34,6,34,7],[34,8,35,8],[9,3,11,3],[9,4,11,4],[9,5,11,5],[32,0,32,7],[34,0,35,0],[34,1,35,1],[34,2,35,2],[34,3,35,3],[34,4,35,4],[34,5,35,5]]}
["3. Карточка учета начисленных взносов на профессиональное пенсионное страхование в бюджет фонда"]
[]
["(фамилия, имя, отчество работника)"]
[]
["тариф взносов (в процентах) "]
[]
[null,null,null,null,null,null,null,"(руб.)"]
["Месяц","Выплаты в денежном и (или) натуральном выражении, начисленные в пользу работника",null,null,null,null,"Сумма выплат, на которую начисляются взносы на профессиональное пенсионное страхование","Сумма начисленных взносов на профессиональное страхование"]
[]
[null,null,null,null,null,"итого\n(гр. 2 + гр. 3+гр. 4+гр. 5)"]
[]
[]
[1,2,3,4,5,6,7,8]
["январь",null,null,null,null,{"$f":"SUM(B14:E14)","v":0},null,{"$f":"G14*$C$5/100","v":0}]
["февраль",null,null,null,null,{"$f":"SUM(B15:E15)","v":0},null,{"$f":"G15*$C$5/100","v":0}]
["март",null,null,null,null,{"$f":"SUM(B16:E16)","v":0},null,0]
["Итого за I квартал",{"$f":"SUM(B14:B16)","v":0},0,0,0,0,0,0]
["апрель",null,null,null,null,{"$f":"SUM(B18:E18)","v":0},null,0]
["май",null,null,null,null,{"$f":"SUM(B19:E19)","v":0},null,0]
["июнь",null,null,null,null,{"$f":"SUM(B20:E20)","v":0},null,0]
["Итого за II квартал",{"$f":"SUM(B18:B20)","v":0},0,0,0,0,0,0]
["Итого с начала года",{"$f":"B17+B21","v":0},{"$f":"C17+C21","v":0},0,0,0,0,0]
["июль",null,null,null,null,{"$f":"SUM(B23:E23)","v":0},null,0]
["август",null,null,null,null,{"$f":"SUM(B24:E24)","v":0},null,0]
["сентябрь",null,null,null,null,{"$f":"SUM(B25:E25)","v":0},null,0]
["Итого за III квартал",{"$f":"SUM(B23:B25)","v":0},0,0,0,0,0,0]
["октябрь",null,null,null,null,{"$f":"SUM(B27:E27)","v":0},null,0]
["ноябрь",null,null,null,null,{"$f":"SUM(B28:E28)","v":0},null,0]
["декабрь",null,null,null,null,{"$f":"SUM(B29:E29)","v":0},null,0]
["Итого за IV квартал",{"$f":"SUM(B27:B29)","v":0},0,0,0,0,0,0]
["Итого с начала года ",{"$f":"B22+B26+B30","v":0},{"$f":"C22+C26+C30","v":0},0,0,0,0,0]
[]
["4. Учет исчисленных и перечисленных в бюджет фонда взносов на профессиональное пенсионное страхование:"]
[]
["Месяц","Сумма выплат, на которую начисляются взносы на профессиональное пенсионное страхование","Сумма начисленных взносов на профес-сиональное пенсионное страхование","Остаток задолжен-ности за предыду-щий период","Иные платежи","Подлежит уплате\n(гр. 3 + гр. 4 + гр. 5)","Перечислено в бюджет фонда",null,"Остаток задолженности\n(сумма гр. 6 – гр. 7)"]
[null,null,null,null,null,null,"сумма","дата, номер платежной инструкции"]
[1,2,3,4,5,6,7,8,9]
["январь",null,{"$f":"B38*$C$5/100","v":0},null,null,{"$f":"C38+D38+E38","v":0},{"$f":"F38","v":0},null,{"$f":"F38-G38","v":0}]
["февраль",null,{"$f":"B39*$C$5/100","v":0},null,null,{"$f":"C39+D39+E39","v":0},{"$f":"F39","v":0},null,{"$f":"F39-G39","v":0}]
["март",null,{"$f":"B40*$C$5/100","v":0},null,null,{"$f":"C40+D40+E40","v":0},{"$f":"F40","v":0},null,{"$f":"F40-G40","v":0}]
["Итого за I квартал",{"$f":"SUM(B38:B40)","v":0},{"$f":"SUM(C38:C40)","v":0},0,0,0,0,null,0]
["апрель",null,{"$f":"B42*$C$5/100","v":0},null,null,{"$f":"C42+D42+E42","v":0},{"$f":"F42","v":0},null,{"$f":"F42-G42","v":0}]
["май",null,{"$f":"B43*$C$5/100","v":0},null,null,{"$f":"C43+D43+E43","v":0},{"$f":"F43","v":0},null,{"$f":"F43-G43","v":0}]
["июнь",null,0,null,null,{"$f":"C44+D44+E44","v":0},{"$f":"F44","v":0},null,{"$f":"F44-G44","v":0}]
["Итого за II квартал",{"$f":"SUM(B42:B44)","v":0},{"$f":"SUM(C42:C44)","v":0},0,0,0,0,null,0]
["Итого с начала года",{"$f":"B41+B45","v":0},{"$f":"C41+C45","v":0},0,0,0,0,null,0]
["июль",null,{"$f":"B47*$C$5/100","v":0},null,null,{"$f":"C47+D47+E47","v":0},{"$f":"F47","v":0},null,{"$f":"F47-G47","v":0}]
["август",null,{"$f":"B48*$C$5/100","v":0},null,null,{"$f":"C48+D48+E48","v":0},{"$f":"F48","v":0},null,{"$f":"F48-G48","v":0}]
["сентябрь",null,0,null,null,{"$f":"C49+D49+E49","v":0},{"$f":"F49","v":0},null,{"$f":"F49-G49","v":0}]
["Итого за III квартал",{"$f":"SUM(B47:B49)","v":0},{"$f":"SUM(C47:C49)","v":0},0,0,0,0,null,0]
["октябрь",null,{"$f":"B51*$C$5/100","v":0},null,null,{"$f":"C51+D51+E51","v":0},{"$f":"F51","v":0},null,{"$f":"F51-G51","v":0}]
["ноябрь",null,{"$f":"B52*$C$5/100","v":0},null,null,{"$f":"C52+D52+E52","v":0},{"$f":"F52","v":0},null,{"$f":"F52-G52","v":0}]
["декабрь",null,0,null,null,{"$f":"C53+D53+E53","v":0},{"$f":"F53","v":0},null,{"$f":"F53-G53","v":0}]
["Итого за IV квартал",{"$f":"SUM(B51:B53)","v":0},{"$f":"SUM(C51:C53)","v":0},0,0,0,0,null,0]
["Итого с начала года",{"$f":"B46+B50+B54","v":0},{"$f":"C46+C50+C54","v":0},0,0,0,0,null,{"$f":"I46+I50+I54","v":0}]

{"sheet":"Расходы ФСЗН","index":15,"n_rows":26,"n_cols":11,"rows_kept":26,"cut":false,"hidden":false,"merged":[[1,1,1,10],[2,1,2,10],[4,1,5,1]]}
[]
[null,"Раздел V"]
[null,"УЧЕТ РАСХОДОВ ЗА СЧЕТ СРЕДСТВ БЮДЖЕТА ФОНДА"]
[null,null,null,null,null,null,null,null,null,null,"(руб.)"]
[null,"Месяц ","Пособие по временной нетрудоспособности","Пособие по беременности и родам (в случаях, установленных законодательством)","Пособие в связи с рождением ребенка","Пособие женщинам, ставшим на учет в организациях здравоохранения до 12-недельного срока беременности","Пособие (материальная помощь) на погребение","Пособие по уходу за ребенком в возрасте до 3 лет","Пособия на детей старше 3 лет из отдельных категорий семей и семьям на детей в возрасте от 3 до 18 лет в период воспитания ребенка в возрасте до 3 лет","Оплата свободного от работы дня матери (мачехе) или отцу (отчиму), опекуну (попечителю), воспитывающей (ему) ребенка-инвалида в возрасте до 18 лет","Всего"]
[null,null,"сумма","сумма","сумма","сумма","сумма","сумма","сумма","сумма","сумма"]
[null,1,2,3,4,5,6,7,8,9,10]
[null,"Январь",null,null,null,null,null,null,null,null,{"$f":"SUM(C8:J8)","v":0}]
[null,"Февраль",null,null,null,null,null,null,null,null,0]
[null,"Март",null,null,null,null,null,null,null,null,0]
[null,"Итого за I квартал / Итого с начала года",{"$f":"SUM(C8:C10)","v":0},0,0,0,0,0,0,0,0]
[null,"Апрель",null,null,null,null,null,null,null,null,0]
[null,"Май",null,null,null,null,null,null,null,null,0]
[null,"Июнь",null,null,null,null,null,null,null,null,0]
[null,"Итого за II квартал",{"$f":"SUM(C12:C14)","v":0},0,0,0,0,0,0,0,0]
[null,"Итого с начала года ",{"$f":"C11+C15","v":0},0,0,0,0,0,0,0,0]
[null,"Июль",null,null,null,null,null,null,null,null,{"$f":"SUM(C17:J17)","v":0}]
[null,"Август",null,null,null,null,null,null,null,null,{"$f":"SUM(C18:J18)","v":0}]
[null,"Сентябрь",null,null,null,null,null,null,null,null,{"$f":"SUM(C19:J19)","v":0}]
[null,"Итого за III квартал",{"$f":"SUM(C17:C19)","v":0},0,0,0,0,0,0,0,{"$f":"SUM(C20:J20)","v":0}]
[null,"Итого с начала года ",{"$f":"C16+C20","v":0},{"$f":"D16+D20","v":0},0,0,0,0,0,0,0]
[null,"Октябрь",null,null,null,null,null,null,null,null,{"$f":"SUM(C22:J22)","v":0}]
[null,"Ноябрь",null,null,null,null,null,null,null,null,{"$f":"SUM(C23:J23)","v":0}]
[null,"Декабрь",null,null,null,null,null,null,null,null,{"$f":"SUM(C24:J24)","v":0}]
[null,"Итого за IV квартал",{"$f":"SUM(C22:C24)","v":0},0,0,0,0,0,0,0,{"$f":"SUM(C25:J25)","v":0}]
[null,"Итого с начала года ",{"$f":"C21+C25","v":0},{"$f":"D21+D25","v":0},0,0,0,0,0,0,0]

{"sheet":"Раздел VI часть 1","index":16,"n_rows":34,"n_cols":12,"rows_kept":34,"cut":false,"hidden":false,"merged":[[7,0,7,7],[7,9,7,10],[33,2,33,3],[33,4,33,6],[33,7,33,9],[33,10,33,11],[31,2,31,3],[31,4,31,6],[31,7,31,9],[31,10,31,11],[32,2,32,3],[32,4,32,6],[32,7,32,9],[32,10,32,11],[30,2,30,3],[30,4,30,6],[30,7,30,9],[30,10,30,11],[14,9,15,10],[14,11,15,11],[28,2,28,3],[28,4,28,6],[28,7,28,9],[28,10,28,11],[29,2,29,3],[29,4,29,6],[29,7,29,9],[29,10,29,11],[26,2,26,3],[26,4,26,6],[26,7,26,9],[26,10,26,11],[27,2,27,3],[27,4,27,6],[27,7,27,9],[27,10,27,11],[24,2,24,3],[24,4,24,6],[24,7,24,9],[24,10,24,11],[25,2,25,3],[25,4,25,6],[25,7,25,9],[25,10,25,11],[22,2,22,3],[22,4,22,6],[22,7,22,9],[22,10,22,11],[23,2,23,3],[23,4,23,6],[23,7,23,9],[23,10,23,11],[19,10,20,11],[19,4,20,6],[19,7,20,9],[21,4,21,6],[19,0,20,0],[19,1,19,3],[20,2,20,3],[21,2,21,3],[21,7,21,9],[21,10,21,11],[16,0,16,7],[10,9,11,10],[10,11,11,11],[12,9,13,10],[12,11,13,11],[11,0,11,7],[12,0,12,7],[13,0,13,7],[14,0,14,7],[15,0,15,7],[3,0,3,11],[0,0,0,11],[1,0,1,11],[2,0,2,11],[4,0,4,11],[8,0,8,5],[9,0,9,7],[10,0,10,7],[8,9,9,10],[8,11,9,11]]}
[]
["РАЗДЕЛ VI\nУЧЕТ КАПИТАЛЬНЫХ СТРОЕНИЙ (ЗДАНИЙ, СООРУЖЕНИЙ), ИХ ЧАСТЕЙ, В ТОМ ЧИСЛЕ\nСВЕРХНОРМАТИВНОГО НЕЗАВЕРШЕННОГО СТРОИТЕЛЬСТВА, А ТАКЖЕ МАШИНО-МЕСТ"]
["УЧЕТ КАПИТАЛЬНЫХ СТРОЕНИЙ (ЗДАНИЙ, СООРУЖЕНИЙ), ИХ ЧАСТЕЙ, МАШИНО-МЕСТ, НАХОДЯЩИХСЯ В СОБСТВЕННОСТИ, ХОЗЯЙСТВЕННОМ ВЕДЕНИИ, ОПЕРАТИВНОМ УПРАВЛЕНИИ ИЛИ ПОЛЬЗОВАНИИ, ЗДАНИЙ, СООРУЖЕНИЙ И ПЕРЕДАТОЧНЫХ УСТРОЙСТВ СВЕРХНОРМАТИВНОГО НЕЗАВЕРШЕННОГО СТРОИТЕЛЬСТВА, КАПИТАЛЬНЫХ СТРОЕНИЙ (ЗДАНИЙ, СООРУЖЕНИЙ), ИХ ЧАСТЕЙ, МАШИНО-МЕСТ, ПОДЛЕЖАЩИХ ГОСУДАРСТВЕННОЙ РЕГИСТРАЦИИ, В ПЕРИОД ДО ТАКОЙ РЕГИСТРАЦИИ"]
[]
["ЧАСТЬ I\nУЧЕТ КАПИТАЛЬНЫХ СТРОЕНИЙ (ЗДАНИЙ, СООРУЖЕНИЙ), ИХ ЧАСТЕЙ, МАШИНО-МЕСТ, НАХОДЯЩИХСЯ В СОБСТВЕННОСТИ, ХОЗЯЙСТВЕННОМ ВЕДЕНИИ, ОПЕРАТИВНОМ УПРАВЛЕНИИ ИЛИ ПОЛЬЗОВАНИИ, КАПИТАЛЬНЫХ СТРОЕНИЙ (ЗДАНИЙ, СООРУЖЕНИЙ), ИХ ЧАСТЕЙ, МАШИНО-МЕСТ, ПОДЛЕЖАЩИХ ГОСУДАРСТВЕННОЙ РЕГИСТРАЦИИ, В ПЕРИОД ДО ТАКОЙ РЕГИСТРАЦИИ"]
[]
[]
[null,null,null,null,null,null,null,null,null,"Находится на праве:",null,"Пометить Х"]
["(наименование имущества, адрес его расположения)",null,null,null,null,null,null,null,null,"собственности"]
[]
["(дата приобретения (создания, получения в пользование) имущества, наименование документа, его номер и дата)",null,null,null,null,null,null,null,null,"хозяйственного ведения"]
[]
["(дата государственной регистрации, наименование правоустанавливающего документа, его номер и дата)",null,null,null,null,null,null,null,null,"оперативного управления"]
[]
["(дата ввода имущества в эксплуатацию)",null,null,null,null,null,null,null,null,"пользования"]
[]
["(дата выбытия имущества, наименование документа, его номер и дата)"]
[]
[]
["Период","Площадь, кв. м",null,null,"Первоначальная (переоцененная) стоимость; стоимость приобретения (создания; возведения); стоимость, указанная в договоре аренды, безвозмездного пользования, руб.",null,null,"Суммы накопленной\nамортизации, руб.",null,null,"Остаточная\nстоимость\n(гр. 4 – гр. 5), руб."]
[null,"всего","в том числе сданная в аренду\n(финансовую аренду (лизинг)), иное возмездное или безвозмездное пользование"]
[1,2,3,null,4,null,null,5,null,null,6]
["1 января календарного года",null,null,null,null,null,null,null,null,null,{"$f":"E23-H23","v":0}]
["1 февраля",null,null,null,null,null,null,null,null,null,{"$f":"E24-H24","v":0}]
["1 марта",null,null,null,null,null,null,null,null,null,0]
["1 апреля",null,null,null,null,null,null,null,null,null,0]
["1 мая",null,null,null,null,null,null,null,null,null,0]
["1 июня",null,null,null,null,null,null,null,null,null,0]
["1 июля",null,null,null,null,null,null,null,null,null,0]
["1 августа",null,null,null,null,null,null,null,null,null,0]
["1 сентября",null,null,null,null,null,null,null,null,null,0]
["1 октября",null,null,null,null,null,null,null,null,null,0]
["1 ноября",null,null,null,null,null,null,null,null,null,0]
["1 декабря",null,null,null,null,null,null,null,null,null,0]

{"sheet":"Раздел VI часть 2","index":17,"n_rows":26,"n_cols":6,"rows_kept":26,"cut":false,"hidden":false,"merged":[[1,0,1,5],[2,0,2,5]]}
[]
["ЧАСТЬ II"]
["УЧЕТ ЗДАНИЙ, СООРУЖЕНИЙ И ПЕРЕДАТОЧНЫХ УСТРОЙСТВ СВЕРХНОРМАТИВНОГО НЕЗАВЕРШЕННОГО СТРОИТЕЛЬСТВА"]
[]
["№\nп/п","Наименование, адрес расположения объекта\nсверхнормативного незавершенного  cтроительства","Нормативный срок строительства, установленный\nпроектной документацией","Дата, на которую истек нормативный срок строительства, установленный\nпроектной документацией","Сумма затрат по строительству объекта сверхнормативного незавершенного строительства, руб.","Дата утверждения акта\nприемки объекта\nв эксплуатацию"]
[1,2,3,4,5,6]
[1]
[{"$f":"IF(B8<>\"\",A7+1,\"\")","v":""}]
[{"$f":"IF(B9<>\"\",A8+1,\"\")","v":""}]
[""]
[""]
[""]
[""]
[""]
[""]
[""]
[""]
[""]
[""]
[""]
[""]
[""]
[""]
[""]
[""]
[""]

{"sheet":"Раздел VII","index":18,"n_rows":143,"n_cols":9,"rows_kept":143,"cut":false,"hidden":false,"merged":[[142,0,142,5],[65,0,65,5],[76,0,76,5],[87,0,87,5],[98,0,98,5],[109,0,109,5],[120,0,120,5],[131,0,131,5],[54,0,54,5],[6,1,9,1],[6,2,7,3],[6,4,7,5],[8,2,9,2],[8,3,9,3],[8,4,9,4],[8,5,9,5],[21,0,21,5],[32,0,32,5],[43,0,43,5],[2,0,2,8],[6,6,9,6],[3,0,3,8],[4,0,4,8],[6,7,6,8],[7,7,9,7],[7,8,9,8]]}
[]
[]
["Раздел VII"]
["УЧЕТ ТОВАРОВ, ВВОЗИМЫХ НА ТЕРРИТОРИЮ РЕСПУБЛИКИ БЕЛАРУСЬ"]
[" ИЗ ГОСУДАРСТВ – ЧЛЕНОВ ЕВРАЗИЙСКОГО ЭКОНОМИЧЕСКОГО СОЮЗА"]
[]
["№","Дата записи","Транспортный (товаросопроводительный) документ",null,"Счет-фактура",null,"Стоимость","Реквизиты электронного счёта-фактуры"]
["п/п",null,null,null,null,null,null," дата выставления электронного счёта-фактуры"," номер электронного счёта-фактуры"]
[null,null,"серия, номер","дата","номер","дата"]
[]
[1,2,3,4,5,6,7,8,9]
[1]
[{"$f":"IF(B13<>\"\",A12+1,\"\")","v":""}]
[{"$f":"IF(B14<>\"\",A13+1,\"\")","v":""}]
[{"$f":"IF(B15<>\"\",A14+1,\"\")","v":""}]
[""]
[{"$f":"IF(B17<>\"\",A16+1,\"\")","v":""}]
[""]
[""]
[""]
[""]
["Итого за месяц",null,null,null,null,null,{"$f":"SUM(G12:G21)","v":0}]
[{"$f":"IF(B23<>\"\",A21+1,\"\")","v":""}]
[{"$f":"IF(B24<>\"\",A23+1,\"\")","v":""}]
[{"$f":"IF(B25<>\"\",A24+1,\"\")","v":""}]
[""]
[""]
[""]
[""]
[""]
[""]
[""]
["Итого за месяц",null,null,null,null,null,{"$f":"SUM(G23:G32)","v":0}]
[{"$f":"IF(B34<>\"\",A32+1,\"\")","v":""}]
[{"$f":"IF(B35<>\"\",A34+1,\"\")","v":""}]
[{"$f":"IF(B36<>\"\",A35+1,\"\")","v":""}]
[""]
[""]
[""]
[""]
[""]
[""]
[""]
["Итого за месяц",null,null,null,null,null,{"$f":"SUM(G34:G43)","v":0}]
[{"$f":"IF(B45<>\"\",A43+1,\"\")","v":""}]
[{"$f":"IF(B46<>\"\",A45+1,\"\")","v":""}]
[{"$f":"IF(B47<>\"\",A46+1,\"\")","v":""}]
[""]
[""]
[""]
[""]
[""]
[""]
[""]
["Итого за месяц",null,null,null,null,null,{"$f":"SUM(G45:G54)","v":0}]
[{"$f":"IF(B56<>\"\",A54+1,\"\")","v":""}]
[{"$f":"IF(B57<>\"\",A56+1,\"\")","v":""}]
[{"$f":"IF(B58<>\"\",A57+1,\"\")","v":""}]
[""]
[""]
[""]
[""]
[""]
[""]
[""]
["Итого за месяц",null,null,null,null,null,{"$f":"SUM(G56:G65)","v":0}]
[{"$f":"IF(B67<>\"\",A65+1,\"\")","v":""}]
[{"$f":"IF(B68<>\"\",A67+1,\"\")","v":""}]
[{"$f":"IF(B69<>\"\",A68+1,\"\")","v":""}]
[""]
[""]
[""]
[""]
[""]
[""]
[""]
["Итого за месяц",null,null,null,null,null,{"$f":"SUM(G67:G76)","v":0}]
[{"$f":"IF(B78<>\"\",A76+1,\"\")","v":""}]
[{"$f":"IF(B79<>\"\",A78+1,\"\")","v":""}]
[{"$f":"IF(B80<>\"\",A79+1,\"\")","v":""}]
[""]
[""]
[""]
[""]
[""]
[""]
[""]
["Итого за месяц",null,null,null,null,null,{"$f":"SUM(G78:G87)","v":0}]
[{"$f":"IF(B89<>\"\",A87+1,\"\")","v":""}]
[{"$f":"IF(B90<>\"\",A89+1,\"\")","v":""}]
[{"$f":"IF(B91<>\"\",A90+1,\"\")","v":""}]
[""]
[""]
[""]
[""]
[""]
[""]
[""]
["Итого за месяц",null,null,null,null,null,{"$f":"SUM(G89:G98)","v":0}]
[{"$f":"IF(B100<>\"\",A98+1,\"\")","v":""}]
[{"$f":"IF(B101<>\"\",A100+1,\"\")","v":""}]
[{"$f":"IF(B102<>\"\",A101+1,\"\")","v":""}]
[""]
[""]
[""]
[""]
[""]
[""]
[""]
["Итого за месяц",null,null,null,null,null,{"$f":"SUM(G100:G109)","v":0}]
[{"$f":"IF(B111<>\"\",A109+1,\"\")","v":""}]
[{"$f":"IF(B112<>\"\",A111+1,\"\")","v":""}]
[{"$f":"IF(B113<>\"\",A112+1,\"\")","v":""}]
[""]
[""]
[""]
[""]
[""]
[""]
[""]
["Итого за месяц",null,null,null,null,null,{"$f":"SUM(G111:G120)","v":0}]
[{"$f":"IF(B122<>\"\",A120+1,\"\")","v":""}]
[{"$f":"IF(B123<>\"\",A122+1,\"\")","v":""}]
[{"$f":"IF(B124<>\"\",A123+1,\"\")","v":""}]
[""]
[""]
[""]
[""]
[""]
[""]
[""]
["Итого за месяц",null,null,null,null,null,{"$f":"SUM(G122:G131)","v":0}]
[{"$f":"IF(B133<>\"\",A131+1,\"\")","v":""}]
[{"$f":"IF(B134<>\"\",A133+1,\"\")","v":""}]
[{"$f":"IF(B135<>\"\",A134+1,\"\")","v":""}]
[""]
[""]
[""]
[""]
[""]
[""]
[""]
["Итого за месяц",null,null,null,null,null,{"$f":"SUM(G133:G142)","v":0}]

{"sheet":"Раздел VIII часть 1","index":19,"n_rows":473,"n_cols":16,"rows_kept":473,"cut":false,"hidden":false,"merged":[[472,0,472,7],[0,0,0,15],[1,0,1,15],[2,0,2,15],[3,0,3,15],[4,0,4,15],[8,9,8,14],[8,15,10,15],[9,9,9,10],[9,11,9,12],[9,13,9,14],[11,0,11,1],[11,2,11,3],[6,1,6,2],[8,0,10,1],[8,2,10,3],[8,6,10,6],[8,7,10,7],[8,8,10,8],[47,8,49,8],[43,0,43,7],[47,9,47,14],[47,15,49,15],[48,9,48,10],[48,11,48,12],[48,13,48,14],[42,0,42,7],[45,1,45,2],[47,0,49,1],[47,2,49,3],[47,6,49,6],[47,7,49,7],[86,8,88,8],[86,9,86,14],[86,15,88,15],[87,9,87,10],[87,11,87,12],[87,13,87,14],[50,0,50,1],[50,2,50,3],[81,0,81,7],[84,1,84,2],[86,0,88,1],[86,2,88,3],[86,6,88,6],[86,7,88,7],[82,0,82,7],[86,4,86,5],[87,4,88,4],[87,5,88,5],[125,8,127,8],[125,9,125,14],[125,15,127,15],[126,9,126,10],[126,11,126,12],[126,13,126,14],[89,0,89,1],[89,2,89,3],[120,0,120,7],[123,1,123,2],[125,0,127,1],[125,2,127,3],[125,6,127,6],[125,7,127,7],[121,0,121,7],[125,4,125,5],[126,4,127,4],[126,5,127,5],[164,8,166,8],[164,9,164,14],[164,15,166,15],[165,9,165,10],[165,11,165,12],[165,13,165,14],[128,0,128,1],[128,2,128,3],[159,0,159,7],[162,1,162,2],[164,0,166,1],[164,2,166,3],[164,6,166,6],[164,7,166,7],[160,0,160,7],[164,4,164,5],[165,4,166,4],[165,5,166,5],[203,8,205,8],[203,9,203,14],[203,15,205,15],[204,9,204,10],[204,11,204,12],[204,13,204,14],[167,0,167,1],[167,2,167,3],[198,0,198,7],[201,1,201,2],[203,0,205,1],[203,2,205,3],[203,6,205,6],[203,7,205,7],[199,0,199,7],[203,4,203,5],[204,4,205,4],[204,5,205,5],[242,8,244,8],[242,9,242,14],[242,15,244,15],[243,9,243,10],[243,11,243,12],[243,13,243,14],[206,0,206,1],[206,2,206,3],[237,0,237,7],[240,1,240,2],[242,0,244,1],[242,2,244,3],[242,6,244,6],[242,7,244,7],[238,0,238,7],[242,4,242,5],[243,4,244,4],[243,5,244,5],[281,8,283,8],[281,9,281,14],[281,15,283,15],[282,9,282,10],[282,11,282,12],[282,13,282,14],[245,0,245,1],[245,2,245,3],[276,0,276,7],[279,1,279,2],[281,0,283,1],[281,2,283,3],[281,6,283,6],[281,7,283,7],[277,0,277,7],[281,4,281,5],[282,4,283,4],[282,5,283,5],[320,8,322,8],[320,9,320,14],[320,15,322,15],[321,9,321,10],[321,11,321,12],[321,13,321,14],[284,0,284,1],[284,2,284,3],[315,0,315,7],[318,1,318,2],[320,0,322,1],[320,2,322,3],[320,6,322,6],[320,7,322,7],[316,0,316,7],[320,4,320,5],[321,4,322,4],[321,5,322,5],[359,8,361,8],[359,9,359,14],[359,15,361,15],[360,9,360,10],[360,11,360,12],[360,13,360,14],[323,0,323,1],[323,2,323,3],[354,0,354,7],[357,1,357,2],[359,0,361,1],[359,2,361,3],[359,6,361,6],[359,7,361,7],[355,0,355,7],[359,4,359,5],[360,4,361,4],[360,5,361,5],[398,8,400,8],[433,0,433,7],[398,4,398,5],[399,4,400,4],[399,5,400,5],[398,9,398,14],[398,15,400,15],[399,9,399,10],[399,11,399,12],[399,13,399,14],[398,0,400,1],[398,2,400,3],[398,6,400,6],[398,7,400,7],[437,8,439,8],[437,9,437,14],[437,15,439,15],[438,9,438,10],[438,11,438,12],[438,13,438,14],[437,4,437,5],[438,4,439,4],[438,5,439,5],[437,6,439,6],[437,7,439,7],[8,4,8,5],[9,4,10,4],[9,5,10,5],[47,4,47,5],[48,4,49,4],[48,5,49,5],[440,0,440,1],[440,2,440,3],[471,0,471,7],[401,0,401,1],[401,2,401,3],[432,0,432,7],[435,1,435,2],[437,0,439,1],[437,2,439,3],[362,0,362,1],[362,2,362,3],[393,0,393,7],[396,1,396,2],[394,0,394,7]]}
["Раздел VIII"]
["УЧЕТ СУММ НАЛОГА НА ДОБАВЛЕННУЮ СТОИМОСТЬ"]
[]
["Часть I"]
["СУММЫ НАЛОГА НА ДОБАВЛЕННУЮ СТОИМОСТЬ, УПЛАЧЕННЫЕ ПРИ ПРИОБРЕТЕНИИ (ВВОЗЕ) ТОВАРОВ (РАБОТ, УСЛУГ), ИМУЩЕСТВЕННЫХ ПРАВ"]
[]
["Период с",{"$f":"\"01.01.\" & Титул!D8","v":"01.01.2019"},null,"по",{"$f":"\"31.01.\"& Титул!D8","v":"31.01.2019"}]
[]
["Дата приобретения (ввоза) и номер документа",null,"Дата оплаты \nи номер документа",null,"Реквизиты электронного счёта-фактуры",null,"Наименование продавца (поставщика)","Учетный номер плательщика продавца (поставщика)","Стоимость товаров (работ, услуг), имущест-\nвенных прав, включая НДС","Объекты, облагаемые НДС* по ставке",null,null,null,null,null,"Стоимость товаров (работ, услуг), имущест-\nвенных прав \nбез НДС"]
[null,null,null,null," дата выставления электронного счёта-фактуры"," номер электронного счёта-фактуры",null,null,null,0.2,null,0.1,null,"иные"]
[null,null,null,null,null,null,null,null,null,"стоимость \nбез НДС","сумма \nНДС","стоимость \nбез НДС","сумма \nНДС","стоимость \nбез НДС","сумма \nНДС"]
[1,null,2,null,"2а","2б",3,4,5,6,"6а",7,"7а",8,"8а",9]
[null,null,null,null,null,null,null,null,null,null,{"$f":"ROUND(J13*20/100,2)","v":0},null,{"$f":"ROUND(L13*10/100,2)","v":0}]
[null,null,null,null,null,null,null,null,null,null,{"$f":"ROUND(J14*20/100,2)","v":0},null,{"$f":"ROUND(L14*10/100,2)","v":0}]
[null,null,null,null,null,null,null,null,null,null,0,null,0]
[null,null,null,null,null,null,null,null,null,null,0,null,0]
[null,null,null,null,null,null,null,null,null,null,0,null,0]
[null,null,null,null,null,null,null,null,null,null,0,null,0]
[null,null,null,null,null,null,null,null,null,null,0,null,0]
[null,null,null,null,null,null,null,null,null,null,0,null,0]
[null,null,null,null,null,null,null,null,null,null,0,null,0]
[null,null,null,null,null,null,null,null,null,null,0,null,0]
[null,null,null,null,null,null,null,null,null,null,0,null,0]
[null,null,null,null,null,null,null,null,null,null,0,null,0]
[null,null,null,null,null,null,null,null,null,null,0,null,0]
[null,null,null,null,null,null,null,null,null,null,0,null,0]
[null,null,null,null,null,null,null,null,null,null,0,null,0]
[null,null,null,null,null,null,null,null,null,null,0,null,0]
[null,null,null,null,null,null,null,null,null,null,0,null,0]
[null,null,null,null,null,null,null,null,null,null,0,null,0]
[null,null,null,null,null,null,null,null,null,null,0,null,0]
[null,null,null,null,null,null,null,null,null,null,0,null,0]
[null,null,null,null,null,null,null,null,null,null,0,null,0]
[null,null,null,null,null,null,null,null,null,null,0,null,0]
[null,null,null,null,null,null,null,null,null,null,0,null,0]
[null,null,null,null,null,null,null,null,null,null,0,null,0]
[null,null,null,null,null,null,null,null,null,null,0,null,0]
[null,null,null,null,null,null,null,null,null,null,0,null,0]
[null,null,null,null,null,null,null,null,null,null,0,null,0]
[null,null,null,null,null,null,null,null,null,null,0,null,0]
[null,null,null,null,null,null,null,null,null,null,0,null,0]
[null,null,null,null,null,null,null,null,null,null,0,null,0]
["ВСЕГО:",null,null,null,null,null,null,null,{"$f":"SUM(I13:I42)","v":0},"х",{"$f":"SUM(K13:K42)","v":0},"х",{"$f":"SUM(M13:M42)","v":0},"х",{"$f":"SUM(O13:O42)","v":0},"х"]
["ВСЕГО с начала года:",null,null,null,null,null,null,null,{"$f":"I43","v":0},"х",{"$f":"K43","v":0},"х",{"$f":"M43","v":0},"х",{"$f":"O43","v":0},"х"]
[]
["Период с",{"$f":"\"01.02.\"& Титул!D8","v":"01.02.2019"},null,"по",{"$f":"\"28.02.\"& Титул!D8","v":"28.02.2019"}]
[]
["Дата приобретения (ввоза) и номер документа",null,"Дата оплаты \nи номер документа",null,"Реквизиты электронного счёта-фактуры",null,"Наименование продавца (поставщика)","Учетный номер плательщика продавца (поставщика)","Стоимость товаров (работ, услуг), имущест-\nвенных прав, включая НДС","Объекты, облагаемые НДС* по ставке",null,null,null,null,null,"Стоимость товаров (работ, услуг), имущест-\nвенных прав \nбез НДС"]
[null,null,null,null," дата выставления электронного счёта-фактуры"," номер электронного счёта-фактуры",null,null,null,0.2,null,0.1,null,"иные"]
[null,null,null,null,null,null,null,null,null,"стоимость \nбез НДС","сумма \nНДС","стоимость \nбез НДС","сумма \nНДС","стоимость \nбез НДС","сумма \nНДС"]
[1,null,2,null,"2а","2б",3,4,5,6,"6а",7,"7а",8,"8а",9]
[null,null,null,null,null,null,null,null,null,null,{"$f":"ROUND(J52*20/100,2)","v":0},null,{"$f":"ROUND(L52*10/100,2)","v":0}]
[null,null,null,null,null,null,null,null,null,null,{"$f":"ROUND(J53*20/100,2)","v":0},null,{"$f":"ROUND(L53*10/100,2)","v":0}]
[null,null,null,null,null,null,null,null,null,null,0,null,0]
[null,null,null,null,null,null,null,null,null,null,0,null,0]
[null,null,null,null,null,null,null,null,null,null,0,null,0]
[null,null,null,null,null,null,null,null,null,null,0,null,0]
[null,null,null,null,null,null,null,null,null,null,0,null,0]
[null,null,null,null,null,null,null,null,null,null,0,null,0]
[null,null,null,null,null,null,null,null,null,null,0,null,0]
[null,null,null,null,null,null,null,null,null,null,0,null,0]
[null,null,null,null,null,null,null,null,null,null,0,null,0]
[null,null,null,null,null,null,null,null,null,null,0,null,0]
[null,null,null,null,null,null,null,null,null,null,0,null,0]
[null,null,null,null,null,null,null,null,null,null,0,null,0]
[null,null,null,null,null,null,null,null,null,null,0,null,0]
[null,null,null,null,null,null,null,null,null,null,0,null,0]
[null,null,null,null,null,null,null,null,null,null,0,null,0]
[null,null,null,null,null,null,null,null,null,null,0,null,0]
[null,null,null,null,null,null,null,null,null,null,0,null,0]
[null,null,null,null,null,null,null,null,null,null,0,null,0]
[null,null,null,null,null,null,null,null,null,null,0,null,0]
[null,null,null,null,null,null,null,null,null,null,0,null,0]
[null,null,null,null,null,null,null,null,null,null,0,null,0]
[null,null,null,null,null,null,null,null,null,null,0,null,0]
[null,null,null,null,null,null,null,null,null,null,0,null,0]
[null,null,null,null,null,null,null,null,null,null,0,null,0]
[null,null,null,null,null,null,null,null,null,null,0,null,0]
[null,null,null,null,null,null,null,null,null,null,0,null,0]
[null,null,null,null,null,null,null,null,null,null,0,null,0]
[null,null,null,null,null,null,null,null,null,null,0,null,0]
["ВСЕГО:",null,null,null,null,null,null,null,{"$f":"SUM(I52:I81)","v":0},"х",{"$f":"SUM(K52:K81)","v":0},"х",{"$f":"SUM(M52:M81)","v":0},"х",{"$f":"SUM(O52:O81)","v":0},"х"]
["ВСЕГО с начала года:",null,null,null,null,null,null,null,{"$f":"I44+I82","v":0},"х",{"$f":"K44+K82","v":0},"х",{"$f":"M44+M82","v":0},"х",{"$f":"O44+O82","v":0},"х"]
[]
["Период с",{"$f":"\"01.03.\"& Титул!D8","v":"01.03.2019"},null,"по",{"$f":"\"31.03.\"& Титул!D8","v":"31.03.2019"}]
[]
["Дата приобретения (ввоза) и номер документа",null,"Дата оплаты \nи номер документа",null,"Реквизиты электронного счёта-фактуры",null,"Наименование продавца (поставщика)","Учетный номер плательщика продавца (поставщика)","Стоимость товаров (работ, услуг), имущест-\nвенных прав, включая НДС","Объекты, облагаемые НДС* по ставке",null,null,null,null,null,"Стоимость товаров (работ, услуг), имущест-\nвенных прав \nбез НДС"]
[null,null,null,null," дата выставления электронного счёта-фактуры"," номер электронного счёта-фактуры",null,null,null,0.2,null,0.1,null,"иные"]
[null,null,null,null,null,null,null,null,null,"стоимость \nбез НДС","сумма \nНДС","стоимость \nбез НДС","сумма \nНДС","стоимость \nбез НДС","сумма \nНДС"]
[1,null,2,null,"2а","2б",3,4,5,6,"6а",7,"7а",8,"8а",9]
[null,null,null,null,null,null,null,null,null,null,{"$f":"ROUND(J91*20/100,2)","v":0},null,{"$f":"ROUND(L91*10/100,2)","v":0}]
[null,null,null,null,null,null,null,null,null,null,{"$f":"ROUND(J92*20/100,2)","v":0},null,{"$f":"ROUND(L92*10/100,2)","v":0}]
[null,null,null,null,null,null,null,null,null,null,0,null,0]
[null,null,null,null,null,null,null,null,null,null,0,null,0]
[null,null,null,null,null,null,null,null,null,null,0,null,0]
[null,null,null,null,null,null,null,null,null,null,0,null,0]
[null,null,null,null,null,null,null,null,null,null,0,null,0]
[null,null,null,null,null,null,null,null,null,null,0,null,0]
[null,null,null,null,null,null,null,null,null,null,0,null,0]
[null,null,null,null,null,null,null,null,null,null,0,null,0]
[null,null,null,null,null,null,null,null,null,null,0,null,0]
[null,null,null,null,null,null,null,null,null,null,0,null,0]
[null,null,null,null,null,null,null,null,null,null,0,null,0]
[null,null,null,null,null,null,null,null,null,null,0,null,0]
[null,null,null,null,null,null,null,null,null,null,0,null,0]
[null,null,null,null,null,null,null,null,null,null,0,null,0]
[null,null,null,null,null,null,null,null,null,null,0,null,0]
[null,null,null,null,null,null,null,null,null,null,0,null,0]
[null,null,null,null,null,null,null,null,null,null,0,null,0]
[null,null,null,null,null,null,null,null,null,null,0,null,0]
[null,null,null,null,null,null,null,null,null,null,0,null,0]
[null,null,null,null,null,null,null,null,null,null,0,null,0]
[null,null,null,null,null,null,null,null,null,null,0,null,0]
[null,null,null,null,null,null,null,null,null,null,0,null,0]
[null,null,null,null,null,null,null,null,null,null,0,null,0]
[null,null,null,null,null,null,null,null,null,null,0,null,0]
[null,null,null,null,null,null,null,null,null,null,0,null,0]
[null,null,null,null,null,null,null,null,null,null,0,null,0]
[null,null,null,null,null,null,null,null,null,null,0,null,0]
[null,null,null,null,null,null,null,null,null,null,0,null,0]
["ВСЕГО:",null,null,null,null,null,null,null,{"$f":"SUM(I91:I120)","v":0},"х",{"$f":"SUM(K91:K120)","v":0},"х",{"$f":"SUM(M91:M120)","v":0},"х",{"$f":"SUM(O91:O120)","v":0},"х"]
["ВСЕГО с начала года:",null,null,null,null,null,null,null,{"$f":"I83+I121","v":0},"х",{"$f":"K83+K121","v":0},"х",{"$f":"M83+M121","v":0},"х",{"$f":"O83+O121","v":0},"х"]
[]
["Период с",{"$f":"\"01.04.\"& Титул!D8","v":"01.04.2019"},null,"по",{"$f":"\"30.04.\"& Титул!D8","v":"30.04.2019"}]
[]
["Дата приобретения (ввоза) и номер документа",null,"Дата оплаты \nи номер документа",null,"Реквизиты электронного счёта-фактуры",null,"Наименование продавца (поставщика)","Учетный номер плательщика продавца (поставщика)","Стоимость товаров (работ, услуг), имущест-\nвенных прав, включая НДС","Объекты, облагаемые НДС* по ставке",null,null,null,null,null,"Стоимость товаров (работ, услуг), имущест-\nвенных прав \nбез НДС"]
[null,null,null,null," дата выставления электронного счёта-фактуры"," номер электронного счёта-фактуры",null,null,null,0.2,null,0.1,null,"иные"]
[null,null,null,null,null,null,null,null,null,"стоимость \nбез НДС","сумма \nНДС","стоимость \nбез НДС","сумма \nНДС","стоимость \nбез НДС","сумма \nНДС"]
[1,null,2,null,"2а","2б",3,4,5,6,"6а",7,"7а",8,"8а",9]
[null,null,null,null,null,null,null,null,null,null,{"$f":"ROUND(J130*20/100,2)","v":0},null,{"$f":"ROUND(L130*10/100,2)","v":0}]
[null,null,null,null,null,null,null,null,null,null,{"$f":"ROUND(J131*20/100,2)","v":0},null,{"$f":"ROUND(L131*10/100,2)","v":0}]
[null,null,null,null,null,null,null,null,null,null,0,null,0]
[null,null,null,null,null,null,null,null,null,null,0,null,0]
[null,null,null,null,null,null,null,null,null,null,0,null,0]
[null,null,null,null,null,null,null,null,null,null,0,null,0]
[null,null,null,null,null,null,null,null,null,null,0,null,0]
[null,null,null,null,null,null,null,null,null,null,0,null,0]
[null,null,null,null,null,null,null,null,null,null,0,null,0]
[null,null,null,null,null,null,null,null,null,null,0,null,0]
[null,null,null,null,null,null,null,null,null,null,0,null,0]
[null,null,null,null,null,null,null,null,null,null,0,null,0]
[null,null,null,null,null,null,null,null,null,null,0,null,0]
[null,null,null,null,null,null,null,null,null,null,0,null,0]
[null,null,null,null,null,null,null,null,null,null,0,null,0]
[null,null,null,null,null,null,null,null,null,null,0,null,0]
[null,null,null,null,null,null,null,null,null,null,0,null,0]
[null,null,null,null,null,null,null,null,null,null,0,null,0]
[null,null,null,null,null,null,null,null,null,null,0,null,0]
[null,null,null,null,null,null,null,null,null,null,0,null,0]
[null,null,null,null,null,null,null,null,null,null,0,null,0]
[null,null,null,null,null,null,null,null,null,null,0,null,0]
[null,null,null,null,null,null,null,null,null,null,0,null,0]
[null,null,null,null,null,null,null,null,null,null,0,null,0]
[null,null,null,null,null,null,null,null,null,null,0,null,0]
[null,null,null,null,null,null,null,null,null,null,0,null,0]
[null,null,null,null,null,null,null,null,null,null,0,null,0]
[null,null,null,null,null,null,null,null,null,null,0,null,0]
[null,null,null,null,null,null,null,null,null,null,0,null,0]
[null,null,null,null,null,null,null,null,null,null,0,null,0]
["ВСЕГО:",null,null,null,null,null,null,null,{"$f":"SUM(I130:I159)","v":0},"х",{"$f":"SUM(K130:K159)","v":0},"х",{"$f":"SUM(M130:M159)","v":0},"х",{"$f":"SUM(O130:O159)","v":0},"х"]
["ВСЕГО с начала года:",null,null,null,null,null,null,null,{"$f":"I122+I160","v":0},"х",{"$f":"K122+K160","v":0},"х",{"$f":"M122+M160","v":0},"х",{"$f":"O122+O160","v":0},"х"]
[]
["Период с",{"$f":"\"01.05.\"& Титул!D8","v":"01.05.2019"},null,"по",{"$f":"\"31.05.\"& Титул!D8","v":"31.05.2019"}]
[]
["Дата приобретения (ввоза) и номер документа",null,"Дата оплаты \nи номер документа",null,"Реквизиты электронного счёта-фактуры",null,"Наименование продавца (поставщика)","Учетный номер плательщика продавца (поставщика)","Стоимость товаров (работ, услуг), имущест-\nвенных прав, включая НДС","Объекты, облагаемые НДС* по ставке",null,null,null,null,null,"Стоимость товаров (работ, услуг), имущест-\nвенных прав \nбез НДС"]
[null,null,null,null," дата выставления электронного счёта-фактуры"," номер электронного счёта-фактуры",null,null,null,0.2,null,0.1,null,"иные"]
[null,null,null,null,null,null,null,null,null,"стоимость \nбез НДС","сумма \nНДС","стоимость \nбез НДС","сумма \nНДС","стоимость \nбез НДС","сумма \nНДС"]
[1,null,2,null,"2а","2б",3,4,5,6,"6а",7,"7а",8,"8а",9]
[null,null,null,null,null,null,null,null,null,null,{"$f":"ROUND(J169*20/100,2)","v":0},null,{"$f":"ROUND(L169*10/100,2)","v":0}]
[null,null,null,null,null,null,null,null,null,null,{"$f":"ROUND(J170*20/100,2)","v":0},null,{"$f":"ROUND(L170*10/100,2)","v":0}]
[null,null,null,null,null,null,null,null,null,null,0,null,0]
[null,null,null,null,null,null,null,null,null,null,0,null,0]
[null,null,null,null,null,null,null,null,null,null,0,null,0]
[null,null,null,null,null,null,null,null,null,null,0,null,0]
[null,null,null,null,null,null,null,null,null,null,0,null,0]
[null,null,null,null,null,null,null,null,null,null,0,null,0]
[null,null,null,null,null,null,null,null,null,null,0,null,0]
[null,null,null,null,null,null,null,null,null,null,0,null,0]
[null,null,null,null,null,null,null,null,null,null,0,null,0]
[null,null,null,null,null,null,null,null,null,null,0,null,0]
[null,null,null,null,null,null,null,null,null,null,0,null,0]
[null,null,null,null,null,null,null,null,null,null,0,null,0]
[null,null,null,null,null,null,null,null,null,null,0,null,0]
[null,null,null,null,null,null,null,null,null,null,0,null,0]
[null,null,null,null,null,null,null,null,null,null,0,null,0]
[null,null,null,null,null,null,null,null,null,null,0,null,0]
[null,null,null,null,null,null,null,null,null,null,0,null,0]
[null,null,null,null,null,null,null,null,null,null,0,null,0]
[null,null,null,null,null,null,null,null,null,null,0,null,0]
[null,null,null,null,null,null,null,null,null,null,0,null,0]
[null,null,null,null,null,null,null,null,null,null,0,null,0]
[null,null,null,null,null,null,null,null,null,null,0,null,0]
[null,null,null,null,null,null,null,null,null,null,0,null,0]
[null,null,null,null,null,null,null,null,null,null,0,null,0]
[null,null,null,null,null,null,null,null,null,null,0,null,0]
[null,null,null,null,null,null,null,null,null,null,0,null,0]
[null,null,null,null,null,null,null,null,null,null,0,null,0]
[null,null,null,null,null,null,null,null,null,null,0,null,0]
["ВСЕГО:",null,null,null,null,null,null,null,{"$f":"SUM(I169:I198)","v":0},"х",{"$f":"SUM(K169:K198)","v":0},"х",{"$f":"SUM(M169:M198)","v":0},"х",{"$f":"SUM(O169:O198)","v":0},"х"]
["ВСЕГО с начала года:",null,null,null,null,null,null,null,{"$f":"I161+I199","v":0},"х",{"$f":"K161+K199","v":0},"х",{"$f":"M161+M199","v":0},"х",{"$f":"O161+O199","v":0},"х"]
[]
["Период с","2018-06-01",null,"по","2018-06-30"]
[]
["Дата приобретения (ввоза) и номер документа",null,"Дата оплаты \nи номер документа",null,"Реквизиты электронного счёта-фактуры",null,"Наименование продавца (поставщика)","Учетный номер плательщика продавца (поставщика)","Стоимость товаров (работ, услуг), имущест-\nвенных прав, включая НДС","Объекты, облагаемые НДС* по ставке",null,null,null,null,null,"Стоимость товаров (работ, услуг), имущест-\nвенных прав \nбез НДС"]
[null,null,null,null," дата выставления электронного счёта-фактуры"," номер электронного счёта-фактуры",null,null,null,0.2,null,0.1,null,"иные"]
[null,null,null,null,null,null,null,null,null,"стоимость \nбез НДС","сумма \nНДС","стоимость \nбез НДС","сумма \nНДС","стоимость \nбез НДС","сумма \nНДС"]
[1,null,2,null,"2а","2б",3,4,5,6,"6а",7,"7а",8,"8а",9]
[null,null,null,null,null,null,null,null,null,null,{"$f":"ROUND(J208*20/100,2)","v":0},null,{"$f":"ROUND(L208*10/100,2)","v":0}]
[null,null,null,null,null,null,null,null,null,null,{"$f":"ROUND(J209*20/100,2)","v":0},null,{"$f":"ROUND(L209*10/100,2)","v":0}]
[null,null,null,null,null,null,null,null,null,null,0,null,0]
[null,null,null,null,null,null,null,null,null,null,0,null,0]
[null,null,null,null,null,null,null,null,null,null,0,null,0]
[null,null,null,null,null,null,null,null,null,null,0,null,0]
[null,null,null,null,null,null,null,null,null,null,0,null,0]
[null,null,null,null,null,null,null,null,null,null,0,null,0]
[null,null,null,null,null,null,null,null,null,null,0,null,0]
[null,null,null,null,null,null,null,null,null,null,0,null,0]
[null,null,null,null,null,null,null,null,null,null,0,null,0]
[null,null,null,null,null,null,null,null,null,null,0,null,0]
[null,null,null,null,null,null,null,null,null,null,0,null,0]
[null,null,null,null,null,null,null,null,null,null,0,null,0]
[null,null,null,null,null,null,null,null,null,null,0,null,0]
[null,null,null,null,null,null,null,null,null,null,0,null,0]
[null,null,null,null,null,null,null,null,null,null,0,null,0]
[null,null,null,null,null,null,null,null,null,null,0,null,0]
[null,null,null,null,null,null,null,null,null,null,0,null,0]
[null,null,null,null,null,null,null,null,null,null,0,null,0]
[null,null,null,null,null,null,null,null,null,null,0,null,0]
[null,null,null,null,null,null,null,null,null,null,0,null,0]
[null,null,null,null,null,null,null,null,null,null,0,null,0]
[null,null,null,null,null,null,null,null,null,null,0,null,0]
[null,null,null,null,null,null,null,null,null,null,0,null,0]
[null,null,null,null,null,null,null,null,null,null,0,null,0]
[null,null,null,null,null,null,null,null,null,null,0,null,0]
[null,null,null,null,null,null,null,null,null,null,0,null,0]
[null,null,null,null,null,null,null,null,null,null,0,null,0]
[null,null,null,null,null,null,null,null,null,null,0,null,0]
["ВСЕГО:",null,null,null,null,null,null,null,{"$f":"SUM(I208:I237)","v":0},"х",{"$f":"SUM(K208:K237)","v":0},"х",{"$f":"SUM(M208:M237)","v":0},"х",{"$f":"SUM(O208:O237)","v":0},"х"]
["ВСЕГО с начала года:",null,null,null,null,null,null,null,{"$f":"I200+I238","v":0},"х",{"$f":"K200+K238","v":0},"х",{"$f":"M200+M238","v":0},"х",{"$f":"O200+O238","v":0},"х"]
[]
["Период с",{"$f":"\"01.07.\"& Титул!D8","v":"01.07.2019"},null,"по",{"$f":"\"31.07.\"& Титул!D8","v":"31.07.2019"}]
[]
["Дата приобретения (ввоза) и номер документа",null,"Дата оплаты \nи номер документа",null,"Реквизиты электронного счёта-фактуры",null,"Наименование продавца (поставщика)","Учетный номер плательщика продавца (поставщика)","Стоимость товаров (работ, услуг), имущест-\nвенных прав, включая НДС","Объекты, облагаемые НДС* по ставке",null,null,null,null,null,"Стоимость товаров (работ, услуг), имущест-\nвенных прав \nбез НДС"]
[null,null,null,null," дата выставления электронного счёта-фактуры"," номер электронного счёта-фактуры",null,null,null,0.2,null,0.1,null,"иные"]
[null,null,null,null,null,null,null,null,null,"стоимость \nбез НДС","сумма \nНДС","стоимость \nбез НДС","сумма \nНДС","стоимость \nбез НДС","сумма \nНДС"]
[1,null,2,null,"2а","2б",3,4,5,6,"6а",7,"7а",8,"8а",9]
[null,null,null,null,null,null,null,null,null,null,{"$f":"ROUND(J247*20/100,2)","v":0},null,{"$f":"ROUND(L247*10/100,2)","v":0}]
[null,null,null,null,null,null,null,null,null,null,{"$f":"ROUND(J248*20/100,2)","v":0},null,{"$f":"ROUND(L248*10/100,2)","v":0}]
[null,null,null,null,null,null,null,null,null,null,0,null,0]
[null,null,null,null,null,null,null,null,null,null,0,null,0]
[null,null,null,null,null,null,null,null,null,null,0,null,0]
[null,null,null,null,null,null,null,null,null,null,0,null,0]
[null,null,null,null,null,null,null,null,null,null,0,null,0]
[null,null,null,null,null,null,null,null,null,null,0,null,0]
[null,null,null,null,null,null,null,null,null,null,0,null,0]
[null,null,null,null,null,null,null,null,null,null,0,null,0]
[null,null,null,null,null,null,null,null,null,null,0,null,0]
[null,null,null,null,null,null,null,null,null,null,0,null,0]
[null,null,null,null,null,null,null,null,null,null,0,null,0]
[null,null,null,null,null,null,null,null,null,null,0,null,0]
[null,null,null,null,null,null,null,null,null,null,0,null,0]
[null,null,null,null,null,null,null,null,null,null,0,null,0]
[null,null,null,null,null,null,null,null,null,null,0,null,0]
[null,null,null,null,null,null,null,null,null,null,0,null,0]
[null,null,null,null,null,null,null,null,null,null,0,null,0]
[null,null,null,null,null,null,null,null,null,null,0,null,0]
[null,null,null,null,null,null,null,null,null,null,0,null,0]
[null,null,null,null,null,null,null,null,null,null,0,null,0]
[null,null,null,null,null,null,null,null,null,null,0,null,0]
[null,null,null,null,null,null,null,null,null,null,0,null,0]
[null,null,null,null,null,null,null,null,null,null,0,null,0]
[null,null,null,null,null,null,null,null,null,null,0,null,0]
[null,null,null,null,null,null,null,null,null,null,0,null,0]
[null,null,null,null,null,null,null,null,null,null,0,null,0]
[null,null,null,null,null,null,null,null,null,null,0,null,0]
[null,null,null,null,null,null,null,null,null,null,0,null,0]
["ВСЕГО:",null,null,null,null,null,null,null,{"$f":"SUM(I247:I276)","v":0},"х",{"$f":"SUM(K247:K276)","v":0},"х",{"$f":"SUM(M247:M276)","v":0},"х",{"$f":"SUM(O247:O276)","v":0},"х"]
["ВСЕГО с начала года",null,null,null,null,null,null,null,{"$f":"I239+I277","v":0},"х",{"$f":"K239+K277","v":0},"х",{"$f":"M239+M277","v":0},"х",{"$f":"O239+O277","v":0},"х"]
[]
["Период с",{"$f":"\"01.08.\"& Титул!D8","v":"01.08.2019"},null,"по",{"$f":"\"31.08.\"& Титул!D8","v":"31.08.2019"}]
[]
["Дата приобретения (ввоза) и номер документа",null,"Дата оплаты \nи номер документа",null,"Реквизиты электронного счёта-фактуры",null,"Наименование продавца (поставщика)","Учетный номер плательщика продавца (поставщика)","Стоимость товаров (работ, услуг), имущест-\nвенных прав, включая НДС","Объекты, облагаемые НДС* по ставке",null,null,null,null,null,"Стоимость товаров (работ, услуг), имущест-\nвенных прав \nбез НДС"]
[null,null,null,null," дата выставления электронного счёта-фактуры"," номер электронного счёта-фактуры",null,null,null,0.2,null,0.1,null,"иные"]
[null,null,null,null,null,null,null,null,null,"стоимость \nбез НДС","сумма \nНДС","стоимость \nбез НДС","сумма \nНДС","стоимость \nбез НДС","сумма \nНДС"]
[1,null,2,null,"2а","2б",3,4,5,6,"6а",7,"7а",8,"8а",9]
[null,null,null,null,null,null,null,null,null,null,{"$f":"ROUND(J286*20/100,2)","v":0},null,{"$f":"ROUND(L286*10/100,2)","v":0}]
[null,null,null,null,null,null,null,null,null,null,{"$f":"ROUND(J287*20/100,2)","v":0},null,{"$f":"ROUND(L287*10/100,2)","v":0}]
[null,null,null,null,null,null,null,null,null,null,0,null,0]
[null,null,null,null,null,null,null,null,null,null,0,null,0]
[null,null,null,null,null,null,null,null,null,null,0,null,0]
[null,null,null,null,null,null,null,null,null,null,0,null,0]
[null,null,null,null,null,null,null,null,null,null,0,null,0]
[null,null,null,null,null,null,null,null,null,null,0,null,0]
[null,null,null,null,null,null,null,null,null,null,0,null,0]
[null,null,null,null,null,null,null,null,null,null,0,null,0]
[null,null,null,null,null,null,null,null,null,null,0,null,0]
[null,null,null,null,null,null,null,null,null,null,0,null,0]
[null,null,null,null,null,null,null,null,null,null,0,null,0]
[null,null,null,null,null,null,null,null,null,null,0,null,0]
[null,null,null,null,null,null,null,null,null,null,0,null,0]
[null,null,null,null,null,null,null,null,null,null,0,null,0]
[null,null,null,null,null,null,null,null,null,null,0,null,0]
[null,null,null,null,null,null,null,null,null,null,0,null,0]
[null,null,null,null,null,null,null,null,null,null,0,null,0]
[null,null,null,null,null,null,null,null,null,null,0,null,0]
[null,null,null,null,null,null,null,null,null,null,0,null,0]
[null,null,null,null,null,null,null,null,null,null,0,null,0]
[null,null,null,null,null,null,null,null,null,null,0,null,0]
[null,null,null,null,null,null,null,null,null,null,0,null,0]
[null,null,null,null,null,null,null,null,null,null,0,null,0]
[null,null,null,null,null,null,null,null,null,null,0,null,0]
[null,null,null,null,null,null,null,null,null,null,0,null,0]
[null,null,null,null,null,null,null,null,null,null,0,null,0]
[null,null,null,null,null,null,null,null,null,null,0,null,0]
[null,null,null,null,null,null,null,null,null,null,0,null,0]
["ВСЕГО:",null,null,null,null,null,null,null,{"$f":"SUM(I286:I315)","v":0},"х",{"$f":"SUM(K286:K315)","v":0},"х",{"$f":"SUM(M286:M315)","v":0},"х",{"$f":"SUM(O286:O315)","v":0},"х"]
["ВСЕГО с начала года:",null,null,null,null,null,null,null,{"$f":"I278+I316","v":0},"х",{"$f":"K278+K316","v":0},"х",{"$f":"M278+M316","v":0},"х",{"$f":"O278+O316","v":0},"х"]
[]
["Период с",{"$f":"\"01.09.\"& Титул!D8","v":"01.09.2019"},null,"по",{"$f":"\"30.09.\"& Титул!D8","v":"30.09.2019"}]
[]
["Дата приобретения (ввоза) и номер документа",null,"Дата оплаты \nи номер документа",null,"Реквизиты электронного счёта-фактуры",null,"Наименование продавца (поставщика)","Учетный номер плательщика продавца (поставщика)","Стоимость товаров (работ, услуг), имущест-\nвенных прав, включая НДС","Объекты, облагаемые НДС* по ставке",null,null,null,null,null,"Стоимость товаров (работ, услуг), имущест-\nвенных прав \nбез НДС"]
[null,null,null,null," дата выставления электронного счёта-фактуры"," номер электронного счёта-фактуры",null,null,null,0.2,null,0.1,null,"иные"]
[null,null,null,null,null,null,null,null,null,"стоимость \nбез НДС","сумма \nНДС","стоимость \nбез НДС","сумма \nНДС","стоимость \nбез НДС","сумма \nНДС"]
[1,null,2,null,"2а","2б",3,4,5,6,"6а",7,"7а",8,"8а",9]
[null,null,null,null,null,null,null,null,null,null,{"$f":"ROUND(J325*20/100,2)","v":0},null,{"$f":"ROUND(L325*10/100,2)","v":0}]
[null,null,null,null,null,null,null,null,null,null,{"$f":"ROUND(J326*20/100,2)","v":0},null,{"$f":"ROUND(L326*10/100,2)","v":0}]
[null,null,null,null,null,null,null,null,null,null,0,null,0]
[null,null,null,null,null,null,null,null,null,null,0,null,0]
[null,null,null,null,null,null,null,null,null,null,0,null,0]
[null,null,null,null,null,null,null,null,null,null,0,null,0]
[null,null,null,null,null,null,null,null,null,null,0,null,0]
[null,null,null,null,null,null,null,null,null,null,0,null,0]
[null,null,null,null,null,null,null,null,null,null,0,null,0]
[null,null,null,null,null,null,null,null,null,null,0,null,0]
[null,null,null,null,null,null,null,null,null,null,0,null,0]
[null,null,null,null,null,null,null,null,null,null,0,null,0]
[null,null,null,null,null,null,null,null,null,null,0,null,0]
[null,null,null,null,null,null,null,null,null,null,0,null,0]
[null,null,null,null,null,null,null,null,null,null,0,null,0]
[null,null,null,null,null,null,null,null,null,null,0,null,0]
[null,null,null,null,null,null,null,null,null,null,0,null,0]
[null,null,null,null,null,null,null,null,null,null,0,null,0]
[null,null,null,null,null,null,null,null,null,null,0,null,0]
[null,null,null,null,null,null,null,null,null,null,0,null,0]
[null,null,null,null,null,null,null,null,null,null,0,null,0]
[null,null,null,null,null,null,null,null,null,null,0,null,0]
[null,null,null,null,null,null,null,null,null,null,0,null,0]
[null,null,null,null,null,null,null,null,null,null,0,null,0]
[null,null,null,null,null,null,null,null,null,null,0,null,0]
[null,null,null,null,null,null,null,null,null,null,0,null,0]
[null,null,null,null,null,null,null,null,null,null,0,null,0]
[null,null,null,null,null,null,null,null,null,null,0,null,0]
[null,null,null,null,null,null,null,null,null,null,0,null,0]
[null,null,null,null,null,null,null,null,null,null,0,null,0]
["ВСЕГО:",null,null,null,null,null,null,null,{"$f":"SUM(I325:I354)","v":0},"х",{"$f":"SUM(K325:K354)","v":0},"х",{"$f":"SUM(M325:M354)","v":0},"х",{"$f":"SUM(O325:O354)","v":0},"х"]
["ВСЕГО с начала года:",null,null,null,null,null,null,null,{"$f":"I317+I355","v":0},"х",{"$f":"K317+K355","v":0},"х",{"$f":"M317+M355","v":0},"х",{"$f":"O317+O355","v":0},"х"]
[]
["Период с",{"$f":"\"01.10.\"& Титул!D8","v":"01.10.2019"},null,"по",{"$f":"\"31.10.\"& Титул!D8","v":"31.10.2019"}]
[]
["Дата приобретения (ввоза) и номер документа",null,"Дата оплаты \nи номер документа",null,"Реквизиты электронного счёта-фактуры",null,"Наименование продавца (поставщика)","Учетный номер плательщика продавца (поставщика)","Стоимость товаров (работ, услуг), имущест-\nвенных прав, включая НДС","Объекты, облагаемые НДС* по ставке",null,null,null,null,null,"Стоимость товаров (работ, услуг), имущест-\nвенных прав \nбез НДС"]
[null,null,null,null," дата выставления электронного счёта-фактуры"," номер электронного счёта-фактуры",null,null,null,0.2,null,0.1,null,"иные"]
[null,null,null,null,null,null,null,null,null,"стоимость \nбез НДС","сумма \nНДС","стоимость \nбез НДС","сумма \nНДС","стоимость \nбез НДС","сумма \nНДС"]
[1,null,2,null,"2а","2б",3,4,5,6,"6а",7,"7а",8,"8а",9]
[null,null,null,null,null,null,null,null,null,null,{"$f":"ROUND(J364*20/100,2)","v":0},null,{"$f":"ROUND(L364*10/100,2)","v":0}]
[null,null,null,null,null,null,null,null,null,null,{"$f":"ROUND(J365*20/100,2)","v":0},null,{"$f":"ROUND(L365*10/100,2)","v":0}]
[null,null,null,null,null,null,null,null,null,null,0,null,0]
[null,null,null,null,null,null,null,null,null,null,0,null,0]
[null,null,null,null,null,null,null,null,null,null,0,null,0]
[null,null,null,null,null,null,null,null,null,null,0,null,0]
[null,null,null,null,null,null,null,null,null,null,0,null,0]
[null,null,null,null,null,null,null,null,null,null,0,null,0]
[null,null,null,null,null,null,null,null,null,null,0,null,0]
[null,null,null,null,null,null,null,null,null,null,0,null,0]
[null,null,null,null,null,null,null,null,null,null,0,null,0]
[null,null,null,null,null,null,null,null,null,null,0,null,0]
[null,null,null,null,null,null,null,null,null,null,0,null,0]
[null,null,null,null,null,null,null,null,null,null,0,null,0]
[null,null,null,null,null,null,null,null,null,null,0,null,0]
[null,null,null,null,null,null,null,null,null,null,0,null,0]
[null,null,null,null,null,null,null,null,null,null,0,null,0]
[null,null,null,null,null,null,null,null,null,null,0,null,0]
[null,null,null,null,null,null,null,null,null,null,0,null,0]
[null,null,null,null,null,null,null,null,null,null,0,null,0]
[null,null,null,null,null,null,null,null,null,null,0,null,0]
[null,null,null,null,null,null,null,null,null,null,0,null,0]
[null,null,null,null,null,null,null,null,null,null,0,null,0]
[null,null,null,null,null,null,null,null,null,null,0,null,0]
[null,null,null,null,null,null,null,null,null,null,0,null,0]
[null,null,null,null,null,null,null,null,null,null,0,null,0]
[null,null,null,null,null,null,null,null,null,null,0,null,0]
[null,null,null,null,null,null,null,null,null,null,0,null,0]
[null,null,null,null,null,null,null,null,null,null,0,null,0]
[null,null,null,null,null,null,null,null,null,null,0,null,0]
["ВСЕГО:",null,null,null,null,null,null,null,{"$f":"SUM(I364:I393)","v":0},"х",{"$f":"SUM(K364:K393)","v":0},"х",{"$f":"SUM(M364:M393)","v":0},"х",{"$f":"SUM(O364:O393)","v":0},"х"]
["ВСЕГО с начала года:",null,null,null,null,null,null,null,{"$f":"I356+I394","v":0},"х",{"$f":"K356+K394","v":0},"х",{"$f":"M356+M394","v":0},"х",{"$f":"O356+O394","v":0},"х"]
[]
["Период с",{"$f":"\"01.11.\"& Титул!D8","v":"01.11.2019"},null,"по",{"$f":"\"30.11.\"& Титул!D8","v":"30.11.2019"}]
[]
["Дата приобретения (ввоза) и номер документа",null,"Дата оплаты \nи номер документа",null,"Реквизиты электронного счёта-фактуры",null,"Наименование продавца (поставщика)","Учетный номер плательщика продавца (поставщика)","Стоимость товаров (работ, услуг), имущест-\nвенных прав, включая НДС","Объекты, облагаемые НДС* по ставке",null,null,null,null,null,"Стоимость товаров (работ, услуг), имущест-\nвенных прав \nбез НДС"]
[null,null,null,null," дата выставления электронного счёта-фактуры"," номер электронного счёта-фактуры",null,null,null,0.2,null,0.1,null,"иные"]
[null,null,null,null,null,null,null,null,null,"стоимость \nбез НДС","сумма \nНДС","стоимость \nбез НДС","сумма \nНДС","стоимость \nбез НДС","сумма \nНДС"]
[1,null,2,null,"2а","2б",3,4,5,6,"6а",7,"7а",8,"8а",9]
[null,null,null,null,null,null,null,null,null,null,{"$f":"ROUND(J403*20/100,2)","v":0},null,{"$f":"ROUND(L403*10/100,2)","v":0}]
[null,null,null,null,null,null,null,null,null,null,{"$f":"ROUND(J404*20/100,2)","v":0},null,{"$f":"ROUND(L404*10/100,2)","v":0}]
[null,null,null,null,null,null,null,null,null,null,0,null,0]
[null,null,null,null,null,null,null,null,null,null,0,null,0]
[null,null,null,null,null,null,null,null,null,null,0,null,0]
[null,null,null,null,null,null,null,null,null,null,0,null,0]
[null,null,null,null,null,null,null,null,null,null,0,null,0]
[null,null,null,null,null,null,null,null,null,null,0,null,0]
[null,null,null,null,null,null,null,null,null,null,0,null,0]
[null,null,null,null,null,null,null,null,null,null,0,null,0]
[null,null,null,null,null,null,null,null,null,null,0,null,0]
[null,null,null,null,null,null,null,null,null,null,0,null,0]
[null,null,null,null,null,null,null,null,null,null,0,null,0]
[null,null,null,null,null,null,null,null,null,null,0,null,0]
[null,null,null,null,null,null,null,null,null,null,0,null,0]
[null,null,null,null,null,null,null,null,null,null,0,null,0]
[null,null,null,null,null,null,null,null,null,null,0,null,0]
[null,null,null,null,null,null,null,null,null,null,0,null,0]
[null,null,null,null,null,null,null,null,null,null,0,null,0]
[null,null,null,null,null,null,null,null,null,null,0,null,0]
[null,null,null,null,null,null,null,null,null,null,0,null,0]
[null,null,null,null,null,null,null,null,null,null,0,null,0]
[null,null,null,null,null,null,null,null,null,null,0,null,0]
[null,null,null,null,null,null,null,null,null,null,0,null,0]
[null,null,null,null,null,null,null,null,null,null,0,null,0]
[null,null,null,null,null,null,null,null,null,null,0,null,0]
[null,null,null,null,null,null,null,null,null,null,0,null,0]
[null,null,null,null,null,null,null,null,null,null,0,null,0]
[null,null,null,null,null,null,null,null,null,null,0,null,0]
[null,null,null,null,null,null,null,null,null,null,0,null,0]
["ВСЕГО:",null,null,null,null,null,null,null,{"$f":"SUM(I403:I432)","v":0},"х",{"$f":"SUM(K403:K432)","v":0},"х",{"$f":"SUM(M403:M432)","v":0},"х",{"$f":"SUM(O403:O432)","v":0},"х"]
["ВСЕГО с начала года:",null,null,null,null,null,null,null,{"$f":"I395+I433","v":0},"х",{"$f":"K395+K433","v":0},"х",{"$f":"M395+M433","v":0},"х",{"$f":"O395+O433","v":0},"х"]
[]
["Период с",{"$f":"\"01.12.\"& Титул!D8","v":"01.12.2019"},null,"по",{"$f":"\"31.12.\"& Титул!D8","v":"31.12.2019"}]
[]
["Дата приобретения (ввоза) и номер документа",null,"Дата оплаты \nи номер документа",null,"Реквизиты электронного счёта-фактуры",null,"Наименование продавца (поставщика)","Учетный номер плательщика продавца (поставщика)","Стоимость товаров (работ, услуг), имущест-\nвенных прав, включая НДС","Объекты, облагаемые НДС* по ставке",null,null,null,null,null,"Стоимость товаров (работ, услуг), имущест-\nвенных прав \nбез НДС"]
[null,null,null,null," дата выставления электронного счёта-фактуры"," номер электронного счёта-фактуры",null,null,null,0.2,null,0.1,null,"иные"]
[null,null,null,null,null,null,null,null,null,"стоимость \nбез НДС","сумма \nНДС","стоимость \nбез НДС","сумма \nНДС","стоимость \nбез НДС","сумма \nНДС"]
[1,null,2,null,"2а","2б",3,4,5,6,"6а",7,"7а",8,"8а",9]
[null,null,null,null,null,null,null,null,null,null,{"$f":"ROUND(J442*20/100,2)","v":0},null,{"$f":"ROUND(L442*10/100,2)","v":0}]
[null,null,null,null,null,null,null,null,null,null,{"$f":"ROUND(J443*20/100,2)","v":0},null,{"$f":"ROUND(L443*10/100,2)","v":0}]
[null,null,null,null,null,null,null,null,null,null,0,null,0]
[null,null,null,null,null,null,null,null,null,null,0,null,0]
[null,null,null,null,null,null,null,null,null,null,0,null,0]
[null,null,null,null,null,null,null,null,null,null,0,null,0]
[null,null,null,null,null,null,null,null,null,null,0,null,0]
[null,null,null,null,null,null,null,null,null,null,0,null,0]
[null,null,null,null,null,null,null,null,null,null,0,null,0]
[null,null,null,null,null,null,null,null,null,null,0,null,0]
[null,null,null,null,null,null,null,null,null,null,0,null,0]
[null,null,null,null,null,null,null,null,null,null,0,null,0]
[null,null,null,null,null,null,null,null,null,null,0,null,0]
[null,null,null,null,null,null,null,null,null,null,0,null,0]
[null,null,null,null,null,null,null,null,null,null,0,null,0]
[null,null,null,null,null,null,null,null,null,null,0,null,0]
[null,null,null,null,null,null,null,null,null,null,0,null,0]
[null,null,null,null,null,null,null,null,null,null,0,null,0]
[null,null,null,null,null,null,null,null,null,null,0,null,0]
[null,null,null,null,null,null,null,null,null,null,0,null,0]
[null,null,null,null,null,null,null,null,null,null,0,null,0]
[null,null,null,null,null,null,null,null,null,null,0,null,0]
[null,null,null,null,null,null,null,null,null,null,0,null,0]
[null,null,null,null,null,null,null,null,null,null,0,null,0]
[null,null,null,null,null,null,null,null,null,null,0,null,0]
[null,null,null,null,null,null,null,null,null,null,0,null,0]
[null,null,null,null,null,null,null,null,null,null,0,null,0]
[null,null,null,null,null,null,null,null,null,null,0,null,0]
[null,null,null,null,null,null,null,null,null,null,0,null,0]
[null,null,null,null,null,null,null,null,null,null,0,null,0]
["ВСЕГО:",null,null,null,null,null,null,null,{"$f":"SUM(I442:I471)","v":0},"х",{"$f":"SUM(K442:K471)","v":0},"х",{"$f":"SUM(M442:M471)","v":0},"х",{"$f":"SUM(O442:O471)","v":0},"х"]
["ВСЕГО с начала года:",null,null,null,null,null,null,null,{"$f":"I434+I472","v":0},"х",{"$f":"K434+K472","v":0},"х",{"$f":"M434+M472","v":0},"х",{"$f":"O434+O472","v":0},"х"]

{"sheet":"Раздел VIII часть 2","index":20,"n_rows":484,"n_cols":16,"rows_kept":484,"cut":false,"hidden":false,"merged":[[483,0,483,5],[11,0,11,1],[11,2,11,3],[0,0,0,15],[1,0,1,15],[2,0,2,15],[3,0,3,15],[7,0,10,1],[7,2,10,3],[7,4,10,4],[7,5,10,5],[7,6,10,6],[7,7,7,15],[12,2,12,3],[13,2,13,3],[14,2,14,3],[15,2,15,3],[16,2,16,3],[17,2,17,3],[8,7,8,13],[8,14,8,15],[9,7,9,8],[9,9,9,10],[9,12,9,13],[24,2,24,3],[25,2,25,3],[26,2,26,3],[27,2,27,3],[28,2,28,3],[29,2,29,3],[18,2,18,3],[19,2,19,3],[20,2,20,3],[21,2,21,3],[22,2,22,3],[23,2,23,3],[36,2,36,3],[37,2,37,3],[38,2,38,3],[39,2,39,3],[40,2,40,3],[41,2,41,3],[30,2,30,3],[31,2,31,3],[32,2,32,3],[33,2,33,3],[34,2,34,3],[35,2,35,3],[47,7,47,15],[48,7,48,13],[48,14,48,15],[49,7,49,8],[49,9,49,10],[49,12,49,13],[42,0,42,5],[47,0,50,1],[47,2,50,3],[47,4,50,4],[47,5,50,5],[47,6,50,6],[43,0,43,5],[56,2,56,3],[57,2,57,3],[58,2,58,3],[59,2,59,3],[60,2,60,3],[61,2,61,3],[51,0,51,1],[51,2,51,3],[52,2,52,3],[53,2,53,3],[54,2,54,3],[55,2,55,3],[68,2,68,3],[69,2,69,3],[70,2,70,3],[71,2,71,3],[72,2,72,3],[73,2,73,3],[62,2,62,3],[63,2,63,3],[64,2,64,3],[65,2,65,3],[66,2,66,3],[67,2,67,3],[80,2,80,3],[81,2,81,3],[82,0,82,5],[87,0,90,1],[87,2,90,3],[87,4,90,4],[87,5,90,5],[74,2,74,3],[75,2,75,3],[76,2,76,3],[77,2,77,3],[78,2,78,3],[79,2,79,3],[83,0,83,5],[91,0,91,1],[91,2,91,3],[92,2,92,3],[93,2,93,3],[94,2,94,3],[95,2,95,3],[87,6,90,6],[87,7,87,15],[88,7,88,13],[88,14,88,15],[89,7,89,8],[89,9,89,10],[89,12,89,13],[102,2,102,3],[103,2,103,3],[104,2,104,3],[105,2,105,3],[106,2,106,3],[107,2,107,3],[96,2,96,3],[97,2,97,3],[98,2,98,3],[99,2,99,3],[100,2,100,3],[101,2,101,3],[114,2,114,3],[115,2,115,3],[116,2,116,3],[117,2,117,3],[118,2,118,3],[119,2,119,3],[108,2,108,3],[109,2,109,3],[110,2,110,3],[111,2,111,3],[112,2,112,3],[113,2,113,3],[127,6,130,6],[127,7,127,15],[128,7,128,13],[128,14,128,15],[129,7,129,8],[129,9,129,10],[129,12,129,13],[120,2,120,3],[121,2,121,3],[122,0,122,5],[127,0,130,1],[127,2,130,3],[127,4,130,4],[127,5,130,5],[123,0,123,5],[136,2,136,3],[137,2,137,3],[138,2,138,3],[139,2,139,3],[140,2,140,3],[141,2,141,3],[131,0,131,1],[131,2,131,3],[132,2,132,3],[133,2,133,3],[134,2,134,3],[135,2,135,3],[148,2,148,3],[149,2,149,3],[150,2,150,3],[151,2,151,3],[152,2,152,3],[153,2,153,3],[142,2,142,3],[143,2,143,3],[144,2,144,3],[145,2,145,3],[146,2,146,3],[147,2,147,3],[160,2,160,3],[161,2,161,3],[162,0,162,5],[167,0,170,1],[167,2,170,3],[167,4,170,4],[167,5,170,5],[154,2,154,3],[155,2,155,3],[156,2,156,3],[157,2,157,3],[158,2,158,3],[159,2,159,3],[163,0,163,5],[171,0,171,1],[171,2,171,3],[172,2,172,3],[173,2,173,3],[174,2,174,3],[175,2,175,3],[167,6,170,6],[167,7,167,15],[168,7,168,13],[168,14,168,15],[169,7,169,8],[169,9,169,10],[169,12,169,13],[182,2,182,3],[183,2,183,3],[184,2,184,3],[185,2,185,3],[186,2,186,3],[187,2,187,3],[176,2,176,3],[177,2,177,3],[178,2,178,3],[179,2,179,3],[180,2,180,3],[181,2,181,3],[194,2,194,3],[195,2,195,3],[196,2,196,3],[197,2,197,3],[198,2,198,3],[199,2,199,3],[188,2,188,3],[189,2,189,3],[190,2,190,3],[191,2,191,3],[192,2,192,3],[193,2,193,3],[207,6,210,6],[207,7,207,15],[208,7,208,13],[208,14,208,15],[209,7,209,8],[209,9,209,10],[209,12,209,13],[200,2,200,3],[201,2,201,3],[202,0,202,5],[207,0,210,1],[207,2,210,3],[207,4,210,4],[207,5,210,5],[203,0,203,5],[216,2,216,3],[217,2,217,3],[218,2,218,3],[219,2,219,3],[220,2,220,3],[221,2,221,3],[211,0,211,1],[211,2,211,3],[212,2,212,3],[213,2,213,3],[214,2,214,3],[215,2,215,3],[228,2,228,3],[229,2,229,3],[230,2,230,3],[231,2,231,3],[232,2,232,3],[233,2,233,3],[222,2,222,3],[223,2,223,3],[224,2,224,3],[225,2,225,3],[226,2,226,3],[227,2,227,3],[240,2,240,3],[241,2,241,3],[242,0,242,5],[247,0,250,1],[247,2,250,3],[247,4,250,4],[247,5,250,5],[234,2,234,3],[235,2,235,3],[236,2,236,3],[237,2,237,3],[238,2,238,3],[239,2,239,3],[243,0,243,5],[251,0,251,1],[251,2,251,3],[252,2,252,3],[253,2,253,3],[254,2,254,3],[255,2,255,3],[247,6,250,6],[247,7,247,15],[248,7,248,13],[248,14,248,15],[249,7,249,8],[249,9,249,10],[249,12,249,13],[262,2,262,3],[263,2,263,3],[264,2,264,3],[265,2,265,3],[266,2,266,3],[267,2,267,3],[256,2,256,3],[257,2,257,3],[258,2,258,3],[259,2,259,3],[260,2,260,3],[261,2,261,3],[274,2,274,3],[275,2,275,3],[276,2,276,3],[277,2,277,3],[278,2,278,3],[279,2,279,3],[268,2,268,3],[269,2,269,3],[270,2,270,3],[271,2,271,3],[272,2,272,3],[273,2,273,3],[287,6,290,6],[287,7,287,15],[288,7,288,13],[288,14,288,15],[289,7,289,8],[289,9,289,10],[289,12,289,13],[280,2,280,3],[281,2,281,3],[282,0,282,5],[287,0,290,1],[287,2,290,3],[287,4,290,4],[287,5,290,5],[283,0,283,5],[296,2,296,3],[297,2,297,3],[298,2,298,3],[299,2,299,3],[300,2,300,3],[301,2,301,3],[291,0,291,1],[291,2,291,3],[292,2,292,3],[293,2,293,3],[294,2,294,3],[295,2,295,3],[308,2,308,3],[309,2,309,3],[310,2,310,3],[311,2,311,3],[312,2,312,3],[313,2,313,3],[302,2,302,3],[303,2,303,3],[304,2,304,3],[305,2,305,3],[306,2,306,3],[307,2,307,3],[320,2,320,3],[321,2,321,3],[322,0,322,5],[327,0,330,1],[327,2,330,3],[327,4,330,4],[327,5,330,5],[314,2,314,3],[315,2,315,3],[316,2,316,3],[317,2,317,3],[318,2,318,3],[319,2,319,3],[323,0,323,5],[331,0,331,1],[331,2,331,3],[332,2,332,3],[333,2,333,3],[334,2,334,3],[335,2,335,3],[327,6,330,6],[327,7,327,15],[328,7,328,13],[328,14,328,15],[329,7,329,8],[329,9,329,10],[329,12,329,13],[342,2,342,3],[343,2,343,3],[344,2,344,3],[345,2,345,3],[346,2,346,3],[347,2,347,3],[336,2,336,3],[337,2,337,3],[338,2,338,3],[339,2,339,3],[340,2,340,3],[341,2,341,3],[354,2,354,3],[355,2,355,3],[356,2,356,3],[357,2,357,3],[358,2,358,3],[359,2,359,3],[348,2,348,3],[349,2,349,3],[350,2,350,3],[351,2,351,3],[352,2,352,3],[353,2,353,3],[367,6,370,6],[367,7,367,15],[368,7,368,13],[368,14,368,15],[369,7,369,8],[369,9,369,10],[369,12,369,13],[360,2,360,3],[361,2,361,3],[362,0,362,5],[367,0,370,1],[367,2,370,3],[367,4,370,4],[367,5,370,5],[363,0,363,5],[376,2,376,3],[377,2,377,3],[378,2,378,3],[379,2,379,3],[380,2,380,3],[381,2,381,3],[371,0,371,1],[371,2,371,3],[372,2,372,3],[373,2,373,3],[374,2,374,3],[375,2,375,3],[388,2,388,3],[389,2,389,3],[390,2,390,3],[391,2,391,3],[392,2,392,3],[393,2,393,3],[382,2,382,3],[383,2,383,3],[384,2,384,3],[385,2,385,3],[386,2,386,3],[387,2,387,3],[400,2,400,3],[401,2,401,3],[402,0,402,5],[407,0,410,1],[407,2,410,3],[407,4,410,4],[407,5,410,5],[394,2,394,3],[395,2,395,3],[396,2,396,3],[397,2,397,3],[398,2,398,3],[399,2,399,3],[403,0,403,5],[411,0,411,1],[411,2,411,3],[412,2,412,3],[413,2,413,3],[414,2,414,3],[415,2,415,3],[407,6,410,6],[407,7,407,15],[408,7,408,13],[408,14,408,15],[409,7,409,8],[409,9,409,10],[409,12,409,13],[422,2,422,3],[423,2,423,3],[424,2,424,3],[425,2,425,3],[426,2,426,3],[427,2,427,3],[416,2,416,3],[417,2,417,3],[418,2,418,3],[419,2,419,3],[420,2,420,3],[421,2,421,3],[434,2,434,3],[435,2,435,3],[436,2,436,3],[437,2,437,3],[438,2,438,3],[439,2,439,3],[428,2,428,3],[429,2,429,3],[430,2,430,3],[431,2,431,3],[432,2,432,3],[433,2,433,3],[447,6,450,6],[447,7,447,15],[448,7,448,13],[448,14,448,15],[449,7,449,8],[449,9,449,10],[449,12,449,13],[440,2,440,3],[441,2,441,3],[442,0,442,5],[447,0,450,1],[447,2,450,3],[447,4,450,4],[447,5,450,5],[443,0,443,5],[456,2,456,3],[457,2,457,3],[458,2,458,3],[459,2,459,3],[460,2,460,3],[461,2,461,3],[451,0,451,1],[451,2,451,3],[452,2,452,3],[453,2,453,3],[454,2,454,3],[455,2,455,3],[468,2,468,3],[469,2,469,3],[470,2,470,3],[471,2,471,3],[472,2,472,3],[473,2,473,3],[462,2,462,3],[463,2,463,3],[464,2,464,3],[465,2,465,3],[466,2,466,3],[467,2,467,3],[480,2,480,3],[481,2,481,3],[482,0,482,5],[474,2,474,3],[475,2,475,3],[476,2,476,3],[477,2,477,3],[478,2,478,3],[479,2,479,3]]}
[]
["Часть II"]
["СУММЫ НАЛОГА НА ДОБАВЛЕННУЮ СТОИМОСТЬ, ИСЧИСЛЕННЫЕ ПО ОБОРОТАМ "]
["ПО РЕАЛИЗАЦИИ (ПРИОБРЕТЕНИЮ) ТОВАРОВ (РАБОТ, УСЛУГ), ИМУЩЕСТВЕННЫХ ПРАВ"]
[]
["Период с",{"$f":"\"01.01.\"& Титул!D8","v":"01.01.2019"},"по",{"$f":"\"31.01.\"& Титул!D8","v":"31.01.2019"}]
[]
["Дата и номер документа \nпоставщика \n(продавца)",null,"Наименование\nпокупателя \n(продавца)",null,"Учетный \nномер плательщика \nпокупателя","Дата оплаты (иного прекращения \nобязательств)","Стоимость товаров (работ, услуг), имущественных прав, включая НДС","В том числе"]
[null,null,null,null,null,null,null,"объекты, облагаемые по ставке НДС",null,null,null,null,null,null,"объекты, освобождаемые \nот НДС и (или) необлагаемые НДС"]
[null,null,null,null,null,null,null,0.2,null,0.1,null,"0%","иные",null,"всего","из них оборот \nза пределами РБ"]
[null,null,null,null,null,null,null,"стоимость \nбез НДС","сумма \nНДС","стоимость \nбез НДС","сумма \nНДС","стоимость","стоимость \nбез НДС","сумма \nНДС","стоимость","стоимость"]
[1,null,2,null,3,4,5,6,"6а",7,"7а",8,9,"9а",10,"10а"]
[null,null,null,null,null,null,null,null,{"$f":"ROUND(H13*20/100,2)","v":0},null,{"$f":"ROUND(J13*10/100,2)","v":0}]
[null,null,null,null,null,null,null,null,{"$f":"ROUND(H14*20/100,2)","v":0},null,{"$f":"ROUND(J14*10/100,2)","v":0}]
[null,null,null,null,null,null,null,null,0,null,0]
[null,null,null,null,null,null,null,null,0,null,0]
[null,null,null,null,null,null,null,null,0,null,0]
[null,null,null,null,null,null,null,null,0,null,0]
[null,null,null,null,null,null,null,null,0,null,0]
[null,null,null,null,null,null,null,null,0,null,0]
[null,null,null,null,null,null,null,null,0,null,0]
[null,null,null,null,null,null,null,null,0,null,0]
[null,null,null,null,null,null,null,null,0,null,0]
[null,null,null,null,null,null,null,null,0,null,0]
[null,null,null,null,null,null,null,null,0,null,0]
[null,null,null,null,null,null,null,null,0,null,0]
[null,null,null,null,null,null,null,null,0,null,0]
[null,null,null,null,null,null,null,null,0,null,0]
[null,null,null,null,null,null,null,null,0,null,0]
[null,null,null,null,null,null,null,null,0,null,0]
[null,null,null,null,null,null,null,null,0,null,0]
[null,null,null,null,null,null,null,null,0,null,0]
[null,null,null,null,null,null,null,null,0,null,0]
[null,null,null,null,null,null,null,null,0,null,0]
[null,null,null,null,null,null,null,null,0,null,0]
[null,null,null,null,null,null,null,null,0,null,0]
[null,null,null,null,null,null,null,null,0,null,0]
[null,null,null,null,null,null,null,null,0,null,0]
[null,null,null,null,null,null,null,null,0,null,0]
[null,null,null,null,null,null,null,null,0,null,0]
[null,null,null,null,null,null,null,null,0,null,0]
[null,null,null,null,null,null,null,null,0,null,0]
["ВСЕГО:",null,null,null,null,null,{"$f":"SUM(G13:G42)","v":0},0,0,0,0,0,0,0,0,0]
["ВСЕГО с начала года:",null,null,null,null,null,{"$f":"G43","v":0},{"$f":"H43","v":0},0,0,0,0,0,0,0,0]
[]
["Период с",{"$f":"\"01.02.\"& Титул!D8","v":"01.02.2019"},"по",{"$f":"\"28.02.\"& Титул!D8","v":"28.02.2019"}]
[]
["Дата и номер документа \nпоставщика \n(продавца)",null,"Наименование\nпокупателя \n(продавца)",null,"Учетный \nномер плательщика \nпокупателя","Дата оплаты (иного прекращения \nобязательств)","Стоимость товаров (работ, услуг), имущест-\nвенных прав, включая НДС","В том числе"]
[null,null,null,null,null,null,null,"объекты, облагаемые по ставке НДС",null,null,null,null,null,null,"объекты, освобождаемые \nот НДС и (или) необлагаемые НДС"]
[null,null,null,null,null,null,null,0.2,null,0.1,null,"0%","иные",null,"всего","из них оборот \nза пределами РБ"]
[null,null,null,null,null,null,null,"стоимость \nбез НДС","сумма \nНДС","стоимость \nбез НДС","сумма \nНДС","стоимость","стоимость \nбез НДС","сумма \nНДС","стоимость","стоимость"]
[1,null,2,null,3,4,5,6,"6а",7,"7а",8,9,"9а",10,"10а"]
[null,null,null,null,null,null,null,null,{"$f":"ROUND(H53*20/100,2)","v":0},null,{"$f":"ROUND(J53*10/100,2)","v":0}]
[null,null,null,null,null,null,null,null,{"$f":"ROUND(H54*20/100,2)","v":0},null,{"$f":"ROUND(J54*10/100,2)","v":0}]
[null,null,null,null,null,null,null,null,0,null,0]
[null,null,null,null,null,null,null,null,0,null,0]
[null,null,null,null,null,null,null,null,0,null,0]
[null,null,null,null,null,null,null,null,0,null,0]
[null,null,null,null,null,null,null,null,0,null,0]
[null,null,null,null,null,null,null,null,0,null,0]
[null,null,null,null,null,null,null,null,0,null,0]
[null,null,null,null,null,null,null,null,0,null,0]
[null,null,null,null,null,null,null,null,0,null,0]
[null,null,null,null,null,null,null,null,0,null,0]
[null,null,null,null,null,null,null,null,0,null,0]
[null,null,null,null,null,null,null,null,0,null,0]
[null,null,null,null,null,null,null,null,0,null,0]
[null,null,null,null,null,null,null,null,0,null,0]
[null,null,null,null,null,null,null,null,0,null,0]
[null,null,null,null,null,null,null,null,0,null,0]
[null,null,null,null,null,null,null,null,0,null,0]
[null,null,null,null,null,null,null,null,0,null,0]
[null,null,null,null,null,null,null,null,0,null,0]
[null,null,null,null,null,null,null,null,0,null,0]
[null,null,null,null,null,null,null,null,0,null,0]
[null,null,null,null,null,null,null,null,0,null,0]
[null,null,null,null,null,null,null,null,0,null,0]
[null,null,null,null,null,null,null,null,0,null,0]
[null,null,null,null,null,null,null,null,0,null,0]
[null,null,null,null,null,null,null,null,0,null,0]
[null,null,null,null,null,null,null,null,0,null,0]
[null,null,null,null,null,null,null,null,0,null,0]
["ВСЕГО:",null,null,null,null,null,{"$f":"SUM(G53:G82)","v":0},0,0,0,0,0,0,0,0,0]
["ВСЕГО с начала года:",null,null,null,null,null,{"$f":"G44+G83","v":0},{"$f":"H44+H83","v":0},0,0,0,0,0,0,0,0]
[]
["Период с",{"$f":"\"01.03.\"& Титул!D8","v":"01.03.2019"},"по",{"$f":"\"31.03.\"& Титул!D8","v":"31.03.2019"}]
[]
["Дата и номер документа \nпоставщика \n(продавца)",null,"Наименование\nпокупателя \n(продавца)",null,"Учетный \nномер плательщика \nпокупателя","Дата оплаты (иного прекращения \nобязательств)","Стоимость товаров (работ, услуг), имущест-\nвенных прав, включая НДС","В том числе"]
[null,null,null,null,null,null,null,"объекты, облагаемые по ставке НДС",null,null,null,null,null,null,"объекты, освобождаемые \nот НДС и (или) необлагаемые НДС"]
[null,null,null,null,null,null,null,0.2,null,0.1,null,"0%","иные",null,"всего","из них оборот \nза пределами РБ"]
[null,null,null,null,null,null,null,"стоимость \nбез НДС","сумма \nНДС","стоимость \nбез НДС","сумма \nНДС","стоимость","стоимость \nбез НДС","сумма \nНДС","стоимость","стоимость"]
[1,null,2,null,3,4,5,6,"6а",7,"7а",8,9,"9а",10,"10а"]
[null,null,null,null,null,null,null,null,{"$f":"ROUND(H93*20/100,2)","v":0},null,{"$f":"ROUND(J93*10/100,2)","v":0}]
[null,null,null,null,null,null,null,null,{"$f":"ROUND(H94*20/100,2)","v":0},null,{"$f":"ROUND(J94*10/100,2)","v":0}]
[null,null,null,null,null,null,null,null,0,null,0]
[null,null,null,null,null,null,null,null,0,null,0]
[null,null,null,null,null,null,null,null,0,null,0]
[null,null,null,null,null,null,null,null,0,null,0]
[null,null,null,null,null,null,null,null,0,null,0]
[null,null,null,null,null,null,null,null,0,null,0]
[null,null,null,null,null,null,null,null,0,null,0]
[null,null,null,null,null,null,null,null,0,null,0]
[null,null,null,null,null,null,null,null,0,null,0]
[null,null,null,null,null,null,null,null,0,null,0]
[null,null,null,null,null,null,null,null,0,null,0]
[null,null,null,null,null,null,null,null,0,null,0]
[null,null,null,null,null,null,null,null,0,null,0]
[null,null,null,null,null,null,null,null,0,null,0]
[null,null,null,null,null,null,null,null,0,null,0]
[null,null,null,null,null,null,null,null,0,null,0]
[null,null,null,null,null,null,null,null,0,null,0]
[null,null,null,null,null,null,null,null,0,null,0]
[null,null,null,null,null,null,null,null,0,null,0]
[null,null,null,null,null,null,null,null,0,null,0]
[null,null,null,null,null,null,null,null,0,null,0]
[null,null,null,null,null,null,null,null,0,null,0]
[null,null,null,null,null,null,null,null,0,null,0]
[null,null,null,null,null,null,null,null,0,null,0]
[null,null,null,null,null,null,null,null,0,null,0]
[null,null,null,null,null,null,null,null,0,null,0]
[null,null,null,null,null,null,null,null,0,null,0]
[null,null,null,null,null,null,null,null,0,null,0]
["ВСЕГО:",null,null,null,null,null,{"$f":"SUM(G93:G122)","v":0},0,0,0,0,0,0,0,0,0]
["ВСЕГО с начала года:",null,null,null,null,null,{"$f":"G84+G123","v":0},{"$f":"H84+H123","v":0},{"$f":"I84+I123","v":0},{"$f":"J84+J123","v":0},{"$f":"K84+K123","v":0},{"$f":"L84+L123","v":0},{"$f":"M84+M123","v":0},{"$f":"N84+N123","v":0},{"$f":"O84+O123","v":0},{"$f":"P84+P123","v":0}]
[]
["Период с",{"$f":"\"01.04.\"& Титул!D8","v":"01.04.2019"},"по",{"$f":"\"30.04.\"& Титул!D8","v":"30.04.2019"}]
[]
["Дата и номер документа \nпоставщика \n(продавца)",null,"Наименование\nпокупателя \n(продавца)",null,"Учетный \nномер плательщика \nпокупателя","Дата оплаты (иного прекращения \nобязательств)","Стоимость товаров (работ, услуг), имущест-\nвенных прав, включая НДС","В том числе"]
[null,null,null,null,null,null,null,"объекты, облагаемые по ставке НДС",null,null,null,null,null,null,"объекты, освобождаемые \nот НДС и (или) необлагаемые НДС"]
[null,null,null,null,null,null,null,0.2,null,0.1,null,"0%","иные",null,"всего","из них оборот \nза пределами РБ"]
[null,null,null,null,null,null,null,"стоимость \nбез НДС","сумма \nНДС","стоимость \nбез НДС","сумма \nНДС","стоимость","стоимость \nбез НДС","сумма \nНДС","стоимость","стоимость"]
[1,null,2,null,3,4,5,6,"6а",7,"7а",8,9,"9а",10,"10а"]
[null,null,null,null,null,null,null,null,{"$f":"ROUND(H133*20/100,2)","v":0},null,{"$f":"ROUND(J133*10/100,2)","v":0}]
[null,null,null,null,null,null,null,null,{"$f":"ROUND(H134*20/100,2)","v":0},null,{"$f":"ROUND(J134*10/100,2)","v":0}]
[null,null,null,null,null,null,null,null,0,null,0]
[null,null,null,null,null,null,null,null,0,null,0]
[null,null,null,null,null,null,null,null,0,null,0]
[null,null,null,null,null,null,null,null,0,null,0]
[null,null,null,null,null,null,null,null,0,null,0]
[null,null,null,null,null,null,null,null,0,null,0]
[null,null,null,null,null,null,null,null,0,null,0]
[null,null,null,null,null,null,null,null,0,null,0]
[null,null,null,null,null,null,null,null,0,null,0]
[null,null,null,null,null,null,null,null,0,null,0]
[null,null,null,null,null,null,null,null,0,null,0]
[null,null,null,null,null,null,null,null,0,null,0]
[null,null,null,null,null,null,null,null,0,null,0]
[null,null,null,null,null,null,null,null,0,null,0]
[null,null,null,null,null,null,null,null,0,null,0]
[null,null,null,null,null,null,null,null,0,null,0]
[null,null,null,null,null,null,null,null,0,null,0]
[null,null,null,null,null,null,null,null,0,null,0]
[null,null,null,null,null,null,null,null,0,null,0]
[null,null,null,null,null,null,null,null,0,null,0]
[null,null,null,null,null,null,null,null,0,null,0]
[null,null,null,null,null,null,null,null,0,null,0]
[null,null,null,null,null,null,null,null,0,null,0]
[null,null,null,null,null,null,null,null,0,null,0]
[null,null,null,null,null,null,null,null,0,null,0]
[null,null,null,null,null,null,null,null,0,null,0]
[null,null,null,null,null,null,null,null,0,null,0]
[null,null,null,null,null,null,null,null,0,null,0]
["ВСЕГО:",null,null,null,null,null,{"$f":"SUM(G133:G162)","v":0},0,0,0,0,0,0,0,0,0]
["ВСЕГО с начала года:",null,null,null,null,null,{"$f":"G124+G163","v":0},{"$f":"H124+H163","v":0},{"$f":"I124+I163","v":0},{"$f":"J124+J163","v":0},{"$f":"K124+K163","v":0},{"$f":"L124+L163","v":0},{"$f":"M124+M163","v":0},{"$f":"N124+N163","v":0},{"$f":"O124+O163","v":0},{"$f":"P124+P163","v":0}]
[]
["Период с",{"$f":"\"01.05.\"& Титул!D8","v":"01.05.2019"},"по",{"$f":"\"31.05.\"& Титул!D8","v":"31.05.2019"}]
[]
["Дата и номер документа \nпоставщика \n(продавца)",null,"Наименование\nпокупателя \n(продавца)",null,"Учетный \nномер плательщика \nпокупателя","Дата оплаты (иного прекращения \nобязательств)","Стоимость товаров (работ, услуг), имущест-\nвенных прав, включая НДС","В том числе"]
[null,null,null,null,null,null,null,"объекты, облагаемые по ставке НДС",null,null,null,null,null,null,"объекты, освобождаемые \nот НДС и (или) необлагаемые НДС"]
[null,null,null,null,null,null,null,0.2,null,0.1,null,"0%","иные",null,"всего","из них оборот \nза пределами РБ"]
[null,null,null,null,null,null,null,"стоимость \nбез НДС","сумма \nНДС","стоимость \nбез НДС","сумма \nНДС","стоимость","стоимость \nбез НДС","сумма \nНДС","стоимость","стоимость"]
[1,null,2,null,3,4,5,6,"6а",7,"7а",8,9,"9а",10,"10а"]
[null,null,null,null,null,null,null,null,{"$f":"ROUND(H173*20/100,2)","v":0},null,{"$f":"ROUND(J173*10/100,2)","v":0}]
[null,null,null,null,null,null,null,null,{"$f":"ROUND(H174*20/100,2)","v":0},null,{"$f":"ROUND(J174*10/100,2)","v":0}]
[null,null,null,null,null,null,null,null,0,null,0]
[null,null,null,null,null,null,null,null,0,null,0]
[null,null,null,null,null,null,null,null,0,null,0]
[null,null,null,null,null,null,null,null,0,null,0]
[null,null,null,null,null,null,null,null,0,null,0]
[null,null,null,null,null,null,null,null,0,null,0]
[null,null,null,null,null,null,null,null,0,null,0]
[null,null,null,null,null,null,null,null,0,null,0]
[null,null,null,null,null,null,null,null,0,null,0]
[null,null,null,null,null,null,null,null,0,null,0]
[null,null,null,null,null,null,null,null,0,null,0]
[null,null,null,null,null,null,null,null,0,null,0]
[null,null,null,null,null,null,null,null,0,null,0]
[null,null,null,null,null,null,null,null,0,null,0]
[null,null,null,null,null,null,null,null,0,null,0]
[null,null,null,null,null,null,null,null,0,null,0]
[null,null,null,null,null,null,null,null,0,null,0]
[null,null,null,null,null,null,null,null,0,null,0]
[null,null,null,null,null,null,null,null,0,null,0]
[null,null,null,null,null,null,null,null,0,null,0]
[null,null,null,null,null,null,null,null,0,null,0]
[null,null,null,null,null,null,null,null,0,null,0]
[null,null,null,null,null,null,null,null,0,null,0]
[null,null,null,null,null,null,null,null,0,null,0]
[null,null,null,null,null,null,null,null,0,null,0]
[null,null,null,null,null,null,null,null,0,null,0]
[null,null,null,null,null,null,null,null,0,null,0]
[null,null,null,null,null,null,null,null,0,null,0]
["ВСЕГО:",null,null,null,null,null,{"$f":"SUM(G173:G202)","v":0},0,0,0,0,0,0,0,0,0]
["ВСЕГО с начала года:",null,null,null,null,null,{"$f":"G164+G203","v":0},{"$f":"H164+H203","v":0},{"$f":"I164+I203","v":0},{"$f":"J164+J203","v":0},{"$f":"K164+K203","v":0},{"$f":"L164+L203","v":0},{"$f":"M164+M203","v":0},{"$f":"N164+N203","v":0},{"$f":"O164+O203","v":0},{"$f":"P164+P203","v":0}]
[]
["Период с",{"$f":"\"01.06.\"& Титул!D8","v":"01.06.2019"},"по",{"$f":"\"30.06.\"& Титул!D8","v":"30.06.2019"}]
[]
["Дата и номер документа \nпоставщика \n(продавца)",null,"Наименование\nпокупателя \n(продавца)",null,"Учетный \nномер плательщика \nпокупателя","Дата оплаты (иного прекращения \nобязательств)","Стоимость товаров (работ, услуг), имущест-\nвенных прав, включая НДС","В том числе"]
[null,null,null,null,null,null,null,"объекты, облагаемые по ставке НДС",null,null,null,null,null,null,"объекты, освобождаемые \nот НДС и (или) необлагаемые НДС"]
[null,null,null,null,null,null,null,0.2,null,0.1,null,"0%","иные",null,"всего","из них оборот \nза пределами РБ"]
[null,null,null,null,null,null,null,"стоимость \nбез НДС","сумма \nНДС","стоимость \nбез НДС","сумма \nНДС","стоимость","стоимость \nбез НДС","сумма \nНДС","стоимость","стоимость"]
[1,null,2,null,3,4,5,6,"6а",7,"7а",8,9,"9а",10,"10а"]
[null,null,null,null,null,null,null,null,{"$f":"ROUND(H213*20/100,2)","v":0},null,{"$f":"ROUND(J213*10/100,2)","v":0}]
[null,null,null,null,null,null,null,null,{"$f":"ROUND(H214*20/100,2)","v":0},null,{"$f":"ROUND(J214*10/100,2)","v":0}]
[null,null,null,null,null,null,null,null,0,null,0]
[null,null,null,null,null,null,null,null,0,null,0]
[null,null,null,null,null,null,null,null,0,null,0]
[null,null,null,null,null,null,null,null,0,null,0]
[null,null,null,null,null,null,null,null,0,null,0]
[null,null,null,null,null,null,null,null,0,null,0]
[null,null,null,null,null,null,null,null,0,null,0]
[null,null,null,null,null,null,null,null,0,null,0]
[null,null,null,null,null,null,null,null,0,null,0]
[null,null,null,null,null,null,null,null,0,null,0]
[null,null,null,null,null,null,null,null,0,null,0]
[null,null,null,null,null,null,null,null,0,null,0]
[null,null,null,null,null,null,null,null,0,null,0]
[null,null,null,null,null,null,null,null,0,null,0]
[null,null,null,null,null,null,null,null,0,null,0]
[null,null,null,null,null,null,null,null,0,null,0]
[null,null,null,null,null,null,null,null,0,null,0]
[null,null,null,null,null,null,null,null,0,null,0]
[null,null,null,null,null,null,null,null,0,null,0]
[null,null,null,null,null,null,null,null,0,null,0]
[null,null,null,null,null,null,null,null,0,null,0]
[null,null,null,null,null,null,null,null,0,null,0]
[null,null,null,null,null,null,null,null,0,null,0]
[null,null,null,null,null,null,null,null,0,null,0]
[null,null,null,null,null,null,null,null,0,null,0]
[null,null,null,null,null,null,null,null,0,null,0]
[null,null,null,null,null,null,null,null,0,null,0]
[null,null,null,null,null,null,null,null,0,null,0]
["ВСЕГО:",null,null,null,null,null,{"$f":"SUM(G213:G242)","v":0},0,0,0,0,0,0,0,0,0]
["ВСЕГО с начала года:",null,null,null,null,null,{"$f":"G204+G243","v":0},{"$f":"H204+H243","v":0},{"$f":"I204+I243","v":0},{"$f":"J204+J243","v":0},{"$f":"K204+K243","v":0},{"$f":"L204+L243","v":0},{"$f":"M204+M243","v":0},{"$f":"N204+N243","v":0},{"$f":"O204+O243","v":0},{"$f":"P204+P243","v":0}]
[]
["Период с",{"$f":"\"01.07.\"& Титул!D8","v":"01.07.2019"},"по",{"$f":"\"31.07.\"& Титул!D8","v":"31.07.2019"}]
[]
["Дата и номер документа \nпоставщика \n(продавца)",null,"Наименование\nпокупателя \n(продавца)",null,"Учетный \nномер плательщика \nпокупателя","Дата оплаты (иного прекращения \nобязательств)","Стоимость товаров (работ, услуг), имущест-\nвенных прав, включая НДС","В том числе"]
[null,null,null,null,null,null,null,"объекты, облагаемые по ставке НДС",null,null,null,null,null,null,"объекты, освобождаемые \nот НДС и (или) необлагаемые НДС"]
[null,null,null,null,null,null,null,0.2,null,0.1,null,"0%","иные",null,"всего","из них оборот \nза пределами РБ"]
[null,null,null,null,null,null,null,"стоимость \nбез НДС","сумма \nНДС","стоимость \nбез НДС","сумма \nНДС","стоимость","стоимость \nбез НДС","сумма \nНДС","стоимость","стоимость"]
[1,null,2,null,3,4,5,6,"6а",7,"7а",8,9,"9а",10,"10а"]
[null,null,null,null,null,null,null,null,{"$f":"ROUND(H253*20/100,2)","v":0},null,{"$f":"ROUND(J253*10/100,2)","v":0}]
[null,null,null,null,null,null,null,null,{"$f":"ROUND(H254*20/100,2)","v":0},null,{"$f":"ROUND(J254*10/100,2)","v":0}]
[null,null,null,null,null,null,null,null,0,null,0]
[null,null,null,null,null,null,null,null,0,null,0]
[null,null,null,null,null,null,null,null,0,null,0]
[null,null,null,null,null,null,null,null,0,null,0]
[null,null,null,null,null,null,null,null,0,null,0]
[null,null,null,null,null,null,null,null,0,null,0]
[null,null,null,null,null,null,null,null,0,null,0]
[null,null,null,null,null,null,null,null,0,null,0]
[null,null,null,null,null,null,null,null,0,null,0]
[null,null,null,null,null,null,null,null,0,null,0]
[null,null,null,null,null,null,null,null,0,null,0]
[null,null,null,null,null,null,null,null,0,null,0]
[null,null,null,null,null,null,null,null,0,null,0]
[null,null,null,null,null,null,null,null,0,null,0]
[null,null,null,null,null,null,null,null,0,null,0]
[null,null,null,null,null,null,null,null,0,null,0]
[null,null,null,null,null,null,null,null,0,null,0]
[null,null,null,null,null,null,null,null,0,null,0]
[null,null,null,null,null,null,null,null,0,null,0]
[null,null,null,null,null,null,null,null,0,null,0]
[null,null,null,null,null,null,null,null,0,null,0]
[null,null,null,null,null,null,null,null,0,null,0]
[null,null,null,null,null,null,null,null,0,null,0]
[null,null,null,null,null,null,null,null,0,null,0]
[null,null,null,null,null,null,null,null,0,null,0]
[null,null,null,null,null,null,null,null,0,null,0]
[null,null,null,null,null,null,null,null,0,null,0]
[null,null,null,null,null,null,null,null,0,null,0]
["ВСЕГО:",null,null,null,null,null,{"$f":"SUM(G253:G282)","v":0},0,0,0,0,0,0,0,0,0]
["ВСЕГО с начала года:",null,null,null,null,null,{"$f":"G244+G283","v":0},{"$f":"H244+H283","v":0},0,0,0,0,0,0,0,0]
[]
["Период с",{"$f":"\"01.08.\"& Титул!D8","v":"01.08.2019"},"по",{"$f":"\"31.08.\"& Титул!D8","v":"31.08.2019"}]
[]
["Дата и номер документа \nпоставщика \n(продавца)",null,"Наименование\nпокупателя \n(продавца)",null,"Учетный \nномер плательщика \nпокупателя","Дата оплаты (иного прекращения \nобязательств)","Стоимость товаров (работ, услуг), имущест-\nвенных прав, включая НДС","В том числе"]
[null,null,null,null,null,null,null,"объекты, облагаемые по ставке НДС",null,null,null,null,null,null,"объекты, освобождаемые \nот НДС и (или) необлагаемые НДС"]
[null,null,null,null,null,null,null,0.2,null,0.1,null,"0%","иные",null,"всего","из них оборот \nза пределами РБ"]
[null,null,null,null,null,null,null,"стоимость \nбез НДС","сумма \nНДС","стоимость \nбез НДС","сумма \nНДС","стоимость","стоимость \nбез НДС","сумма \nНДС","стоимость","стоимость"]
[1,null,2,null,3,4,5,6,"6а",7,"7а",8,9,"9а",10,"10а"]
[null,null,null,null,null,null,null,null,{"$f":"ROUND(H293*20/100,2)","v":0},null,{"$f":"ROUND(J293*10/100,2)","v":0}]
[null,null,null,null,null,null,null,null,{"$f":"ROUND(H294*20/100,2)","v":0},null,{"$f":"ROUND(J294*10/100,2)","v":0}]
[null,null,null,null,null,null,null,null,0,null,0]
[null,null,null,null,null,null,null,null,0,null,0]
[null,null,null,null,null,null,null,null,0,null,0]
[null,null,null,null,null,null,null,null,0,null,0]
[null,null,null,null,null,null,null,null,0,null,0]
[null,null,null,null,null,null,null,null,0,null,0]
[null,null,null,null,null,null,null,null,0,null,0]
[null,null,null,null,null,null,null,null,0,null,0]
[null,null,null,null,null,null,null,null,0,null,0]
[null,null,null,null,null,null,null,null,0,null,0]
[null,null,null,null,null,null,null,null,0,null,0]
[null,null,null,null,null,null,null,null,0,null,0]
[null,null,null,null,null,null,null,null,0,null,0]
[null,null,null,null,null,null,null,null,0,null,0]
[null,null,null,null,null,null,null,null,0,null,0]
[null,null,null,null,null,null,null,null,0,null,0]
[null,null,null,null,null,null,null,null,0,null,0]
[null,null,null,null,null,null,null,null,0,null,0]
[null,null,null,null,null,null,null,null,0,null,0]
[null,null,null,null,null,null,null,null,0,null,0]
[null,null,null,null,null,null,null,null,0,null,0]
[null,null,null,null,null,null,null,null,0,null,0]
[null,null,null,null,null,null,null,null,0,null,0]
[null,null,null,null,null,null,null,null,0,null,0]
[null,null,null,null,null,null,null,null,0,null,0]
[null,null,null,null,null,null,null,null,0,null,0]
[null,null,null,null,null,null,null,null,0,null,0]
[null,null,null,null,null,null,null,null,0,null,0]
["ВСЕГО:",null,null,null,null,null,{"$f":"SUM(G293:G322)","v":0},0,0,0,0,0,0,0,0,0]
["ВСЕГО с начала года:",null,null,null,null,null,{"$f":"G284+G323","v":0},{"$f":"H284+H323","v":0},{"$f":"I284+I323","v":0},{"$f":"J284+J323","v":0},{"$f":"K284+K323","v":0},{"$f":"L284+L323","v":0},{"$f":"M284+M323","v":0},{"$f":"N284+N323","v":0},{"$f":"O284+O323","v":0},{"$f":"P284+P323","v":0}]
[]
["Период с",{"$f":"\"01.09.\"& Титул!D8","v":"01.09.2019"},"по",{"$f":"\"30.09.\"& Титул!D8","v":"30.09.2019"}]
[]
["Дата и номер документа \nпоставщика \n(продавца)",null,"Наименование\nпокупателя \n(продавца)",null,"Учетный \nномер плательщика \nпокупателя","Дата оплаты (иного прекращения \nобязательств)","Стоимость товаров (работ, услуг), имущест-\nвенных прав, включая НДС","В том числе"]
[null,null,null,null,null,null,null,"объекты, облагаемые по ставке НДС",null,null,null,null,null,null,"объекты, освобождаемые \nот НДС и (или) необлагаемые НДС"]
[null,null,null,null,null,null,null,0.2,null,0.1,null,"0%","иные",null,"всего","из них оборот \nза пределами РБ"]
[null,null,null,null,null,null,null,"стоимость \nбез НДС","сумма \nНДС","стоимость \nбез НДС","сумма \nНДС","стоимость","стоимость \nбез НДС","сумма \nНДС","стоимость","стоимость"]
[1,null,2,null,3,4,5,6,"6а",7,"7а",8,9,"9а",10,"10а"]
[null,null,null,null,null,null,null,null,{"$f":"ROUND(H333*20/100,2)","v":0},null,{"$f":"ROUND(J333*10/100,2)","v":0}]
[null,null,null,null,null,null,null,null,{"$f":"ROUND(H334*20/100,2)","v":0},null,{"$f":"ROUND(J334*10/100,2)","v":0}]
[null,null,null,null,null,null,null,null,0,null,0]
[null,null,null,null,null,null,null,null,0,null,0]
[null,null,null,null,null,null,null,null,0,null,0]
[null,null,null,null,null,null,null,null,0,null,0]
[null,null,null,null,null,null,null,null,0,null,0]
[null,null,null,null,null,null,null,null,0,null,0]
[null,null,null,null,null,null,null,null,0,null,0]
[null,null,null,null,null,null,null,null,0,null,0]
[null,null,null,null,null,null,null,null,0,null,0]
[null,null,null,null,null,null,null,null,0,null,0]
[null,null,null,null,null,null,null,null,0,null,0]
[null,null,null,null,null,null,null,null,0,null,0]
[null,null,null,null,null,null,null,null,0,null,0]
[null,null,null,null,null,null,null,null,0,null,0]
[null,null,null,null,null,null,null,null,0,null,0]
[null,null,null,null,null,null,null,null,0,null,0]
[null,null,null,null,null,null,null,null,0,null,0]
[null,null,null,null,null,null,null,null,0,null,0]
[null,null,null,null,null,null,null,null,0,null,0]
[null,null,null,null,null,null,null,null,0,null,0]
[null,null,null,null,null,null,null,null,0,null,0]
[null,null,null,null,null,null,null,null,0,null,0]
[null,null,null,null,null,null,null,null,0,null,0]
[null,null,null,null,null,null,null,null,0,null,0]
[null,null,null,null,null,null,null,null,0,null,0]
[null,null,null,null,null,null,null,null,0,null,0]
[null,null,null,null,null,null,null,null,0,null,0]
[null,null,null,null,null,null,null,null,0,null,0]
["ВСЕГО:",null,null,null,null,null,{"$f":"SUM(G333:G362)","v":0},0,0,0,0,0,0,0,0,0]
["ВСЕГО с начала года:",null,null,null,null,null,{"$f":"G324+G363","v":0},{"$f":"H324+H363","v":0},{"$f":"I324+I363","v":0},{"$f":"J324+J363","v":0},{"$f":"K324+K363","v":0},{"$f":"L324+L363","v":0},{"$f":"M324+M363","v":0},{"$f":"N324+N363","v":0},{"$f":"O324+O363","v":0},{"$f":"P324+P363","v":0}]
[]
["Период с",{"$f":"\"01.10.\"& Титул!D8","v":"01.10.2019"},"по",{"$f":"\"31.10.\"& Титул!D8","v":"31.10.2019"}]
[]
["Дата и номер документа \nпоставщика \n(продавца)",null,"Наименование\nпокупателя \n(продавца)",null,"Учетный \nномер плательщика \nпокупателя","Дата оплаты (иного прекращения \nобязательств)","Стоимость товаров (работ, услуг), имущест-\nвенных прав, включая НДС","В том числе"]
[null,null,null,null,null,null,null,"объекты, облагаемые по ставке НДС",null,null,null,null,null,null,"объекты, освобождаемые \nот НДС и (или) необлагаемые НДС"]
[null,null,null,null,null,null,null,0.2,null,0.1,null,"0%","иные",null,"всего","из них оборот \nза пределами РБ"]
[null,null,null,null,null,null,null,"стоимость \nбез НДС","сумма \nНДС","стоимость \nбез НДС","сумма \nНДС","стоимость","стоимость \nбез НДС","сумма \nНДС","стоимость","стоимость"]
[1,null,2,null,3,4,5,6,"6а",7,"7а",8,9,"9а",10,"10а"]
[null,null,null,null,null,null,null,null,{"$f":"ROUND(H373*20/100,2)","v":0},null,{"$f":"ROUND(J373*10/100,2)","v":0}]
[null,null,null,null,null,null,null,null,{"$f":"ROUND(H374*20/100,2)","v":0},null,{"$f":"ROUND(J374*10/100,2)","v":0}]
[null,null,null,null,null,null,null,null,0,null,0]
[null,null,null,null,null,null,null,null,0,null,0]
[null,null,null,null,null,null,null,null,0,null,0]
[null,null,null,null,null,null,null,null,0,null,0]
[null,null,null,null,null,null,null,null,0,null,0]
[null,null,null,null,null,null,null,null,0,null,0]
[null,null,null,null,null,null,null,null,0,null,0]
[null,null,null,null,null,null,null,null,0,null,0]
[null,null,null,null,null,null,null,null,0,null,0]
[null,null,null,null,null,null,null,null,0,null,0]
[null,null,null,null,null,null,null,null,0,null,0]
[null,null,null,null,null,null,null,null,0,null,0]
[null,null,null,null,null,null,null,null,0,null,0]
[null,null,null,null,null,null,null,null,0,null,0]
[null,null,null,null,null,null,null,null,0,null,0]
[null,null,null,null,null,null,null,null,0,null,0]
[null,null,null,null,null,null,null,null,0,null,0]
[null,null,null,null,null,null,null,null,0,null,0]
[null,null,null,null,null,null,null,null,0,null,0]
[null,null,null,null,null,null,null,null,0,null,0]
[null,null,null,null,null,null,null,null,0,null,0]
[null,null,null,null,null,null,null,null,0,null,0]
[null,null,null,null,null,null,null,null,0,null,0]
[null,null,null,null,null,null,null,null,0,null,0]
[null,null,null,null,null,null,null,null,0,null,0]
[null,null,null,null,null,null,null,null,0,null,0]
[null,null,null,null,null,null,null,null,0,null,0]
[null,null,null,null,null,null,null,null,0,null,0]
["ВСЕГО:",null,null,null,null,null,{"$f":"SUM(G373:G402)","v":0},0,0,0,0,0,0,0,0,0]
["ВСЕГО с начала года:",null,null,null,null,null,{"$f":"G364+G403","v":0},{"$f":"H364+H403","v":0},{"$f":"I364+I403","v":0},{"$f":"J364+J403","v":0},{"$f":"K364+K403","v":0},{"$f":"L364+L403","v":0},{"$f":"M364+M403","v":0},{"$f":"N364+N403","v":0},{"$f":"O364+O403","v":0},{"$f":"P364+P403","v":0}]
[]
["Период с",{"$f":"\"01.11.\"& Титул!D8","v":"01.11.2019"},"по",{"$f":"\"30.11.\"& Титул!D8","v":"30.11.2019"}]
[]
["Дата и номер документа \nпоставщика \n(продавца)",null,"Наименование\nпокупателя \n(продавца)",null,"Учетный \nномер плательщика \nпокупателя","Дата оплаты (иного прекращения \nобязательств)","Стоимость товаров (работ, услуг), имущест-\nвенных прав, включая НДС","В том числе"]
[null,null,null,null,null,null,null,"объекты, облагаемые по ставке НДС",null,null,null,null,null,null,"объекты, освобождаемые \nот НДС и (или) необлагаемые НДС"]
[null,null,null,null,null,null,null,0.2,null,0.1,null,"0%","иные",null,"всего","из них оборот \nза пределами РБ"]
[null,null,null,null,null,null,null,"стоимость \nбез НДС","сумма \nНДС","стоимость \nбез НДС","сумма \nНДС","стоимость","стоимость \nбез НДС","сумма \nНДС","стоимость","стоимость"]
[1,null,2,null,3,4,5,6,"6а",7,"7а",8,9,"9а",10,"10а"]
[null,null,null,null,null,null,null,null,{"$f":"ROUND(H413*20/100,2)","v":0},null,{"$f":"ROUND(J413*10/100,2)","v":0}]
[null,null,null,null,null,null,null,null,{"$f":"ROUND(H414*20/100,2)","v":0},null,{"$f":"ROUND(J414*10/100,2)","v":0}]
[null,null,null,null,null,null,null,null,0,null,0]
[null,null,null,null,null,null,null,null,0,null,0]
[null,null,null,null,null,null,null,null,0,null,0]
[null,null,null,null,null,null,null,null,0,null,0]
[null,null,null,null,null,null,null,null,0,null,0]
[null,null,null,null,null,null,null,null,0,null,0]
[null,null,null,null,null,null,null,null,0,null,0]
[null,null,null,null,null,null,null,null,0,null,0]
[null,null,null,null,null,null,null,null,0,null,0]
[null,null,null,null,null,null,null,null,0,null,0]
[null,null,null,null,null,null,null,null,0,null,0]
[null,null,null,null,null,null,null,null,0,null,0]
[null,null,null,null,null,null,null,null,0,null,0]
[null,null,null,null,null,null,null,null,0,null,0]
[null,null,null,null,null,null,null,null,0,null,0]
[null,null,null,null,null,null,null,null,0,null,0]
[null,null,null,null,null,null,null,null,0,null,0]
[null,null,null,null,null,null,null,null,0,null,0]
[null,null,null,null,null,null,null,null,0,null,0]
[null,null,null,null,null,null,null,null,0,null,0]
[null,null,null,null,null,null,null,null,0,null,0]
[null,null,null,null,null,null,null,null,0,null,0]
[null,null,null,null,null,null,null,null,0,null,0]
[null,null,null,null,null,null,null,null,0,null,0]
[null,null,null,null,null,null,null,null,0,null,0]
[null,null,null,null,null,null,null,null,0,null,0]
[null,null,null,null,null,null,null,null,0,null,0]
[null,null,null,null,null,null,null,null,0,null,0]
["ВСЕГО:",null,null,null,null,null,{"$f":"SUM(G413:G442)","v":0},0,0,0,0,0,0,0,0,0]
["ВСЕГО с начала года:",null,null,null,null,null,{"$f":"G404+G443","v":0},{"$f":"H404+H443","v":0},{"$f":"I404+I443","v":0},{"$f":"J404+J443","v":0},{"$f":"K404+K443","v":0},{"$f":"L404+L443","v":0},{"$f":"M404+M443","v":0},{"$f":"N404+N443","v":0},{"$f":"O404+O443","v":0},{"$f":"P404+P443","v":0}]
[]
["Период с",{"$f":"\"01.12.\"& Титул!D8","v":"01.12.2019"},"по",{"$f":"\"31.12.\"& Титул!D8","v":"31.12.2019"}]
[]
["Дата и номер документа \nпоставщика \n(продавца)",null,"Наименование\nпокупателя \n(продавца)",null,"Учетный \nномер плательщика \nпокупателя","Дата оплаты (иного прекращения \nобязательств)","Стоимость товаров (работ, услуг), имущест-\nвенных прав, включая НДС","В том числе"]
[null,null,null,null,null,null,null,"объекты, облагаемые по ставке НДС",null,null,null,null,null,null,"объекты, освобождаемые \nот НДС и (или) необлагаемые НДС"]
[null,null,null,null,null,null,null,0.2,null,0.1,null,"0%","иные",null,"всего","из них оборот \nза пределами РБ"]
[null,null,null,null,null,null,null,"стоимость \nбез НДС","сумма \nНДС","стоимость \nбез НДС","сумма \nНДС","стоимость","стоимость \nбез НДС","сумма \nНДС","стоимость","стоимость"]
[1,null,2,null,3,4,5,6,"6а",7,"7а",8,9,"9а",10,"10а"]
[null,null,null,null,null,null,null,null,{"$f":"ROUND(H453*20/100,2)","v":0},null,{"$f":"ROUND(J453*10/100,2)","v":0}]
[null,null,null,null,null,null,null,null,{"$f":"ROUND(H454*20/100,2)","v":0},null,{"$f":"ROUND(J454*10/100,2)","v":0}]
[null,null,null,null,null,null,null,null,0,null,0]
[null,null,null,null,null,null,null,null,0,null,0]
[null,null,null,null,null,null,null,null,0,null,0]
[null,null,null,null,null,null,null,null,0,null,0]
[null,null,null,null,null,null,null,null,0,null,0]
[null,null,null,null,null,null,null,null,0,null,0]
[null,null,null,null,null,null,null,null,0,null,0]
[null,null,null,null,null,null,null,null,0,null,0]
[null,null,null,null,null,null,null,null,0,null,0]
[null,null,null,null,null,null,null,null,0,null,0]
[null,null,null,null,null,null,null,null,0,null,0]
[null,null,null,null,null,null,null,null,0,null,0]
[null,null,null,null,null,null,null,null,0,null,0]
[null,null,null,null,null,null,null,null,0,null,0]
[null,null,null,null,null,null,null,null,0,null,0]
[null,null,null,null,null,null,null,null,0,null,0]
[null,null,null,null,null,null,null,null,0,null,0]
[null,null,null,null,null,null,null,null,0,null,0]
[null,null,null,null,null,null,null,null,0,null,0]
[null,null,null,null,null,null,null,null,0,null,0]
[null,null,null,null,null,null,null,null,0,null,0]
[null,null,null,null,null,null,null,null,0,null,0]
[null,null,null,null,null,null,null,null,0,null,0]
[null,null,null,null,null,null,null,null,0,null,0]
[null,null,null,null,null,null,null,null,0,null,0]
[null,null,null,null,null,null,null,null,0,null,0]
[null,null,null,null,null,null,null,null,0,null,0]
[null,null,null,null,null,null,null,null,0,null,0]
["ВСЕГО:",null,null,null,null,null,{"$f":"SUM(G453:G482)","v":0},0,0,0,0,0,0,0,0,0]
["ВСЕГО с начала года:",null,null,null,null,null,{"$f":"G444+G483","v":0},{"$f":"H444+H483","v":0},{"$f":"I444+I483","v":0},{"$f":"J444+J483","v":0},{"$f":"K444+K483","v":0},{"$f":"L444+L483","v":0},{"$f":"M444+M483","v":0},{"$f":"N444+N483","v":0},{"$f":"O444+O483","v":0},{"$f":"P444+P483","v":0}]

{"sheet":"Декларация","index":21,"n_rows":192,"n_cols":26,"rows_kept":192,"cut":false,"hidden":false,"merged":[[180,1,180,2],[181,1,181,2],[182,1,182,2],[183,1,183,2],[184,1,184,2],[185,1,185,2],[188,13,188,16],[187,1,187,8],[183,12,183,13],[184,12,184,13],[185,12,185,13],[180,3,180,9],[181,3,181,9],[182,3,182,9],[183,3,183,9],[184,3,184,9],[185,3,185,9],[180,12,180,13],[181,12,181,13],[182,12,182,13],[142,3,142,5],[142,6,142,7],[142,1,142,2],[178,1,178,2],[179,1,179,2],[178,3,178,9],[163,1,163,3],[163,4,163,6],[163,7,163,9],[155,10,155,11],[155,13,155,16],[156,10,156,11],[176,1,176,16],[191,1,191,11],[178,14,178,16],[179,14,179,16],[180,14,180,16],[181,14,181,16],[182,14,182,16],[183,14,183,16],[184,14,184,16],[185,14,185,16],[180,10,180,11],[181,10,181,11],[182,10,182,11],[183,10,183,11],[184,10,184,11],[185,10,185,11],[187,10,187,11],[187,13,187,16],[188,10,188,11],[178,12,178,13],[179,12,179,13],[190,1,190,11],[137,13,137,16],[142,13,142,15],[144,15,144,16],[144,1,144,14],[138,1,138,2],[138,3,138,12],[179,3,179,9],[178,10,178,11],[179,10,179,11],[175,1,175,16],[173,12,173,16],[148,1,155,8],[167,1,167,16],[168,1,168,16],[169,1,169,16],[170,1,170,16],[171,1,171,16],[164,7,164,9],[164,4,164,6],[164,1,164,3],[158,10,158,11],[158,13,158,16],[159,10,159,11],[159,13,159,16],[128,11,128,12],[133,11,133,12],[114,1,125,2],[114,3,125,10],[114,11,114,12],[115,11,115,12],[156,13,156,16],[128,13,128,16],[129,11,129,12],[129,13,129,16],[130,11,130,12],[130,13,130,16],[131,11,131,12],[131,13,131,16],[132,11,132,12],[132,13,132,16],[133,13,133,16],[134,11,134,12],[134,13,134,16],[135,11,135,12],[135,13,135,16],[136,11,136,12],[136,13,136,16],[86,1,86,16],[87,1,87,16],[122,11,122,12],[118,13,118,16],[119,11,119,12],[120,11,120,12],[121,11,121,12],[121,13,121,16],[96,5,96,9],[96,10,96,11],[96,12,96,16],[109,1,109,2],[109,3,109,12],[109,13,109,16],[112,1,112,2],[112,3,112,12],[112,13,112,16],[113,1,113,2],[114,13,114,16],[108,1,108,2],[97,1,97,11],[98,1,98,11],[99,1,99,11],[97,12,97,16],[98,12,98,16],[99,12,99,16],[88,15,88,16],[95,1,95,4],[95,5,95,9],[95,10,95,11],[95,12,95,16],[92,1,92,4],[92,5,92,9],[94,1,94,4],[94,5,94,9],[94,10,94,11],[94,12,94,16],[89,1,89,4],[89,5,89,9],[89,10,89,11],[92,10,92,11],[92,12,92,16],[93,1,93,4],[93,5,93,9],[93,10,93,11],[93,12,93,16],[90,1,90,4],[90,5,90,9],[126,1,137,2],[126,3,137,10],[126,11,126,12],[127,11,127,12],[111,1,111,2],[115,13,115,16],[102,18,105,22],[102,1,102,16],[103,1,103,16],[105,1,105,2],[105,3,105,12],[105,13,105,16],[137,11,137,12],[106,1,106,2],[106,3,106,12],[106,13,106,16],[116,11,116,12],[127,13,127,16],[125,13,125,16],[126,13,126,16],[123,13,123,16],[124,13,124,16],[125,11,125,12],[113,3,113,12],[113,13,113,16],[110,1,110,2],[110,3,110,12],[110,13,110,16],[107,1,107,2],[107,3,107,12],[107,13,107,16],[111,3,111,12],[111,13,111,16],[108,3,108,12],[108,13,108,16],[122,13,122,16],[119,13,119,16],[120,13,120,16],[116,13,116,16],[117,11,117,12],[117,13,117,16],[118,11,118,12],[123,11,123,12],[124,11,124,12],[90,10,90,11],[90,12,90,16],[91,1,91,4],[91,5,91,9],[96,1,96,4],[65,1,65,13],[65,14,65,16],[85,1,85,16],[81,15,81,16],[81,13,81,14],[82,15,82,16],[82,13,82,14],[77,1,77,13],[77,14,77,16],[78,1,78,13],[78,14,78,16],[79,1,79,13],[79,14,79,16],[71,1,71,13],[71,14,71,16],[72,1,72,13],[72,14,72,16],[73,1,73,13],[73,14,73,16],[0,12,1,16],[5,2,5,8],[2,1,2,8],[3,1,3,8],[4,1,4,8],[11,6,11,8],[16,3,16,6],[17,3,17,6],[19,1,19,8],[2,10,3,13],[2,14,3,16],[4,10,6,13],[4,14,6,16],[6,1,6,8],[13,1,13,2],[13,3,13,6],[15,1,15,2],[15,3,15,6],[21,1,21,8],[23,1,23,8],[42,10,42,13],[39,14,39,16],[40,14,40,16],[41,14,41,16],[42,14,42,16],[24,1,25,8],[7,10,17,13],[7,14,17,16],[7,1,7,8],[8,2,8,8],[9,1,9,8],[10,1,10,8],[11,1,11,5],[18,10,20,13],[22,10,22,11],[23,10,23,11],[31,10,34,13],[31,14,34,16],[20,1,20,8],[26,1,27,8],[35,10,37,13],[35,14,37,16],[138,13,138,16],[62,1,62,13],[139,1,139,2],[139,3,139,5],[139,6,139,7],[139,13,139,15],[141,1,141,2],[141,3,141,5],[140,1,140,2],[140,3,140,5],[140,6,140,7],[140,13,140,15],[141,6,141,7],[141,13,141,15],[62,14,62,16],[91,10,91,11],[91,12,91,16],[89,12,89,16],[69,1,69,13],[69,14,69,16],[68,1,68,13],[68,14,68,16],[74,1,74,13],[74,14,74,16],[58,18,58,20],[22,1,22,8],[58,1,58,16],[44,13,44,16],[45,11,45,12],[45,13,45,16],[44,1,46,8],[48,1,48,16],[49,1,49,16],[51,7,51,8],[56,1,56,16],[53,6,53,8],[53,11,53,12],[54,6,54,8],[54,11,54,12],[57,1,57,16],[18,14,23,16],[22,12,22,13],[23,12,23,13],[21,10,21,11],[21,12,21,13],[24,10,26,13],[24,14,26,16],[27,10,30,13],[76,1,76,13],[76,14,76,16],[70,1,70,13],[70,14,70,16],[66,1,66,13],[60,15,60,16],[61,1,61,13],[75,1,75,13],[75,14,75,16],[64,14,64,16],[63,1,63,13],[63,14,63,16],[64,1,64,13],[27,14,30,16],[66,14,66,16],[67,1,67,13],[67,14,67,16],[61,14,61,16],[38,10,38,13],[38,14,38,16],[39,10,39,13],[40,10,40,13],[41,10,41,13],[44,11,44,12]]}
[null,null,null,null,null,null,null,null,null,null,null,null,"Приложение 6\n\rк постановлению  Министерства по налогам и сборам Республики Беларусь 24.12.2014 № 42"]
[]
[null,"В инспекцию Министерства по налогам",null,null,null,null,null,null,null,null,"Признак",null,null,null,"Пометить\nХ"]
[null,"и сборам Республики Беларусь"]
[null,"(далее - инспекция МНС)",null,null,null,null,null,null,null,null,"Внесение изменений и (или) дополнений в налоговую декларацию (расчет):"]
[null,"по",{"$f":"Титул!I20","v":"Ваш город/район"}]
[null,"(наименование района, города, района в городе)"]
[null,"управление (отдел) по работе с плательщиками",null,null,null,null,null,null,null,null,"в соответствии с подпунктом 1.11 пункта 1 Указа Президента\nРеспублики Беларусь от 23 октября 2012 г. № 488 «О некоторых мерах по предупреждению незаконной минимизации сумм налоговых обязательств» (Национальный правовой Интернет-портал Республики Беларусь, 25.10.2012, 1/13843)"]
[null,"по"]
[null,"(наименование района)"]
[null,"Код инспекции МНС (управления (отдела) по"]
[null,"работе с плательщиками)",null,null,null,null,{"$f":"Титул!I21","v":100}]
[]
[null,"УНП 1",null,{"$f":"Титул!C12","v":100100100}]
[]
[null,"ОКЭД 2"]
[]
[]
[null,null,null,null,null,null,null,null,null,null,"в соответствии с пунктом 5 статьи 87 Налогового кодекса Республики\nБеларусь согласно уведомлению"]
[null,{"$f":"Титул!C9","v":"ОЗНАКОМИТЕЛЬНАЯ ВЕРСИЯ НА 10 ЗАПУСКОВ"}]
[null,"(наименование (фамилия, имя, \nотчество (если таковое имеется)) плательщика)"]
[null,{"$f":"Титул!C14","v":"Адрес"},null,null,null,null,null,null,null,null,"номер",null,"дата"]
[null,"(место нахождения (жительства) плательщика)"]
[]
[null,"(фамилия, собственное имя, отчество (если таковое имеется) ответственного лица, телефон)",null,null,null,null,null,null,null,null,"в связи с обнаружением неполноты сведений или ошибок"]
[]
[]
[null,null,null,null,null,null,null,null,null,null,"Переход со следующего отчетного периода на применение упрощенной системы налогообложения с уплатой НДС"]
[]
[]
[]
[null,null,null,null,null,null,null,null,null,null,"Переход со следующего отчетного периода на применение упрощенной системы налогообложения без уплаты НДС"]
[]
[]
[]
[null,null,null,null,null,null,null,null,null,null,"Отказ от применения упрощенной системы налогообложения со\nследующего отчетного периода"]
[]
[]
[null,null,null,null,null,null,null,null,null,null,"Признак представления налоговой декларации (расчета)",null,null,null,"Пометить\nХ"]
[]
[]
[]
[]
[]
[null,"дата представления в регистрирующий орган заявления о ликвидации (прекращении деятельности), дата ликвидации обособленного подразделения, дата представления в Квалификационную комиссию по вопросам нотариальной деятельности заявления о прекращении нотариальной деятельности, в лицензирующий орган уведомления о принятии решения о прекращении адвокатской деятельности"]
[null,null,null,null,null,null,null,null,null,null,"(число)","(номер месяца)",null,"(четыре цифры года)"]
[]
[]
[null,"НАЛОГОВАЯ ДЕКЛАРАЦИЯ (РАСЧЁТ)"]
[null,"по налогу при упрощённой системе налогообложения"]
[]
[null,null,"Тип декларации",null,null,null,null,null,null," ежемесячная",null,null,null," ежеквартальная"]
[]
[null,null,null,null,null,"за",3,null,null," месяц",null,{"$f":"Титул!D8","v":2019},null," года"]
[null,null,null,null,null,null,"(номер месяца) 3",null,null,null,null,"(четыре цифры года) "]
[]
[]
[null,"Раздел I"]
[null,"Расчёт налоговой базы и суммы налога при упрощённой системе налогообложения",null,null,null,null,null,null,null,null,null,null,null,null,null,null,null,null,"Результаты по кварталам"]
[]
[null,null,null,null,null,null,null,null,null,null,null,null,null,null,null,"(руб.)"]
[null,"Показатели",null,null,null,null,null,null,null,null,null,null,null,null,"Сумма",null,null,null,"I квартал","II квартал","III квартал","IV  квартал","ИТОГИ"]
[null,"1. Налоговая база - всего (строка 1.1 + строка 1.2 + строка 1.3), в том числе для исчисления: ",null,null,null,null,null,null,null,null,null,null,null,null,{"$f":"W63","v":0},null,null,null,{"$f":"SUM(S64:S69)","v":0},{"$f":"SUM(T64:T69)","v":0},{"$f":"SUM(U64:U69)","v":0},{"$f":"SUM(V64:V69)","v":0},{"$f":"IF($G$54=12,SUM(S63:V63),IF($G$54=9,SUM(S63:U63),IF($G$54=6,SUM(S63:T63),S63)))","v":0},null,null,3]
[null,"1.1. налога по ставке 5 % без уплаты НДС ",null,null,null,null,null,null,null,null,null,null,null,null,{"$f":"W64","v":0},null,null,null,{"$f":"'Раздел I часть 1 (Без НДС)'!F28+'Раздел I часть 1 (Без НДС)'!H28","v":0},{"$f":"'Раздел I часть 1 (Без НДС)'!F50+'Раздел I часть 1 (Без НДС)'!H50","v":0},{"$f":"'Раздел I часть 1 (Без НДС)'!F72+'Раздел I часть 1 (Без НДС)'!H72","v":0},{"$f":"'Раздел I часть 1 (Без НДС)'!F94+'Раздел I часть 1 (Без НДС)'!H94","v":0},{"$f":"IF($G$54=12,SUM(S64:V64),IF($G$54=9,SUM(S64:U64),IF($G$54=6,SUM(S64:T64),S64)))","v":0},null,null,6]
[null,"1.2. налога по ставке 3 % с уплатой НДС ",null,null,null,null,null,null,null,null,null,null,null,null,0,null,null,null,{"$f":"'Раздел I часть 1 (С НДС)'!F28-'Раздел I часть 1 (С НДС)'!G28+'Раздел I часть 1 (С НДС)'!H28","v":0},{"$f":"'Раздел I часть 1 (С НДС)'!F50-'Раздел I часть 1 (С НДС)'!G50+'Раздел I часть 1 (С НДС)'!H50","v":0},{"$f":"'Раздел I часть 1 (С НДС)'!F72-'Раздел I часть 1 (С НДС)'!G72+'Раздел I часть 1 (С НДС)'!H72","v":0},{"$f":"'Раздел I часть 1 (С НДС)'!F94-'Раздел I часть 1 (С НДС)'!G94+'Раздел I часть 1 (С НДС)'!H94","v":0},0,null,null,9]
[null,"1.3. налога по ставке 16 % в отношении внереализационных доходов, указанных в подпункте 3.8 пункта 3 статьи 128 и подпункте 6.7 пункта 6 статьи 176 Налогового кодекса Республики Беларусь",null,null,null,null,null,null,null,null,null,null,null,null,0,null,null,null,{"$f":"'Раздел I часть 1 (Без НДС)'!I28+'Раздел I часть 1 (С НДС)'!I28","v":0},{"$f":"'Раздел I часть 1 (Без НДС)'!I50+'Раздел I часть 1 (С НДС)'!I50","v":0},{"$f":"'Раздел I часть 1 (Без НДС)'!I72+'Раздел I часть 1 (С НДС)'!I72","v":0},{"$f":"'Раздел I часть 1 (Без НДС)'!I94+'Раздел I часть 1 (С НДС)'!I94","v":0},0,null,null,12]
[null,"1.4.",null,null,null,null,null,null,null,null,null,null,null,null,0,null,null,null,null,null,null,null,{"$f":"IF($G$54=12,SUM(S67:T67)+U67+V67,IF($G$54=9,SUM(S67:T67)+U67,IF($G$54=6,SUM(S67:T67),S67)))","v":0}]
[null,"1.5. ",null,null,null,null,null,null,null,null,null,null,null,null,0,null,null,null,null,null,null,null,0]
[null,"…",null,null,null,null,null,null,null,null,null,null,null,null,0,null,null,null,null,null,null,null,0]
[null,"2. Сумма налога, исчисленная по расчету, – всего (стр. 2.1 + стр. 2.2 + стр. 2.3 – стр. 2.4 – стр. 2.5 – …), в том числе: ",null,null,null,null,null,null,null,null,null,null,null,null,0,null,null,null,{"$f":"SUM(S71:S73)-SUM(S74:S76)","v":0},{"$f":"SUM(T71:T73)-SUM(T74:T76)","v":0},0,0,{"$f":"W71+W72+W73-W74-W75-W76","v":0}]
[null,"2.1. по ставке 5 % без уплаты НДС (строка 1.1 x 5 / 100) ",null,null,null,null,null,null,null,null,null,null,null,null,0,null,null,null,{"$f":"ROUND(S64*5%,2)","v":0},{"$f":"ROUND((S64+T64)*5%,2)-SUM(S71)","v":0},{"$f":"ROUND((S64+T64+U64)*5%,2)-SUM(S71:T71)","v":0},{"$f":"ROUND((S64+T64+U64+V64)*5%,2)-SUM(S71:U71)","v":0},{"$f":"ROUND(W64*5%,2)","v":0}]
[null,"2.2. по ставке 3 % с уплатой НДС (строка 1.2 x 3 / 100) ",null,null,null,null,null,null,null,null,null,null,null,null,0,null,null,null,{"$f":"ROUND(S65*3%,2)","v":0},{"$f":"ROUND((S65+T65)*3%,2)-SUM(S72)","v":0},{"$f":"ROUND((S65+T65+U65)*3%,2)-SUM(S72:T72)","v":0},{"$f":"ROUND((S65+T65+U65+V65)*3%,2)-SUM(S72:U72)","v":0},{"$f":"ROUND(W65*3%,2)","v":0}]
[null,"2.3.по ставке 16 % в отношении внереализационных доходов, указанных в подпункте 3.8 пункта 3 статьи 128 и подпункте 6.7 пункта 6 статьи 176 Налогового кодекса Республики Беларусь (стр.1.3 x 16 / 100) ",null,null,null,null,null,null,null,null,null,null,null,null,0,null,null,null,{"$f":"ROUND(S66*16%,2)","v":0},{"$f":"ROUND((S66+T66)*16%,2)-SUM(S73)","v":0},{"$f":"ROUND((S66+T66+U66)*16%,2)-SUM(S73:T73)","v":0},{"$f":"ROUND((S66+T66+U66+V66)*16%,2)-SUM(S73:U73)","v":0},{"$f":"ROUND(W66*16%,2)","v":0}]
[null,"2.4.",null,null,null,null,null,null,null,null,null,null,null,null,{"$f":"W74","v":0},null,null,null,null,null,null,null,{"$f":"IF($G$54=12,SUM(S74:V74),IF($G$54=9,SUM(S74:U74),IF($G$54=6,SUM(S74:T74),S74)))","v":0}]
[null,"2.5. ",null,null,null,null,null,null,null,null,null,null,null,null,0,null,null,null,null,null,null,null,{"$f":"IF($G$54=12,SUM(S75:V75),IF($G$54=9,SUM(S75:U75),IF($G$54=6,SUM(S75:T75),S75)))","v":0}]
[null,"…",null,null,null,null,null,null,null,null,null,null,null,null,0,null,null,null,null,null,null,null,0]
[null,"3. Сумма налога, от уплаты которого плательщик освобожден",null,null,null,null,null,null,null,null,null,null,null,null,{"$f":"W77","v":0},null,null,null,null,null,null,null,0]
[null,"4. Сумма налога по налоговой декларации (расчету) за предшествующий отчетный\nпериод (строка 2 налоговой декларации (расчета) за предшествующий отчетный\nпериод - строка 3 налоговой декларации (расчета) за предшествующий отчетный\nпериод)",null,null,null,null,null,null,null,null,null,null,null,null,{"$f":"W78","v":0},null,null,null,null,{"$f":"S70-S77","v":0},{"$f":"T70-T77","v":0},{"$f":"U70-U77","v":0},0]
[null,"5. Сумма налога к уплате (возврату) по расчету (строка 2 - строка 3 – строка 4)",null,null,null,null,null,null,null,null,null,null,null,null,{"$f":"W79","v":0},null,null,null,null,null,null,null,{"$f":"W70-W77-W78","v":0}]
[null,"5.1. в том числе к доплате (уменьшению) по акту проверки;"]
[]
[null,null,null,null,null,null,null,null,null,"По сроку уплаты ",null,null,22,{"$f":"IF(G54=12,1,G54+1)","v":4},null,{"$f":"IF(G54=12,L54+1,L54)","v":2019}]
[null,null,null,null,null,null,null,null,null,null,null,null,"(число)","(номер месяца)",null,"(четыре цифры года)"]
[]
[]
[null,"Раздел II"]
[null,"Сведения о занижении (завышении) суммы налога, подлежащей уплате (возврату) по"]
[null,"налоговой декларации (расчету), в которой обнаружены неполнота сведений или ошибки"]
[null,null,null,null,null,null,null,null,null,null,null,null,null,null,null,{"$f":"P61","v":"(руб.)"}]
[null,"Отчетный период3, за который обнаружены неполнота сведений или ошибки, приведшие к занижению (завышению) суммы налога за этот период ",null,null,null,"Сумма налога к уплате (возврату) за соответствующий отчетный период, за который обнаружены неполнота сведений или ошибки (+, -)",null,null,null,null,"Отчетный период3, за который обнаружены неполнота сведений или ошибки, приведшие к занижению (завышению) суммы налога за этот период ",null,"Сумма налога к уплате (возврату) за соответствующий отчетный период, за который обнаружены неполнота сведений или ошибки (+, -)"]
[null,1,null,null,null,2,null,null,null,null,3,null,4]
[null,"Январь ",null,null,null,null,null,null,null,null,"Июль"]
[null,"Февраль",null,null,null,null,null,null,null,null,"Август"]
[null,"Март",null,null,null,null,null,null,null,null,"Сентябрь"]
[null,"Апрель",null,null,null,null,null,null,null,null,"Октябрь"]
[null,"Май",null,null,null,null,null,null,null,null,"Ноябрь"]
[null,"Июнь",null,null,null,null,null,null,null,null,"Декабрь"]
[null,"ИТОГО за год, в том числе:",null,null,null,null,null,null,null,null,null,null,{"$f":"SUM(F92:J97)+SUM(M92:Q97)","v":0}]
[null,"исчислено согласно подпункту 1.11 пункта 1 Указа Президента Республики Беларусь от 23 октября 2012 г. № 488 «О некоторых мерах по предупреждению незаконной минимизации сумм налоговых обязательств»"]
[null,"исчислено в соответствии с пунктом 5 статьи 87 Налогового кодекса Республики Беларусь"]
[]
[]
[null,"Раздел III",null,null,null,null,null,null,null,null,null,null,null,null,null,null,null,null,"Численность работников организации в среднем за период с начала года по отчетный период включительно определяется путем суммирования средней численности работников за все месяцы, истекшие за период с начала года по отчетный период включительно, и деления полученной суммы на число истекших месяцев; "]
[null,"Другие сведения"]
[]
[null,"№\nп/п",null,"Наименование показателя",null,null,null,null,null,null,null,null,null,"Значение\nпоказателя"]
[null,"1.",null,"Численность работников в среднем за период с начала года по\nотчетный период включительно в целом по организации,\nколичество привлекаемых индивидуальным предпринимателем\nфизических лиц по состоянию на последнюю дату отчетного\nпериода, чел.",null,null,null,null,null,null,null,null,null,{"$f":"IF(G54=3,'Средняя численность'!G9,IF(G54=6,'Средняя численность'!G13,IF(G54=9,'Средняя численность'!G17,IF(G54=12,'Средняя численность'!G21))))","v":0},null,null,null,null,"I квартал","II квартал","III квартал","IV  квартал","ИТОГИ"]
[null,"2.",null,"Валовая выручка в целом по организации (валовая выручка\nиндивидуального предпринимателя), руб.",null,null,null,null,null,null,null,null,null,{"$f":"W108","v":0},null,null,null,null,{"$f":"'Раздел I часть 1 (Без НДС)'!J28+'Раздел I часть 1 (С НДС)'!J28","v":0},{"$f":"'Раздел I часть 1 (Без НДС)'!J50+'Раздел I часть 1 (С НДС)'!J50","v":0},{"$f":"'Раздел I часть 1 (Без НДС)'!J72+'Раздел I часть 1 (С НДС)'!J72","v":0},{"$f":"'Раздел I часть 1 (Без НДС)'!J94+'Раздел I часть 1 (С НДС)'!J94","v":0},{"$f":"IF($G$54=12,SUM(S108:V108),IF($G$54=9,SUM(S108:U108),IF($G$54=6,SUM(S108:T108),S108)))","v":0}]
[null,"3.",null,"Фонд заработной платы в целом по организации, руб.",null,null,null,null,null,null,null,null,null,{"$f":"W109","v":0},null,null,null,null,{"$f":"'Платежи по ФСЗН'!C10","v":0},{"$f":"'Платежи по ФСЗН'!C14","v":0},{"$f":"'Платежи по ФСЗН'!C19","v":0},{"$f":"'Платежи по ФСЗН'!C24","v":0},{"$f":"IF($G$54=12,SUM(S109:V109),IF($G$54=9,SUM(S109:U109),IF($G$54=6,SUM(S109:T109),S109)))","v":0}]
[null,"4.",null,"Сумма подоходного налога с физических лиц, удержанная из\nфактически выплаченных плательщикам доходов, но не\nперечисленная (излишне перечисленная) в бюджет по состоянию на 1 января отчетного года, руб."]
[null,"5.",null,"Сумма подоходного налога с физических лиц, исчисленная с\nдоходов, фактически выплаченных в отчетном периоде, руб."]
[null,"5.1",null,"в том числе по результатам проверок, руб."]
[null,"6.",null,"Сумма подоходного налога с физических лиц, перечисленная в\nбюджет в отчетном периоде, руб."]
[null,"7.",null,"Сумма подоходного налога с физических лиц, удержанная из\nфактически выплаченных плательщикам доходов, но не\nперечисленная (излишне перечисленная) в бюджет по состоянию на последний день отчетного периода, руб."]
[null,"8.",null,"Общая площадь капитальных строений (зданий, сооружений), их частей, машино-мест, кв. м4",null,null,null,null,null,null,null,"январь"]
[null,null,null,null,null,null,null,null,null,null,null,"февраль"]
[null,null,null,null,null,null,null,null,null,null,null,"март"]
[null,null,null,null,null,null,null,null,null,null,null,"апрель"]
[null,null,null,null,null,null,null,null,null,null,null,"май"]
[null,null,null,null,null,null,null,null,null,null,null,"июнь"]
[null,null,null,null,null,null,null,null,null,null,null,"июль"]
[null,null,null,null,null,null,null,null,null,null,null,"август"]
[null,null,null,null,null,null,null,null,null,null,null,"сентябрь"]
[null,null,null,null,null,null,null,null,null,null,null,"октябрь"]
[null,null,null,null,null,null,null,null,null,null,null,"ноябрь"]
[null,null,null,null,null,null,null,null,null,null,null,"декабрь"]
[null,"9.",null,"Порядок ведения учета организациями5:",null,null,null,null,null,null,null,"январь"]
[null,null,null,null,null,null,null,null,null,null,null,"февраль"]
[null,null,null,null,null,null,null,null,null,null,null,"март",null,{"$f":"IF(G54=3,2,\"\")","v":2}]
[null,null,null,null,null,null,null,null,null,null,null,"апрель"]
[null,null,null,null,null,null,null,null,null,null,null,"май"]
[null,null,null,null,null,null,null,null,null,null,null,"июнь",null,{"$f":"IF(G54=6,2,\"\")","v":""}]
[null,null,null,null,null,null,null,null,null,null,null,"июль"]
[null,null,null,null,null,null,null,null,null,null,null,"август"]
[null,null,null,null,null,null,null,null,null,null,null,"сентябрь",null,{"$f":"IF(G54=9,2,\"\")","v":""}]
[null,null,null,null,null,null,null,null,null,null,null,"октябрь"]
[null,null,null,null,null,null,null,null,null,null,null,"ноябрь"]
[null,null,null,null,null,null,null,null,null,null,null,"декабрь",null,{"$f":"IF(G54=12,2,\"\")","v":""}]
[null,"10.",null,"Размер уставного фонда организации при наличии в налоговом \nпериоде иностранной организации - участника либо обственника\nимущества унитарного предприятия, руб., в том числе:"]
[null,"10.1",null,"Наименование\nиностранной\nорганизации",null,null,"Идентифика-\nционный\nкод (номер)\nналого-плательщика, присвоенный иностранной организаци\nи налоговым\n(финансовым) органом\nиностранного государства,\nв котором\nзарегистри-ровано юриди-ческое лицо\n(при наличии)",null,"Юридический\nадрес\nиностранной\nорганизации в\nстране\nрегистрации","Код\nстраны","Дата включения в состав учредителей (участников)","Дата\nисключения\n(выхода) из\nсостава\nучредителей\n(участников) (при наличии)","Прямое\nучастие в\nуставном\nфонде на\nпоследний\nдень\nналогового\nпериода\n(дату\nисключения\n(выхода) из\nсостава\nучредителей\n(участников)), %","Сумма\nприобретения\nимущества унитарного\nпредприятия \n(при наличии),\nруб.",null,null,"X"]
[null,"10.1.1",null,null,null,null,null,null,null,null,null,null,null,null,null,null,"X"]
[null,"10.1.2",null,null,null,null,null,null,null,null,null,null,null,null,null,null,"X"]
[null,null,null,null,null,null,null,null,null,null,null,null,null,null,null,null,"X"]
[]
[null,"К налоговой декларации (расчету) прилагаются сведения о размере и составе\nиспользованных льгот согласно приложению к настоящей форме"]
[]
[]
[]
[null,"Руководитель организации\n(индивидуальный предприниматель,\nнотариус, осуществляющий \nнотариальную деятельность в \nнотариальном бюро, адвокат, \nосуществляющий адвокатскую\nдеятельность индивидуально)\nили уполномоченное им лицо "]
[]
[]
[]
[]
[]
[]
[null,null,null,null,null,null,null,null,null,null,null,null,null,{"$f":"Титул!C26","v":"Инициалы, фамилия"}]
[null,null,null,null,null,null,null,null,null,null,"(подпись)",null,null,"(инициалы, фамилия)"]
[null,"Должностное лицо"]
[null,"инспекции МНС "]
[null,null,null,null,null,null,null,null,null,null,"(подпись)",null,null,"(инициалы, фамилия)"]
[null,"Штамп или отметка инспекции МНС"]
[]
[null,"Получено"]
[]
[null,"(число)",null,null,"(номер месяца)",null,null,"(четыре цифры года)"]
[]
[]
[null,"1 Учетный номер плательщика."]
[null,"2 Общегосударственный классификатор Республики Беларусь ОКРБ 005-2011 «Виды экономической деятельности», утвержденный постановлением Государственного комитета по стандартизации Республики Беларусь от 5 декабря 2011 г. № 85 «Об утверждении, введении в действие общегосударственного классификатора Республики Беларусь»."]
[null,"3 При представлении налоговых деклараций (расчетов) ежеквартально указывается последний месяц отчетного квартала."]
[null,"4 Заполняется с точностью два знака после запятой."]
[null,"5 В графе «Значение показателя» напротив соответствующего месяца (если отчетный период – календарный месяц) или последнего месяца отчетного квартала (если отчетный период – календарный квартал) указываются цифры:\n1 - в случае ведения бухгалтерского учета;\n2 - в случае ведения учета в книге учета доходов и расходов организаций и индивидуальных предпринимателей, применяющих упрощенную систему налогообложения."]
[]
[null,null,null,null,null,null,null,null,null,null,null,null,"Приложение\nк форме налоговой декларации\n(расчета) по налогу при\nупрощенной системе налогообложения"]
[]
[null,"СВЕДЕНИЯ"]
[null,"о размере и составе использованных льгот"]
[null,null,null,null,null,null,null,null,null,null,null,null,null,null,null,"(руб.)"]
[null,"№ п/п",null,"Содержание льготы с указанием\nабзаца, подпункта, пункта, статьи,\nдаты принятия, номера и вида\nправового акта, которым она\nустановлена",null,null,null,null,null,null,"Код льготы1",null,"Размер\nльготируемой\nналоговой базы2",null,"Сумма налога,\nне поступившая\nв бюджет в связи с\nиспользованием\nльготы"]
[null,1,null,2,null,null,null,null,null,null,3,null,4,null,5]
[]
[]
[]
[]
[]
[]
[]
[null,"Руководитель организации\n(уполномоченное им лицо)",null,null,null,null,null,null,null,null,null,null,null,{"$f":"Титул!C26","v":"Инициалы, фамилия"}]
[null,null,null,null,null,null,null,null,null,null,"(подпись)",null,null,"(инициалы, фамилия)"]
[]
[null,"1 Заполняется инспекцией МНС (управлением (отделом) по работе с плательщиками)."]
[null,"2 Не заполняется в случае применения льгот в виде уменьшения суммы налога, подлежащего уплате в бюджет."]

{"sheet":"График","index":22,"n_rows":29,"n_cols":35,"rows_kept":29,"cut":false,"hidden":false,"merged":[[28,16,28,19],[3,0,4,0],[3,1,4,1],[0,0,1,1],[1,9,1,11],[26,16,26,20]]}
[{"$f":"Титул!C9","v":"ОЗНАКОМИТЕЛЬНАЯ ВЕРСИЯ НА 10 ЗАПУСКОВ"},null,null,null,null,null,null,null,"ГРАФИК РАБОЧЕГО ВРЕМЕНИ",null,null,null,null,null,null,null,null,null,null,null,null,null,null,null,null,null,null,null,null,null,null,null,null,null,"январь"]
[null,null,null,null,null,null,null,null,"за","январь",null,null,{"$f":"\" \" & Титул!D8 &\" г.\"","v":" 2019 г."},null,null,null,null,null,null,null,null,null,null,null,null,null,null,null,null,null,null,null,null,null,"февраль"]
[null,null,null,null,null,null,null,null,null,null,null,null,null,null,null,null,null,null,null,null,null,null,null,null,null,null,null,null,null,null,null,null,null,null,"март"]
["Фамилия, имя, отчество","Должность",null,null,null,null,null,null,null,null,null,null,null,null,null,null,"Числа месяца",null,null,null,null,null,null,null,null,null,null,null,null,null,null,null,null,null,"апрель"]
[null,null,1,2,3,4,5,6,7,8,9,10,11,12,13,14,15,16,17,18,19,20,21,22,23,24,25,26,27,28,29,30,31,null,"май"]
[null,null,null,null,null,null,null,null,null,null,null,null,null,null,null,null,null,null,null,null,null,null,null,null,null,null,null,null,null,null,null,null,null,null,"июнь"]
[null,null,null,null,null,null,null,null,null,null,null,null,null,null,null,null,null,null,null,null,null,null,null,null,null,null,null,null,null,null,null,null,null,null,"июль"]
[null,null,null,null,null,null,null,null,null,null,null,null,null,null,null,null,null,null,null,null,null,null,null,null,null,null,null,null,null,null,null,null,null,null,"август"]
[null,null,null,null,null,null,null,null,null,null,null,null,null,null,null,null,null,null,null,null,null,null,null,null,null,null,null,null,null,null,null,null,null,null,"сентябрь"]
[null,null,null,null,null,null,null,null,null,null,null,null,null,null,null,null,null,null,null,null,null,null,null,null,null,null,null,null,null,null,null,null,null,null,"октябрь"]
[null,null,null,null,null,null,null,null,null,null,null,null,null,null,null,null,null,null,null,null,null,null,null,null,null,null,null,null,null,null,null,null,null,null,"ноябрь"]
[null,null,null,null,null,null,null,null,null,null,null,null,null,null,null,null,null,null,null,null,null,null,null,null,null,null,null,null,null,null,null,null,null,null,"декабрь"]
[]
[]
[]
[]
[]
[]
[]
[]
[]
[]
[]
[]
[]
[]
[null,null,null,null,null,null,null,null,null,null,null,null,null,null,null,null,null,null,null,null,null,{"$f":"Титул!C26","v":"Инициалы, фамилия"}]
[]
[null,null,null,null,null,null,null,null,null,null,null,null,null,null,null,"дата составления:  "]

{"sheet":"Табель","index":23,"n_rows":31,"n_cols":40,"rows_kept":31,"cut":false,"hidden":false,"merged":[[3,39,4,39],[0,37,2,39],[17,37,18,39],[3,34,4,34],[28,17,28,20],[3,35,4,35],[3,37,4,37],[3,38,4,38],[0,0,1,1],[1,10,1,12],[3,0,4,0],[3,1,4,1],[26,17,26,21],[3,2,4,2],[2,10,2,12]]}
[{"$f":"Титул!C9","v":"ОЗНАКОМИТЕЛЬНАЯ ВЕРСИЯ НА 10 ЗАПУСКОВ"},null,null,null,null,null,null,null,null,"ТАБЕЛЬ РАБОЧЕГО ВРЕМЕНИ",null,null,null,null,null,null,null,null,null,null,null,null,null,null,null,null,null,null,null,null,null,null,null,null,null,null,null,"Справочная\nинформация \nна 2019 год *"]
[null,null,null,null,null,null,null,null,null,"за","январь",null,null,{"$f":"\" \" & Титул!D8 &\" г.\"","v":" 2019 г."}]
[null,null,null,null,null,null,null,null,null,"Норма (дн./час.):",{"$f":" CONCATENATE(VLOOKUP(K2,AL6:AN17,2,FALSE),\"/\",VLOOKUP(K2,AL6:AN17,3,FALSE))","v":"21/168"}]
["Фамилия, имя, отчество","Должность","Ставка",null,null,null,null,null,null,null,null,null,null,null,null,null,null,"Числа месяца",null,null,null,null,null,null,null,null,null,null,null,null,null,null,null,null,"ИТОГО\nчасов","ИТОГО\nдней",null,"месяц","рабочие дни","Рабочее время (часы)"]
[null,null,null,1,2,3,4,5,6,7,8,9,10,11,12,13,14,15,16,17,18,19,20,21,22,23,24,25,26,27,28,29,30,31]
[null,null,null,null,null,null,null,null,null,null,null,null,null,null,null,null,null,null,null,null,null,null,null,null,null,null,null,null,null,null,null,null,null,null,{"$f":"SUM(D6:AH6)","v":0},{"$f":"COUNTIF(D6:AH6,IF(C6>=1,\">=7\",\">=3\"))","v":0},null,"январь",21,168]
[null,null,null,null,null,null,null,null,null,null,null,null,null,null,null,null,null,null,null,null,null,null,null,null,null,null,null,null,null,null,null,null,null,null,{"$f":"SUM(D7:AH7)","v":0},{"$f":"COUNTIF(D7:AH7,IF(C7>=1,\">=7\",\">=3\"))","v":0},null,"февраль",20,160]
[null,null,null,null,null,null,null,null,null,null,null,null,null,null,null,null,null,null,null,null,null,null,null,null,null,null,null,null,null,null,null,null,null,null,0,0,null,"март",20,159]
[null,null,null,null,null,null,null,null,null,null,null,null,null,null,null,null,null,null,null,null,null,null,null,null,null,null,null,null,null,null,null,null,null,null,0,0,null,"апрель",22,175]
[null,null,null,null,null,null,null,null,null,null,null,null,null,null,null,null,null,null,null,null,null,null,null,null,null,null,null,null,null,null,null,null,null,null,0,0,null,"май",20,158]
[null,null,null,null,null,null,null,null,null,null,null,null,null,null,null,null,null,null,null,null,null,null,null,null,null,null,null,null,null,null,null,null,null,null,0,0,null,"июнь",20,160]
[null,null,null,null,null,null,null,null,null,null,null,null,null,null,null,null,null,null,null,null,null,null,null,null,null,null,null,null,null,null,null,null,null,null,0,0,null,"июль",22,175]
[null,null,null,null,null,null,null,null,null,null,null,null,null,null,null,null,null,null,null,null,null,null,null,null,null,null,null,null,null,null,null,null,null,null,0,0,null,"август",22,176]
[null,null,null,null,null,null,null,null,null,null,null,null,null,null,null,null,null,null,null,null,null,null,null,null,null,null,null,null,null,null,null,null,null,null,0,0,null,"сентябрь",21,168]
[null,null,null,null,null,null,null,null,null,null,null,null,null,null,null,null,null,null,null,null,null,null,null,null,null,null,null,null,null,null,null,null,null,null,0,0,null,"октябрь",23,184]
[null,null,null,null,null,null,null,null,null,null,null,null,null,null,null,null,null,null,null,null,null,null,null,null,null,null,null,null,null,null,null,null,null,null,0,0,null,"ноябрь",20,159]
[null,null,null,null,null,null,null,null,null,null,null,null,null,null,null,null,null,null,null,null,null,null,null,null,null,null,null,null,null,null,null,null,null,null,0,0,null,"декабрь",21,166]
[null,null,null,null,null,null,null,null,null,null,null,null,null,null,null,null,null,null,null,null,null,null,null,null,null,null,null,null,null,null,null,null,null,null,0,0,null,"* для пятидневной 40-часовой недели"]
[null,null,null,null,null,null,null,null,null,null,null,null,null,null,null,null,null,null,null,null,null,null,null,null,null,null,null,null,null,null,null,null,null,null,0,0]
[null,null,null,null,null,null,null,null,null,null,null,null,null,null,null,null,null,null,null,null,null,null,null,null,null,null,null,null,null,null,null,null,null,null,0,0]
[null,null,null,null,null,null,null,null,null,null,null,null,null,null,null,null,null,null,null,null,null,null,null,null,null,null,null,null,null,null,null,null,null,null,0,0]
[null,null,null,null,null,null,null,null,null,null,null,null,null,null,null,null,null,null,null,null,null,null,null,null,null,null,null,null,null,null,null,null,null,null,0,0]
[null,null,null,null,null,null,null,null,null,null,null,null,null,null,null,null,null,null,null,null,null,null,null,null,null,null,null,null,null,null,null,null,null,null,0,0]
[null,null,null,null,null,null,null,null,null,null,null,null,null,null,null,null,null,null,null,null,null,null,null,null,null,null,null,null,null,null,null,null,null,null,0,0]
[null,null,null,null,null,null,null,null,null,null,null,null,null,null,null,null,null,null,null,null,null,null,null,null,null,null,null,null,null,null,null,null,null,null,0,0]
[]
[null,null,null,null,null,null,null,null,null,null,null,null,null,null,null,null,null,null,null,null,null,null,{"$f":"Титул!C26","v":"Инициалы, фамилия"}]
[]
[null,null,null,null,null,null,null,null,null,null,null,null,null,null,null,null,"дата составления:  "]
[]
["Производственный календарь на 2019 год"]

{"sheet":"Ведомость ЗП","index":24,"n_rows":42,"n_cols":34,"rows_kept":42,"cut":false,"hidden":false,"merged":[[41,0,41,1],[9,23,10,23],[0,0,0,5],[38,2,38,3],[2,20,2,21],[9,22,10,22],[9,1,10,1],[9,0,10,0],[9,2,10,2],[9,3,9,13],[9,21,10,21],[34,0,34,1],[9,14,9,20]]}
[{"$f":"Титул!C9","v":"ОЗНАКОМИТЕЛЬНАЯ ВЕРСИЯ НА 10 ЗАПУСКОВ"},null,null,null,null,null,null,null,null,null,null,null,null,null,null,null,null,null,null,null,null,null,"УТВЕРЖДАЮ",null,null,null,null,null,null,null,null,null,null,"январь"]
[null,null,null,null,null,null,null,null,null,null,null,null,null,null,null,null,null,null,null,null,null,null,null,null,null,null,null,null,null,null,null,null,null,"февраль"]
[null,null,null,null,null,null,null,null,null,null,null,null,null,null,null,null,null,null,null,"Руководитель ",null,null,{"$f":"Титул!C26","v":"Инициалы, фамилия"},null,null,null,null,null,null,null,null,null,null,"март"]
[null,null,null,null,null,null,null,null,null,null,null,null,null,null,null,null,null,null,null,null,null,null,null,null,null,null,null,null,null,null,null,null,null,"апрель"]
[null,null,null,null,null,"Ведомость по начислению (выдаче) заработной платы наемным лицам",null,null,null,null,null,null,null,null,null,null,null,null,null,null,null,null,null,null,null,null,null,null,null,null,null,null,null,"май"]
[null,null,null,null,null,null,null,null,null,null,null,null,null,null,null,null,null,null,null,null,null,null,null,null,null,null,null,null,null,null,null,null,null,"июнь"]
[null,null,"за ","январь",{"$f":"Титул!D8 &\" г.\"","v":"2019 г."},null,null,null,null,null,null,null,null,null,null,null,null,null,null,null,null,null,null,null,null,null,null,null,null,null,null,null,null,"июль"]
[null,null,null,null,null,null,null,null,null,null,null,null,null,null,null,null,null,null,null,null,null,null,null,null,null,null,null,null,null,null,null,null,null,"август"]
[null,null,null,null,null,null,null,null,null,null,null,null,null,null,null,null,null,null,null,null,null,null,null,null,null,null,null,null,null,null,null,null,null,"сентябрь"]
["№\nп/п","Фамилия, имя, отчество работника","Должность","Начислено",null,null,null,null,null,null,null,null,null,null,"Удержано",null,null,null,null,null,null,"Cумма \nк выдаче \n(перечислению)","Роспись получателя (дата перечисления на карт-счёт)","Платежи\nв\nБелгосстрах",null,null,null,null,null,null,null,null,null,"октябрь"]
[null,null,null,{"$f":"'Карточки лицевых счетов'!B10","v":"заработная плата за месяц"},{"$f":"'Карточки лицевых счетов'!C11","v":"надбавка"},{"$f":"'Карточки лицевых счетов'!D11","v":"премия"},{"$f":"'Карточки лицевых счетов'!E11","v":"индексация"},{"$f":"'Карточки лицевых счетов'!F11","v":"отпуск текущий"},{"$f":"'Карточки лицевых счетов'!G11","v":"отпуск буд. периода"},{"$f":"'Карточки лицевых счетов'!H11","v":"комп. за неисп. отпуск"},{"$f":"'Карточки лицевых счетов'!I11","v":"прочие"},{"$f":"'Карточки лицевых счетов'!J11","v":"мат. помощь"},{"$f":"'Карточки лицевых счетов'!K11","v":"больничный"},"всего",{"$f":"'Карточки лицевых счетов'!S10","v":"подоходный налог с физических лиц за месяц"},{"$f":"'Карточки лицевых счетов'!T11","v":"ФСЗН"},{"$f":"'Карточки лицевых счетов'!U11","v":"аванс"},{"$f":"'Карточки лицевых счетов'!V11","v":"алименты"},{"$f":"'Карточки лицевых счетов'!W11","v":"исп. лист"},{"$f":"'Карточки лицевых счетов'!X11","v":"прочие"},"всего",null,null,null,null,null,null,null,null,null,null,null,null,"ноябрь"]
[null,null,null,null,null,null,null,null,null,null,null,null,null,null,null,null,null,null,null,null,null,null,null,null,null,null,null,null,null,null,null,null,null,"декабрь"]
[]
[]
[]
[]
[]
[]
[]
[]
[]
[]
[]
[]
[]
[]
[]
[]
[]
[]
[]
[null,null,"ИТОГО  ",{"$f":"SUM(D12:D31)","v":0},{"$f":"SUM(E12:E31)","v":0},0,0,0,0,0,0,0,0,0,0,0,0,0,0,0,0,0,null,0]
[]
[]
["ИТОГО сумма к выдаче (перечислению):"]
[]
[]
[]
[null,"Главный бухгалтер ",null,null,{"$f":"Титул!C28","v":"Инициалы, фамилия"}]
[]
[]
["Тариф отчислений в Госстрах (справочно):"]

{"sheet":"Расчётные листки","index":25,"n_rows":230,"n_cols":9,"rows_kept":230,"cut":false,"hidden":false,"merged":[[4,1,4,3],[7,0,7,1],[7,2,7,3],[4,6,4,8],[7,5,7,6],[7,7,7,8],[27,1,27,3],[27,6,27,8],[30,0,30,1],[30,2,30,3],[30,5,30,6],[30,7,30,8],[50,1,50,3],[50,6,50,8],[53,0,53,1],[53,2,53,3],[53,5,53,6],[53,7,53,8],[73,1,73,3],[73,6,73,8],[76,0,76,1],[76,2,76,3],[76,5,76,6],[76,7,76,8],[96,1,96,3],[96,6,96,8],[99,0,99,1],[99,2,99,3],[99,5,99,6],[99,7,99,8],[119,1,119,3],[119,6,119,8],[122,0,122,1],[122,2,122,3],[122,5,122,6],[122,7,122,8],[142,1,142,3],[142,6,142,8],[145,0,145,1],[145,2,145,3],[145,5,145,6],[145,7,145,8],[165,1,165,3],[165,6,165,8],[168,0,168,1],[168,2,168,3],[168,5,168,6],[168,7,168,8],[188,1,188,3],[188,6,188,8],[191,0,191,1],[191,2,191,3],[191,5,191,6],[191,7,191,8],[211,1,211,3],[211,6,211,8],[214,0,214,1],[214,2,214,3],[214,5,214,6],[214,7,214,8]]}
["Для распечатки необходимых листков выделите диапазон и установите область печати"]
["Расчётный листок за",{"$f":"'Ведомость ЗП'!$D$7& \" \" &'Ведомость ЗП'!$E$7","v":"январь 2019 г."},null,{"$f":"\"Табельный № \" &'Карточки лицевых счетов'!Z1","v":"Табельный № 1"},"|","Расчётный листок за",{"$f":"$B$2","v":"январь 2019 г."},null,{"$f":"\"Табельный № \" &'Карточки лицевых счетов'!Z28","v":"Табельный № 2"}]
[{"$f":"'Ведомость ЗП'!B12","v":0},null,null,null,"|",{"$f":"'Ведомость ЗП'!B13","v":0}]
["Должность",{"$f":"'Ведомость ЗП'!C12","v":0},null,null,"|","Должность",{"$f":"'Ведомость ЗП'!C13","v":0}]
["Подразделение:",null,null,null,"|","Подразделение:"]
["Оклад:",null,"Отработано (дн.)",{"$f":"Табель!AJ6","v":0},"|","Оклад:",null,"Отработано (дн.)",{"$f":"Табель!AJ7","v":0}]
[null,null,null,null,"|"]
["Начисления",null,"Удержания",null,"|","Начисления",null,"Удержания"]
["вид начисления","сумма","вид удержания","сумма","|","вид начисления","сумма","вид удержания","сумма"]
["заработная плата",{"$f":"'Ведомость ЗП'!D12","v":0},"подоходный налог",{"$f":"'Ведомость ЗП'!O12","v":0},"|","заработная плата",{"$f":"'Ведомость ЗП'!D13","v":0},"подоходный налог",{"$f":"'Ведомость ЗП'!O13","v":0}]
["надбавка",{"$f":"'Ведомость ЗП'!E12","v":0},"пенсионный фонд",{"$f":"'Ведомость ЗП'!P12","v":0},"|","надбавка",{"$f":"'Ведомость ЗП'!E13","v":0},"пенсионный фонд",{"$f":"'Ведомость ЗП'!P13","v":0}]
["премия",{"$f":"'Ведомость ЗП'!F12","v":0},"аванс",{"$f":"'Ведомость ЗП'!Q12","v":0},"|","премия",{"$f":"'Ведомость ЗП'!F13","v":0},"аванс",{"$f":"'Ведомость ЗП'!Q13","v":0}]
["индексация",{"$f":"'Ведомость ЗП'!G12","v":0},"алименты",{"$f":"'Ведомость ЗП'!R12","v":0},"|","индексация",{"$f":"'Ведомость ЗП'!G13","v":0},"алименты",{"$f":"'Ведомость ЗП'!R13","v":0}]
["отпуск тек.",{"$f":"'Ведомость ЗП'!H12","v":0},"исп. лист",{"$f":"'Ведомость ЗП'!S12","v":0},"|","отпуск тек.",{"$f":"'Ведомость ЗП'!H13","v":0},"исп. лист",{"$f":"'Ведомость ЗП'!S13","v":0}]
["отпуск буд. периода",{"$f":"'Ведомость ЗП'!I12","v":0},"прочие",{"$f":"'Ведомость ЗП'!T12","v":0},"|","отпуск буд. периода",{"$f":"'Ведомость ЗП'!I13","v":0},"прочие",{"$f":"'Ведомость ЗП'!T13","v":0}]
["компенс. за неисп. отп.",{"$f":"'Ведомость ЗП'!J12","v":0},null,null,"|","компенс. за неисп. отп.",{"$f":"'Ведомость ЗП'!J13","v":0}]
["прочие",{"$f":"'Ведомость ЗП'!K12","v":0},null,null,"|","прочие",{"$f":"'Ведомость ЗП'!K13","v":0}]
["мат. помощь",{"$f":"'Ведомость ЗП'!L12","v":0},null,null,"|","мат. помощь",{"$f":"'Ведомость ЗП'!L13","v":0}]
["больничный лист",{"$f":"'Ведомость ЗП'!M12","v":0},null,null,"|","больничный лист",{"$f":"'Ведомость ЗП'!M13","v":0}]
["Итого:",{"$f":"SUM(B10:B19)","v":0},null,{"$f":"SUM(D10:D19)","v":0},"|","Итого:",{"$f":"SUM(G10:G19)","v":0},null,{"$f":"SUM(I10:I19)","v":0}]
[null,null,null,null,"|"]
["К выдаче:",{"$f":"'Ведомость ЗП'!V12","v":0},null,null,"|","К выдаче:",{"$f":"'Ведомость ЗП'!V13","v":0}]
[null,null,null,null,"|"]
[null,null,null,null,"|"]
["Расчётный листок за",{"$f":"$B$2","v":"январь 2019 г."},null,{"$f":"\"Табельный № \" &'Карточки лицевых счетов'!Z55","v":"Табельный № 3"},"|","Расчётный листок за",{"$f":"$B$2","v":"январь 2019 г."},null,{"$f":"\"Табельный № \" &'Карточки лицевых счетов'!Z82","v":"Табельный № 4"}]
[{"$f":"'Ведомость ЗП'!B14","v":0},null,null,null,"|",{"$f":"'Ведомость ЗП'!B15","v":0}]
["Должность",{"$f":"'Ведомость ЗП'!C14","v":0},null,null,"|","Должность",{"$f":"'Ведомость ЗП'!C15","v":0}]
["Подразделение:",null,null,null,"|","Подразделение:"]
["Оклад:",null,"Отработано (дн.)",{"$f":"Табель!AJ8","v":0},"|","Оклад:",null,"Отработано (дн.)",{"$f":"Табель!AJ9","v":0}]
[null,null,null,null,"|"]
["Начисления",null,"Удержания",null,"|","Начисления",null,"Удержания"]
["вид начисления","сумма","вид удержания","сумма","|","вид начисления","сумма","вид удержания","сумма"]
["заработная плата",{"$f":"'Ведомость ЗП'!D14","v":0},"подоходный налог",{"$f":"'Ведомость ЗП'!O14","v":0},"|","заработная плата",{"$f":"'Ведомость ЗП'!D15","v":0},"подоходный налог",{"$f":"'Ведомость ЗП'!O15","v":0}]
["надбавка",{"$f":"'Ведомость ЗП'!E14","v":0},"пенсионный фонд",{"$f":"'Ведомость ЗП'!P14","v":0},"|","надбавка",{"$f":"'Ведомость ЗП'!E15","v":0},"пенсионный фонд",{"$f":"'Ведомость ЗП'!P15","v":0}]
["премия",{"$f":"'Ведомость ЗП'!F14","v":0},"аванс",{"$f":"'Ведомость ЗП'!Q14","v":0},"|","премия",{"$f":"'Ведомость ЗП'!F15","v":0},"аванс",{"$f":"'Ведомость ЗП'!Q15","v":0}]
["индексация",{"$f":"'Ведомость ЗП'!G14","v":0},"алименты",{"$f":"'Ведомость ЗП'!R14","v":0},"|","индексация",{"$f":"'Ведомость ЗП'!G15","v":0},"алименты",{"$f":"'Ведомость ЗП'!R15","v":0}]
["отпуск тек.",{"$f":"'Ведомость ЗП'!H14","v":0},"исп. лист",{"$f":"'Ведомость ЗП'!S14","v":0},"|","отпуск тек.",{"$f":"'Ведомость ЗП'!H15","v":0},"исп. лист",{"$f":"'Ведомость ЗП'!S15","v":0}]
["отпуск буд. периода",{"$f":"'Ведомость ЗП'!I14","v":0},"прочие",{"$f":"'Ведомость ЗП'!T14","v":0},"|","отпуск буд. периода",{"$f":"'Ведомость ЗП'!I15","v":0},"прочие",{"$f":"'Ведомость ЗП'!T15","v":0}]
["компенс. за неисп. отп.",{"$f":"'Ведомость ЗП'!J14","v":0},null,null,"|","компенс. за неисп. отп.",{"$f":"'Ведомость ЗП'!J15","v":0}]
["прочие",{"$f":"'Ведомость ЗП'!K14","v":0},null,null,"|","прочие",{"$f":"'Ведомость ЗП'!K15","v":0}]
["мат. помощь",{"$f":"'Ведомость ЗП'!L14","v":0},null,null,"|","мат. помощь",{"$f":"'Ведомость ЗП'!L15","v":0}]
["больничный лист",{"$f":"'Ведомость ЗП'!M14","v":0},null,null,"|","больничный лист",{"$f":"'Ведомость ЗП'!M15","v":0}]
["Итого:",{"$f":"SUM(B33:B42)","v":0},null,{"$f":"SUM(D33:D42)","v":0},"|","Итого:",{"$f":"SUM(G33:G42)","v":0},null,{"$f":"SUM(I33:I42)","v":0}]
[null,null,null,null,"|"]
["К выдаче:",{"$f":"'Ведомость ЗП'!V14","v":0},null,null,"|","К выдаче:",{"$f":"'Ведомость ЗП'!V15","v":0}]
[null,null,null,null,"|"]
[null,null,null,null,"|"]
["Расчётный листок за",{"$f":"$B$2","v":"январь 2019 г."},null,{"$f":"\"Табельный № \" &'Карточки лицевых счетов'!Z109","v":"Табельный № 5"},"|","Расчётный листок за",{"$f":"$B$2","v":"январь 2019 г."},null,{"$f":"\"Табельный № \" &'Карточки лицевых счетов'!Z136","v":"Табельный № 6"}]
[{"$f":"'Ведомость ЗП'!B16","v":0},null,null,null,"|",{"$f":"'Ведомость ЗП'!B17","v":0}]
["Должность",{"$f":"'Ведомость ЗП'!C16","v":0},null,null,"|","Должность",{"$f":"'Ведомость ЗП'!C17","v":0}]
["Подразделение:",null,null,null,"|","Подразделение:"]
["Оклад:",null,"Отработано (дн.)",{"$f":"Табель!AJ10","v":0},"|","Оклад:",null,"Отработано (дн.)",{"$f":"Табель!AJ11","v":0}]
[null,null,null,null,"|"]
["Начисления",null,"Удержания",null,"|","Начисления",null,"Удержания"]
["вид начисления","сумма","вид удержания","сумма","|","вид начисления","сумма","вид удержания","сумма"]
["заработная плата",{"$f":"'Ведомость ЗП'!D16","v":0},"подоходный налог",{"$f":"'Ведомость ЗП'!O16","v":0},"|","заработная плата",{"$f":"'Ведомость ЗП'!D17","v":0},"подоходный налог",{"$f":"'Ведомость ЗП'!O17","v":0}]
["надбавка",{"$f":"'Ведомость ЗП'!E16","v":0},"пенсионный фонд",{"$f":"'Ведомость ЗП'!P16","v":0},"|","надбавка",{"$f":"'Ведомость ЗП'!E17","v":0},"пенсионный фонд",{"$f":"'Ведомость ЗП'!P17","v":0}]
["премия",{"$f":"'Ведомость ЗП'!F16","v":0},"аванс",{"$f":"'Ведомость ЗП'!Q16","v":0},"|","премия",{"$f":"'Ведомость ЗП'!F17","v":0},"аванс",{"$f":"'Ведомость ЗП'!Q17","v":0}]
["индексация",{"$f":"'Ведомость ЗП'!G16","v":0},"алименты",{"$f":"'Ведомость ЗП'!R16","v":0},"|","индексация",{"$f":"'Ведомость ЗП'!G17","v":0},"алименты",{"$f":"'Ведомость ЗП'!R17","v":0}]
["отпуск тек.",{"$f":"'Ведомость ЗП'!H16","v":0},"исп. лист",{"$f":"'Ведомость ЗП'!S16","v":0},"|","отпуск тек.",{"$f":"'Ведомость ЗП'!H17","v":0},"исп. лист",{"$f":"'Ведомость ЗП'!S17","v":0}]
["отпуск буд. периода",{"$f":"'Ведомость ЗП'!I16","v":0},"прочие",{"$f":"'Ведомость ЗП'!T16","v":0},"|","отпуск буд. периода",{"$f":"'Ведомость ЗП'!I17","v":0},"прочие",{"$f":"'Ведомость ЗП'!T17","v":0}]
["компенс. за неисп. отп.",{"$f":"'Ведомость ЗП'!J16","v":0},null,null,"|","компенс. за неисп. отп.",{"$f":"'Ведомость ЗП'!J17","v":0}]
["прочие",{"$f":"'Ведомость ЗП'!K16","v":0},null,null,"|","прочие",{"$f":"'Ведомость ЗП'!K17","v":0}]
["мат. помощь",{"$f":"'Ведомость ЗП'!L16","v":0},null,null,"|","мат. помощь",{"$f":"'Ведомость ЗП'!L17","v":0}]
["больничный лист",{"$f":"'Ведомость ЗП'!M16","v":0},null,null,"|","больничный лист",{"$f":"'Ведомость ЗП'!M17","v":0}]
["Итого:",{"$f":"SUM(B56:B65)","v":0},null,{"$f":"SUM(D56:D65)","v":0},"|","Итого:",{"$f":"SUM(G56:G65)","v":0},null,{"$f":"SUM(I56:I65)","v":0}]
[null,null,null,null,"|"]
["К выдаче:",{"$f":"'Ведомость ЗП'!V16","v":0},null,null,"|","К выдаче:",{"$f":"'Ведомость ЗП'!V17","v":0}]
[null,null,null,null,"|"]
[null,null,null,null,"|"]
["Расчётный листок за",{"$f":"$B$2","v":"январь 2019 г."},null,{"$f":"\"Табельный № \" &'Карточки лицевых счетов'!Z163","v":"Табельный № 7"},"|","Расчётный листок за",{"$f":"$B$2","v":"январь 2019 г."},null,{"$f":"\"Табельный № \" &'Карточки лицевых счетов'!Z190","v":"Табельный № 8"}]
[{"$f":"'Ведомость ЗП'!B18","v":0},null,null,null,"|",{"$f":"'Ведомость ЗП'!B19","v":0}]
["Должность",{"$f":"'Ведомость ЗП'!C18","v":0},null,null,"|","Должность",{"$f":"'Ведомость ЗП'!C19","v":0}]
["Подразделение:",null,null,null,"|","Подразделение:"]
["Оклад:",null,"Отработано (дн.)",{"$f":"Табель!AJ12","v":0},"|","Оклад:",null,"Отработано (дн.)",{"$f":"Табель!AJ13","v":0}]
[null,null,null,null,"|"]
["Начисления",null,"Удержания",null,"|","Начисления",null,"Удержания"]
["вид начисления","сумма","вид удержания","сумма","|","вид начисления","сумма","вид удержания","сумма"]
["заработная плата",{"$f":"'Ведомость ЗП'!D18","v":0},"подоходный налог",{"$f":"'Ведомость ЗП'!O18","v":0},"|","заработная плата",{"$f":"'Ведомость ЗП'!D19","v":0},"подоходный налог",{"$f":"'Ведомость ЗП'!O19","v":0}]
["надбавка",{"$f":"'Ведомость ЗП'!E18","v":0},"пенсионный фонд",{"$f":"'Ведомость ЗП'!P18","v":0},"|","надбавка",{"$f":"'Ведомость ЗП'!E19","v":0},"пенсионный фонд",{"$f":"'Ведомость ЗП'!P19","v":0}]
["премия",{"$f":"'Ведомость ЗП'!F18","v":0},"аванс",{"$f":"'Ведомость ЗП'!Q18","v":0},"|","премия",{"$f":"'Ведомость ЗП'!F19","v":0},"аванс",{"$f":"'Ведомость ЗП'!Q19","v":0}]
["индексация",{"$f":"'Ведомость ЗП'!G18","v":0},"алименты",{"$f":"'Ведомость ЗП'!R18","v":0},"|","индексация",{"$f":"'Ведомость ЗП'!G19","v":0},"алименты",{"$f":"'Ведомость ЗП'!R19","v":0}]
["отпуск тек.",{"$f":"'Ведомость ЗП'!H18","v":0},"исп. лист",{"$f":"'Ведомость ЗП'!S18","v":0},"|","отпуск тек.",{"$f":"'Ведомость ЗП'!H19","v":0},"исп. лист",{"$f":"'Ведомость ЗП'!S19","v":0}]
["отпуск буд. периода",{"$f":"'Ведомость ЗП'!I18","v":0},"прочие",{"$f":"'Ведомость ЗП'!T18","v":0},"|","отпуск буд. периода",{"$f":"'Ведомость ЗП'!I19","v":0},"прочие",{"$f":"'Ведомость ЗП'!T19","v":0}]
["компенс. за неисп. отп.",{"$f":"'Ведомость ЗП'!J18","v":0},null,null,"|","компенс. за неисп. отп.",{"$f":"'Ведомость ЗП'!J19","v":0}]
["прочие",{"$f":"'Ведомость ЗП'!K18","v":0},null,null,"|","прочие",{"$f":"'Ведомость ЗП'!K19","v":0}]
["мат. помощь",{"$f":"'Ведомость ЗП'!L18","v":0},null,null,"|","мат. помощь",{"$f":"'Ведомость ЗП'!L19","v":0}]
["больничный лист",{"$f":"'Ведомость ЗП'!M18","v":0},null,null,"|","больничный лист",{"$f":"'Ведомость ЗП'!M19","v":0}]
["Итого:",{"$f":"SUM(B79:B88)","v":0},null,{"$f":"SUM(D79:D88)","v":0},"|","Итого:",{"$f":"SUM(G79:G88)","v":0},null,{"$f":"SUM(I79:I88)","v":0}]
[null,null,null,null,"|"]
["К выдаче:",{"$f":"'Ведомость ЗП'!V18","v":0},null,null,"|","К выдаче:",{"$f":"'Ведомость ЗП'!V19","v":0}]
[null,null,null,null,"|"]
[null,null,null,null,"|"]
["Расчётный листок за",{"$f":"$B$2","v":"январь 2019 г."},null,{"$f":"\"Табельный № \" &'Карточки лицевых счетов'!Z217","v":"Табельный № 9"},"|","Расчётный листок за",{"$f":"$B$2","v":"январь 2019 г."},null,{"$f":"\"Табельный № \" &'Карточки лицевых счетов'!Z244","v":"Табельный № 10"}]
[{"$f":"'Ведомость ЗП'!B20","v":0},null,null,null,"|",{"$f":"'Ведомость ЗП'!B21","v":0}]
["Должность",{"$f":"'Ведомость ЗП'!C20","v":0},null,null,"|","Должность",{"$f":"'Ведомость ЗП'!C21","v":0}]
["Подразделение:",null,null,null,"|","Подразделение:"]
["Оклад:",null,"Отработано (дн.)",{"$f":"Табель!AJ14","v":0},"|","Оклад:",null,"Отработано (дн.)",{"$f":"Табель!AJ15","v":0}]
[null,null,null,null,"|"]
["Начисления",null,"Удержания",null,"|","Начисления",null,"Удержания"]
["вид начисления","сумма","вид удержания","сумма","|","вид начисления","сумма","вид удержания","сумма"]
["заработная плата",{"$f":"'Ведомость ЗП'!D20","v":0},"подоходный налог",{"$f":"'Ведомость ЗП'!O20","v":0},"|","заработная плата",{"$f":"'Ведомость ЗП'!D21","v":0},"подоходный налог",{"$f":"'Ведомость ЗП'!O21","v":0}]
["надбавка",{"$f":"'Ведомость ЗП'!E20","v":0},"пенсионный фонд",{"$f":"'Ведомость ЗП'!P20","v":0},"|","надбавка",{"$f":"'Ведомость ЗП'!E21","v":0},"пенсионный фонд",{"$f":"'Ведомость ЗП'!P21","v":0}]
["премия",{"$f":"'Ведомость ЗП'!F20","v":0},"аванс",{"$f":"'Ведомость ЗП'!Q20","v":0},"|","премия",{"$f":"'Ведомость ЗП'!F21","v":0},"аванс",{"$f":"'Ведомость ЗП'!Q21","v":0}]
["индексация",{"$f":"'Ведомость ЗП'!G20","v":0},"алименты",{"$f":"'Ведомость ЗП'!R20","v":0},"|","индексация",{"$f":"'Ведомость ЗП'!G21","v":0},"алименты",{"$f":"'Ведомость ЗП'!R21","v":0}]
["отпуск тек.",{"$f":"'Ведомость ЗП'!H20","v":0},"исп. лист",{"$f":"'Ведомость ЗП'!S20","v":0},"|","отпуск тек.",{"$f":"'Ведомость ЗП'!H21","v":0},"исп. лист",{"$f":"'Ведомость ЗП'!S21","v":0}]
["отпуск буд. периода",{"$f":"'Ведомость ЗП'!I20","v":0},"прочие",{"$f":"'Ведомость ЗП'!T20","v":0},"|","отпуск буд. периода",{"$f":"'Ведомость ЗП'!I21","v":0},"прочие",{"$f":"'Ведомость ЗП'!T21","v":0}]
["компенс. за неисп. отп.",{"$f":"'Ведомость ЗП'!J20","v":0},null,null,"|","компенс. за неисп. отп.",{"$f":"'Ведомость ЗП'!J21","v":0}]
["прочие",{"$f":"'Ведомость ЗП'!K20","v":0},null,null,"|","прочие",{"$f":"'Ведомость ЗП'!K21","v":0}]
["мат. помощь",{"$f":"'Ведомость ЗП'!L20","v":0},null,null,"|","мат. помощь",{"$f":"'Ведомость ЗП'!L21","v":0}]
["больничный лист",{"$f":"'Ведомость ЗП'!M20","v":0},null,null,"|","больничный лист",{"$f":"'Ведомость ЗП'!M21","v":0}]
["Итого:",{"$f":"SUM(B102:B111)","v":0},null,{"$f":"SUM(D102:D111)","v":0},"|","Итого:",{"$f":"SUM(G102:G111)","v":0},null,{"$f":"SUM(I102:I111)","v":0}]
[null,null,null,null,"|"]
["К выдаче:",{"$f":"'Ведомость ЗП'!V20","v":0},null,null,"|","К выдаче:",{"$f":"'Ведомость ЗП'!V21","v":0}]
[null,null,null,null,"|"]
[null,null,null,null,"|"]
["Расчётный листок за",{"$f":"$B$2","v":"январь 2019 г."},null,{"$f":"\"Табельный № \" &'Карточки лицевых счетов'!Z271","v":"Табельный № 11"},"|","Расчётный листок за",{"$f":"$B$2","v":"январь 2019 г."},null,{"$f":"\"Табельный № \" &'Карточки лицевых счетов'!Z298","v":"Табельный № 12"}]
[{"$f":"'Ведомость ЗП'!B22","v":0},null,null,null,"|",{"$f":"'Ведомость ЗП'!B23","v":0}]
["Должность",{"$f":"'Ведомость ЗП'!C22","v":0},null,null,"|","Должность",{"$f":"'Ведомость ЗП'!C23","v":0}]
["Подразделение:",null,null,null,"|","Подразделение:"]
["Оклад:",null,"Отработано (дн.)",{"$f":"Табель!AJ16","v":0},"|","Оклад:",null,"Отработано (дн.)",{"$f":"Табель!AJ17","v":0}]
[null,null,null,null,"|"]
["Начисления",null,"Удержания",null,"|","Начисления",null,"Удержания"]
["вид начисления","сумма","вид удержания","сумма","|","вид начисления","сумма","вид удержания","сумма"]
["заработная плата",{"$f":"'Ведомость ЗП'!D22","v":0},"подоходный налог",{"$f":"'Ведомость ЗП'!O22","v":0},"|","заработная плата",{"$f":"'Ведомость ЗП'!D23","v":0},"подоходный налог",{"$f":"'Ведомость ЗП'!O23","v":0}]
["надбавка",{"$f":"'Ведомость ЗП'!E22","v":0},"пенсионный фонд",{"$f":"'Ведомость ЗП'!P22","v":0},"|","надбавка",{"$f":"'Ведомость ЗП'!E23","v":0},"пенсионный фонд",{"$f":"'Ведомость ЗП'!P23","v":0}]
["премия",{"$f":"'Ведомость ЗП'!F22","v":0},"аванс",{"$f":"'Ведомость ЗП'!Q22","v":0},"|","премия",{"$f":"'Ведомость ЗП'!F23","v":0},"аванс",{"$f":"'Ведомость ЗП'!Q23","v":0}]
["индексация",{"$f":"'Ведомость ЗП'!G22","v":0},"алименты",{"$f":"'Ведомость ЗП'!R22","v":0},"|","индексация",{"$f":"'Ведомость ЗП'!G23","v":0},"алименты",{"$f":"'Ведомость ЗП'!R23","v":0}]
["отпуск тек.",{"$f":"'Ведомость ЗП'!H22","v":0},"исп. лист",{"$f":"'Ведомость ЗП'!S22","v":0},"|","отпуск тек.",{"$f":"'Ведомость ЗП'!H23","v":0},"исп. лист",{"$f":"'Ведомость ЗП'!S23","v":0}]
["отпуск буд. периода",{"$f":"'Ведомость ЗП'!I22","v":0},"прочие",{"$f":"'Ведомость ЗП'!T22","v":0},"|","отпуск буд. периода",{"$f":"'Ведомость ЗП'!I23","v":0},"прочие",{"$f":"'Ведомость ЗП'!T23","v":0}]
["компенс. за неисп. отп.",{"$f":"'Ведомость ЗП'!J22","v":0},null,null,"|","компенс. за неисп. отп.",{"$f":"'Ведомость ЗП'!J23","v":0}]
["прочие",{"$f":"'Ведомость ЗП'!K22","v":0},null,null,"|","прочие",{"$f":"'Ведомость ЗП'!K23","v":0}]
["мат. помощь",{"$f":"'Ведомость ЗП'!L22","v":0},null,null,"|","мат. помощь",{"$f":"'Ведомость ЗП'!L23","v":0}]
["больничный лист",{"$f":"'Ведомость ЗП'!M22","v":0},null,null,"|","больничный лист",{"$f":"'Ведомость ЗП'!M23","v":0}]
["Итого:",{"$f":"SUM(B125:B134)","v":0},null,{"$f":"SUM(D125:D134)","v":0},"|","Итого:",{"$f":"SUM(G125:G134)","v":0},null,{"$f":"SUM(I125:I134)","v":0}]
[null,null,null,null,"|"]
["К выдаче:",{"$f":"'Ведомость ЗП'!V22","v":0},null,null,"|","К выдаче:",{"$f":"'Ведомость ЗП'!V23","v":0}]
[null,null,null,null,"|"]
[null,null,null,null,"|"]
["Расчётный листок за",{"$f":"$B$2","v":"январь 2019 г."},null,{"$f":"\"Табельный № \" &'Карточки лицевых счетов'!Z325","v":"Табельный № 13"},"|","Расчётный листок за",{"$f":"$B$2","v":"январь 2019 г."},null,{"$f":"\"Табельный № \" &'Карточки лицевых счетов'!Z352","v":"Табельный № 14"}]
[{"$f":"'Ведомость ЗП'!B24","v":0},null,null,null,"|",{"$f":"'Ведомость ЗП'!B25","v":0}]
["Должность",{"$f":"'Ведомость ЗП'!C24","v":0},null,null,"|","Должность",{"$f":"'Ведомость ЗП'!C25","v":0}]
["Подразделение:",null,null,null,"|","Подразделение:"]
["Оклад:",null,"Отработано (дн.)",{"$f":"Табель!AJ18","v":0},"|","Оклад:",null,"Отработано (дн.)",{"$f":"Табель!AJ19","v":0}]
[null,null,null,null,"|"]
["Начисления",null,"Удержания",null,"|","Начисления",null,"Удержания"]
["вид начисления","сумма","вид удержания","сумма","|","вид начисления","сумма","вид удержания","сумма"]
["заработная плата",{"$f":"'Ведомость ЗП'!D24","v":0},"подоходный налог",{"$f":"'Ведомость ЗП'!O24","v":0},"|","заработная плата",{"$f":"'Ведомость ЗП'!D25","v":0},"подоходный налог",{"$f":"'Ведомость ЗП'!O25","v":0}]
["надбавка",{"$f":"'Ведомость ЗП'!E24","v":0},"пенсионный фонд",{"$f":"'Ведомость ЗП'!P24","v":0},"|","надбавка",{"$f":"'Ведомость ЗП'!E25","v":0},"пенсионный фонд",{"$f":"'Ведомость ЗП'!P25","v":0}]
["премия",{"$f":"'Ведомость ЗП'!F24","v":0},"аванс",{"$f":"'Ведомость ЗП'!Q24","v":0},"|","премия",{"$f":"'Ведомость ЗП'!F25","v":0},"аванс",{"$f":"'Ведомость ЗП'!Q25","v":0}]
["индексация",{"$f":"'Ведомость ЗП'!G24","v":0},"алименты",{"$f":"'Ведомость ЗП'!R24","v":0},"|","индексация",{"$f":"'Ведомость ЗП'!G25","v":0},"алименты",{"$f":"'Ведомость ЗП'!R25","v":0}]
["отпуск тек.",{"$f":"'Ведомость ЗП'!H24","v":0},"исп. лист",{"$f":"'Ведомость ЗП'!S24","v":0},"|","отпуск тек.",{"$f":"'Ведомость ЗП'!H25","v":0},"исп. лист",{"$f":"'Ведомость ЗП'!S25","v":0}]
["отпуск буд. периода",{"$f":"'Ведомость ЗП'!I24","v":0},"прочие",{"$f":"'Ведомость ЗП'!T24","v":0},"|","отпуск буд. периода",{"$f":"'Ведомость ЗП'!I25","v":0},"прочие",{"$f":"'Ведомость ЗП'!T25","v":0}]
["компенс. за неисп. отп.",{"$f":"'Ведомость ЗП'!J24","v":0},null,null,"|","компенс. за неисп. отп.",{"$f":"'Ведомость ЗП'!J25","v":0}]
["прочие",{"$f":"'Ведомость ЗП'!K24","v":0},null,null,"|","прочие",{"$f":"'Ведомость ЗП'!K25","v":0}]
["мат. помощь",{"$f":"'Ведомость ЗП'!L24","v":0},null,null,"|","мат. помощь",{"$f":"'Ведомость ЗП'!L25","v":0}]
["больничный лист",{"$f":"'Ведомость ЗП'!M24","v":0},null,null,"|","больничный лист",{"$f":"'Ведомость ЗП'!M25","v":0}]
["Итого:",{"$f":"SUM(B148:B157)","v":0},null,{"$f":"SUM(D148:D157)","v":0},"|","Итого:",{"$f":"SUM(G148:G157)","v":0},null,{"$f":"SUM(I148:I157)","v":0}]
[null,null,null,null,"|"]
["К выдаче:",{"$f":"'Ведомость ЗП'!V24","v":0},null,null,"|","К выдаче:",{"$f":"'Ведомость ЗП'!V25","v":0}]
[null,null,null,null,"|"]
[null,null,null,null,"|"]
["Расчётный листок за",{"$f":"$B$2","v":"январь 2019 г."},null,{"$f":"\"Табельный № \" &'Карточки лицевых счетов'!Z379","v":"Табельный № 15"},"|","Расчётный листок за",{"$f":"$B$2","v":"январь 2019 г."},null,{"$f":"\"Табельный № \" &'Карточки лицевых счетов'!Z406","v":"Табельный № 16"}]
[{"$f":"'Ведомость ЗП'!B26","v":0},null,null,null,"|",{"$f":"'Ведомость ЗП'!B27","v":0}]
["Должность",{"$f":"'Ведомость ЗП'!C26","v":0},null,null,"|","Должность",{"$f":"'Ведомость ЗП'!C27","v":0}]
["Подразделение:",null,null,null,"|","Подразделение:"]
["Оклад:",null,"Отработано (дн.)",{"$f":"Табель!AJ20","v":0},"|","Оклад:",null,"Отработано (дн.)",{"$f":"Табель!AJ21","v":0}]
[null,null,null,null,"|"]
["Начисления",null,"Удержания",null,"|","Начисления",null,"Удержания"]
["вид начисления","сумма","вид удержания","сумма","|","вид начисления","сумма","вид удержания","сумма"]
["заработная плата",{"$f":"'Ведомость ЗП'!D26","v":0},"подоходный налог",{"$f":"'Ведомость ЗП'!O26","v":0},"|","заработная плата",{"$f":"'Ведомость ЗП'!D27","v":0},"подоходный налог",{"$f":"'Ведомость ЗП'!O27","v":0}]
["надбавка",{"$f":"'Ведомость ЗП'!E26","v":0},"пенсионный фонд",{"$f":"'Ведомость ЗП'!P26","v":0},"|","надбавка",{"$f":"'Ведомость ЗП'!E27","v":0},"пенсионный фонд",{"$f":"'Ведомость ЗП'!P27","v":0}]
["премия",{"$f":"'Ведомость ЗП'!F26","v":0},"аванс",{"$f":"'Ведомость ЗП'!Q26","v":0},"|","премия",{"$f":"'Ведомость ЗП'!F27","v":0},"аванс",{"$f":"'Ведомость ЗП'!Q27","v":0}]
["индексация",{"$f":"'Ведомость ЗП'!G26","v":0},"алименты",{"$f":"'Ведомость ЗП'!R26","v":0},"|","индексация",{"$f":"'Ведомость ЗП'!G27","v":0},"алименты",{"$f":"'Ведомость ЗП'!R27","v":0}]
["отпуск тек.",{"$f":"'Ведомость ЗП'!H26","v":0},"исп. лист",{"$f":"'Ведомость ЗП'!S26","v":0},"|","отпуск тек.",{"$f":"'Ведомость ЗП'!H27","v":0},"исп. лист",{"$f":"'Ведомость ЗП'!S27","v":0}]
["отпуск буд. периода",{"$f":"'Ведомость ЗП'!I26","v":0},"прочие",{"$f":"'Ведомость ЗП'!T26","v":0},"|","отпуск буд. периода",{"$f":"'Ведомость ЗП'!I27","v":0},"прочие",{"$f":"'Ведомость ЗП'!T27","v":0}]
["компенс. за неисп. отп.",{"$f":"'Ведомость ЗП'!J26","v":0},null,null,"|","компенс. за неисп. отп.",{"$f":"'Ведомость ЗП'!J27","v":0}]
["прочие",{"$f":"'Ведомость ЗП'!K26","v":0},null,null,"|","прочие",{"$f":"'Ведомость ЗП'!K27","v":0}]
["мат. помощь",{"$f":"'Ведомость ЗП'!L26","v":0},null,null,"|","мат. помощь",{"$f":"'Ведомость ЗП'!L27","v":0}]
["больничный лист",{"$f":"'Ведомость ЗП'!M26","v":0},null,null,"|","больничный лист",{"$f":"'Ведомость ЗП'!M27","v":0}]
["Итого:",{"$f":"SUM(B171:B180)","v":0},null,{"$f":"SUM(D171:D180)","v":0},"|","Итого:",{"$f":"SUM(G171:G180)","v":0},null,{"$f":"SUM(I171:I180)","v":0}]
[null,null,null,null,"|"]
["К выдаче:",{"$f":"'Ведомость ЗП'!V26","v":0},null,null,"|","К выдаче:",{"$f":"'Ведомость ЗП'!V27","v":0}]
[null,null,null,null,"|"]
[null,null,null,null,"|"]
["Расчётный листок за",{"$f":"$B$2","v":"январь 2019 г."},null,{"$f":"\"Табельный № \" &'Карточки лицевых счетов'!Z433","v":"Табельный № 17"},"|","Расчётный листок за",{"$f":"$B$2","v":"январь 2019 г."},null,{"$f":"\"Табельный № \" &'Карточки лицевых счетов'!Z460","v":"Табельный № 18"}]
[{"$f":"'Ведомость ЗП'!B28","v":0},null,null,null,"|",{"$f":"'Ведомость ЗП'!B29","v":0}]
["Должность",{"$f":"'Ведомость ЗП'!C28","v":0},null,null,"|","Должность",{"$f":"'Ведомость ЗП'!C29","v":0}]
["Подразделение:",null,null,null,"|","Подразделение:"]
["Оклад:",null,"Отработано (дн.)",{"$f":"Табель!AJ22","v":0},"|","Оклад:",null,"Отработано (дн.)",{"$f":"Табель!AJ23","v":0}]
[null,null,null,null,"|"]
["Начисления",null,"Удержания",null,"|","Начисления",null,"Удержания"]
["вид начисления","сумма","вид удержания","сумма","|","вид начисления","сумма","вид удержания","сумма"]
["заработная плата",{"$f":"'Ведомость ЗП'!D28","v":0},"подоходный налог",{"$f":"'Ведомость ЗП'!O28","v":0},"|","заработная плата",{"$f":"'Ведомость ЗП'!D29","v":0},"подоходный налог",{"$f":"'Ведомость ЗП'!O29","v":0}]
["надбавка",{"$f":"'Ведомость ЗП'!E28","v":0},"пенсионный фонд",{"$f":"'Ведомость ЗП'!P28","v":0},"|","надбавка",{"$f":"'Ведомость ЗП'!E29","v":0},"пенсионный фонд",{"$f":"'Ведомость ЗП'!P29","v":0}]
["премия",{"$f":"'Ведомость ЗП'!F28","v":0},"аванс",{"$f":"'Ведомость ЗП'!Q28","v":0},"|","премия",{"$f":"'Ведомость ЗП'!F29","v":0},"аванс",{"$f":"'Ведомость ЗП'!Q29","v":0}]
["индексация",{"$f":"'Ведомость ЗП'!G28","v":0},"алименты",{"$f":"'Ведомость ЗП'!R28","v":0},"|","индексация",{"$f":"'Ведомость ЗП'!G29","v":0},"алименты",{"$f":"'Ведомость ЗП'!R29","v":0}]
["отпуск тек.",{"$f":"'Ведомость ЗП'!H28","v":0},"исп. лист",{"$f":"'Ведомость ЗП'!S28","v":0},"|","отпуск тек.",{"$f":"'Ведомость ЗП'!H29","v":0},"исп. лист",{"$f":"'Ведомость ЗП'!S29","v":0}]
["отпуск буд. периода",{"$f":"'Ведомость ЗП'!I28","v":0},"прочие",{"$f":"'Ведомость ЗП'!T28","v":0},"|","отпуск буд. периода",{"$f":"'Ведомость ЗП'!I29","v":0},"прочие",{"$f":"'Ведомость ЗП'!T29","v":0}]
["компенс. за неисп. отп.",{"$f":"'Ведомость ЗП'!J28","v":0},null,null,"|","компенс. за неисп. отп.",{"$f":"'Ведомость ЗП'!J29","v":0}]
["прочие",{"$f":"'Ведомость ЗП'!K28","v":0},null,null,"|","прочие",{"$f":"'Ведомость ЗП'!K29","v":0}]
["мат. помощь",{"$f":"'Ведомость ЗП'!L28","v":0},null,null,"|","мат. помощь",{"$f":"'Ведомость ЗП'!L29","v":0}]
["больничный лист",{"$f":"'Ведомость ЗП'!M28","v":0},null,null,"|","больничный лист",{"$f":"'Ведомость ЗП'!M29","v":0}]
["Итого:",{"$f":"SUM(B194:B203)","v":0},null,{"$f":"SUM(D194:D203)","v":0},"|","Итого:",{"$f":"SUM(G194:G203)","v":0},null,{"$f":"SUM(I194:I203)","v":0}]
[null,null,null,null,"|"]
["К выдаче:",{"$f":"'Ведомость ЗП'!V28","v":0},null,null,"|","К выдаче:",{"$f":"'Ведомость ЗП'!V29","v":0}]
[null,null,null,null,"|"]
[null,null,null,null,"|"]
["Расчётный листок за",{"$f":"$B$2","v":"январь 2019 г."},null,{"$f":"\"Табельный № \" &'Карточки лицевых счетов'!Z487","v":"Табельный № 19"},"|","Расчётный листок за",{"$f":"$B$2","v":"январь 2019 г."},null,{"$f":"\"Табельный № \" &'Карточки лицевых счетов'!Z514","v":"Табельный № 20"}]
[{"$f":"'Ведомость ЗП'!B30","v":0},null,null,null,"|",{"$f":"'Ведомость ЗП'!B31","v":0}]
["Должность",{"$f":"'Ведомость ЗП'!C30","v":0},null,null,"|","Должность",{"$f":"'Ведомость ЗП'!C31","v":0}]
["Подразделение:",null,null,null,"|","Подразделение:"]
["Оклад:",null,"Отработано (дн.)",{"$f":"Табель!AJ24","v":0},"|","Оклад:",null,"Отработано (дн.)",{"$f":"Табель!AJ25","v":0}]
[null,null,null,null,"|"]
["Начисления",null,"Удержания",null,"|","Начисления",null,"Удержания"]
["вид начисления","сумма","вид удержания","сумма","|","вид начисления","сумма","вид удержания","сумма"]
["заработная плата",{"$f":"'Ведомость ЗП'!D30","v":0},"подоходный налог",{"$f":"'Ведомость ЗП'!O30","v":0},"|","заработная плата",{"$f":"'Ведомость ЗП'!D31","v":0},"подоходный налог",{"$f":"'Ведомость ЗП'!O31","v":0}]
["надбавка",{"$f":"'Ведомость ЗП'!E30","v":0},"пенсионный фонд",{"$f":"'Ведомость ЗП'!P30","v":0},"|","надбавка",{"$f":"'Ведомость ЗП'!E31","v":0},"пенсионный фонд",{"$f":"'Ведомость ЗП'!P31","v":0}]
["премия",{"$f":"'Ведомость ЗП'!F30","v":0},"аванс",{"$f":"'Ведомость ЗП'!Q30","v":0},"|","премия",{"$f":"'Ведомость ЗП'!F31","v":0},"аванс",{"$f":"'Ведомость ЗП'!Q31","v":0}]
["индексация",{"$f":"'Ведомость ЗП'!G30","v":0},"алименты",{"$f":"'Ведомость ЗП'!R30","v":0},"|","индексация",{"$f":"'Ведомость ЗП'!G31","v":0},"алименты",{"$f":"'Ведомость ЗП'!R31","v":0}]
["отпуск тек.",{"$f":"'Ведомость ЗП'!H30","v":0},"исп. лист",{"$f":"'Ведомость ЗП'!S30","v":0},"|","отпуск тек.",{"$f":"'Ведомость ЗП'!H31","v":0},"исп. лист",{"$f":"'Ведомость ЗП'!S31","v":0}]
["отпуск буд. периода",{"$f":"'Ведомость ЗП'!I30","v":0},"прочие",{"$f":"'Ведомость ЗП'!T30","v":0},"|","отпуск буд. периода",{"$f":"'Ведомость ЗП'!I31","v":0},"прочие",{"$f":"'Ведомость ЗП'!T31","v":0}]
["компенс. за неисп. отп.",{"$f":"'Ведомость ЗП'!J30","v":0},null,null,"|","компенс. за неисп. отп.",{"$f":"'Ведомость ЗП'!J31","v":0}]
["прочие",{"$f":"'Ведомость ЗП'!K30","v":0},null,null,"|","прочие",{"$f":"'Ведомость ЗП'!K31","v":0}]
["мат. помощь",{"$f":"'Ведомость ЗП'!L30","v":0},null,null,"|","мат. помощь",{"$f":"'Ведомость ЗП'!L31","v":0}]
["больничный лист",{"$f":"'Ведомость ЗП'!M30","v":0},null,null,"|","больничный лист",{"$f":"'Ведомость ЗП'!M31","v":0}]
["Итого:",{"$f":"SUM(B217:B226)","v":0},null,{"$f":"SUM(D217:D226)","v":0},"|","Итого:",{"$f":"SUM(G217:G226)","v":0},null,{"$f":"SUM(I217:I226)","v":0}]
[null,null,null,null,"|"]
["К выдаче:",{"$f":"'Ведомость ЗП'!V30","v":0},null,null,"|","К выдаче:",{"$f":"'Ведомость ЗП'!V31","v":0}]
[null,null,null,null,"|"]

{"sheet":"Госстрах","index":26,"n_rows":20,"n_cols":13,"rows_kept":20,"cut":false,"hidden":false,"merged":[[19,3,19,4],[19,5,19,6],[19,10,19,11],[13,12,15,12],[16,1,18,1],[16,2,18,2],[16,3,18,4],[16,5,18,6],[16,7,18,7],[16,8,18,8],[16,12,18,12],[13,1,15,1],[13,2,15,2],[13,3,15,4],[13,5,15,6],[13,7,15,7],[13,8,15,8],[7,12,9,12],[10,1,12,1],[10,2,12,2],[10,3,12,4],[10,5,12,6],[10,7,12,7],[10,8,12,8],[10,12,12,12],[7,1,9,1],[7,2,9,2],[7,3,9,4],[7,5,9,6],[7,7,9,7],[7,8,9,8],[1,1,1,12],[5,1,6,1],[5,2,6,2],[5,3,6,4],[5,5,6,6],[5,7,6,7],[5,8,6,8],[5,9,5,11],[5,12,6,12],[6,10,6,11]]}
[]
[null,"Учёт исчисленных и перечисленных страховых взносов в Белгосстрах"]
[]
[null,"Норматив отчислений (%)",null,0.41]
[]
[null,"период","сумма выплат, на которые начисляются взносы по ведомости","сумма начисленных взносов",null,"выплаты пособий по временной нетрудоспособности в связи с несчастным случаем и проф. заболеванием",null,"остаток задолженности за предыдущий период","подлежит уплате","перечислено Белгосстраху",null,null,"остаток задолженности"]
[null,null,null,null,null,null,null,null,null,"сумма","дата, номер платежной инструкции"]
[null,"за I квартал",{"$f":"'Платежи по ФСЗН'!D10","v":0},{"$f":"C8*$D$4/100","v":0},null,null,null,null,{"$f":"H8+D8-F8","v":0},null,null,null,{"$f":"I8-(J8+J9+J10)","v":0}]
[]
[]
[null,"за II квартал",{"$f":"'Платежи по ФСЗН'!D14","v":0},{"$f":"C11*$D$4/100","v":0},null,null,null,{"$f":"M8","v":0},{"$f":"H11+D11-F11","v":0},null,null,null,{"$f":"I11-(J11+J12+J13)","v":0}]
[]
[]
[null,"за III квартал",{"$f":"'Платежи по ФСЗН'!D19","v":0},0,null,null,null,{"$f":"M11","v":0},{"$f":"H14+D14-F14","v":0},null,null,null,{"$f":"I14-(J14+J15+J16)","v":0}]
[]
[]
[null,"за IV квартал",{"$f":"'Платежи по ФСЗН'!D24","v":0},0,null,null,null,{"$f":"M14","v":0},{"$f":"H17+D17-F17","v":0},null,null,null,{"$f":"I17-(J17+J18+J19)","v":0}]
[]
[]
[null,"C начала года",{"$f":"SUM(C8:C19)","v":0},{"$f":"SUM(D8:E19)","v":0},null,{"$f":"SUM(F8:G19)","v":0},null,null,null,{"$f":"SUM(J8:J19)","v":0}]

{"sheet":"Средняя численность","index":27,"n_rows":21,"n_cols":8,"rows_kept":21,"cut":false,"hidden":false,"merged":[[0,1,0,4],[8,1,8,5],[12,1,12,5],[16,1,16,5],[20,1,20,5]]}
[null,{"$f":"Титул!C9","v":"ОЗНАКОМИТЕЛЬНАЯ ВЕРСИЯ НА 10 ЗАПУСКОВ"}]
[null,null,null,null,"РАСЧЁТ"]
[null,null,null,null,"средней численности по предприятию"]
[]
[null,"Месяц","Дни","Списочная\nчисленность","Средняя численность\nвнешних\nсовместителей","Численность лиц,\nработающих по \nгражданско-правовым \nдоговорам","Всего за период\n(для Декларации)","Всего за месяц\n(для ФСЗН)"]
[null,"январь",31,null,null,null,{"$f":"SUM(D6:F6)","v":0}]
[null,"февраль",28,null,null,null,{"$f":"SUM(D7:F7)","v":0}]
[null,"март",31,null,null,null,0]
[null,"3 месяца",null,null,null,null,{"$f":"SUM(G6:G8)/3","v":0}]
[null,"апрель",30,null,null,null,{"$f":"SUM(D10:F10)","v":0}]
[null,"май",31,null,null,null,{"$f":"SUM(D11:F11)","v":0}]
[null,"июнь",30,null,null,null,0]
[null,"6 месяцев",null,null,null,null,{"$f":"(G6+G7+G8+G10+G11+G12)/6","v":0}]
[null,"июль",31,null,null,null,{"$f":"SUM(D14:F14)","v":0}]
[null,"август",31,null,null,null,{"$f":"SUM(D15:F15)","v":0}]
[null,"сентябрь",30,null,null,null,0]
[null,"9 месяцев",null,null,null,null,{"$f":"(G6+G7+G8+G10+G11+G12+G14+G15+G16)/9","v":0}]
[null,"октябрь",31,null,null,null,{"$f":"SUM(D18:F18)","v":0}]
[null,"ноябрь",30,null,null,null,{"$f":"SUM(D19:F19)","v":0}]
[null,"декабрь",31,null,null,null,0]
[null,"12 месяцев",null,null,null,null,{"$f":"(G6+G7+G8+G10+G11+G12+G14+G15+G16+G18+G19+G20)/12","v":0}]

{"sheet":"Настройки","index":28,"n_rows":19,"n_cols":27,"rows_kept":19,"cut":false,"hidden":false,"merged":[[0,1,0,2]]}
[null,"Настройки программы УСН-Комплект",null,null,null,null,null,null,null,null,null,null,null,null,null,null,null,null,null,null,null,null,null,null,null,null,"Не удалять!"]
[null,"Автоматическое создание копии рабочего файла при запуске программы *","да",null,null,null,null,null,null,null,null,null,null,null,null,null,null,null,null,null,null,null,null,null,null,null,"да"]
[null,"Скрыть столбцы \"в том числе НДС\" на листах Раздел I часть 2 п.1 / Раздел I часть 2 п.2 **",null,null,null,null,null,null,null,null,null,null,null,null,null,null,null,null,null,null,null,null,null,null,null,null,"нет"]
[]
[]
[null,"НЕ УДАЛЯЙТЕ СТРОКИ И НЕ ВКЛЮЧАЙТЕ ЗАЩИТУ ЭТОГО ЛИСТА!"]
[]
[]
[]
[]
[]
[]
[]
[]
[]
[null,"* Копия создаётся в папке BackUp один раз в день с именем, "]
[null,"соответствующим дню месяца. Таким образом, общее число копий не будет"]
[null,"превышать 31."]
[null,"** Определитесь с этим пунктом ДО НАЧАЛА использования программы!"]